BEGIN:VCALENDAR
VERSION:2.0
PRODID:-//Louise Dawson Professional and Management Development Training - ECPv6.15.20//NONSGML v1.0//EN
CALSCALE:GREGORIAN
METHOD:PUBLISH
X-ORIGINAL-URL:https://louisedawson.com
X-WR-CALDESC:Events for Louise Dawson Professional and Management Development Training
REFRESH-INTERVAL;VALUE=DURATION:PT1H
X-Robots-Tag:noindex
X-PUBLISHED-TTL:PT1H
BEGIN:VTIMEZONE
TZID:Europe/London
BEGIN:DAYLIGHT
TZOFFSETFROM:+0000
TZOFFSETTO:+0100
TZNAME:BST
DTSTART:20240331T010000
END:DAYLIGHT
BEGIN:STANDARD
TZOFFSETFROM:+0100
TZOFFSETTO:+0000
TZNAME:GMT
DTSTART:20241027T010000
END:STANDARD
BEGIN:DAYLIGHT
TZOFFSETFROM:+0000
TZOFFSETTO:+0100
TZNAME:BST
DTSTART:20250330T010000
END:DAYLIGHT
BEGIN:STANDARD
TZOFFSETFROM:+0100
TZOFFSETTO:+0000
TZNAME:GMT
DTSTART:20251026T010000
END:STANDARD
BEGIN:DAYLIGHT
TZOFFSETFROM:+0000
TZOFFSETTO:+0100
TZNAME:BST
DTSTART:20260329T010000
END:DAYLIGHT
BEGIN:STANDARD
TZOFFSETFROM:+0100
TZOFFSETTO:+0000
TZNAME:GMT
DTSTART:20261025T010000
END:STANDARD
END:VTIMEZONE
BEGIN:VTIMEZONE
TZID:Asia/Dubai
BEGIN:STANDARD
TZOFFSETFROM:+0400
TZOFFSETTO:+0400
TZNAME:+04
DTSTART:20240101T000000
END:STANDARD
END:VTIMEZONE
BEGIN:VEVENT
DTSTART;VALUE=DATE:20250818
DTEND;VALUE=DATE:20250823
DTSTAMP:20260426T080646
CREATED:20250708T153025Z
LAST-MODIFIED:20250708T175758Z
UID:10000102-1755475200-1755907199@louisedawson.com
SUMMARY:FREE! ReadSpeaker activities for UAE Induction Week\, August 2025
DESCRIPTION:🆓 We’re thrilled to be supporting UAE schools during Induction Week\, with a week of FREE ReadSpeaker sessions designed to help educators build more inclusive\, engaging\, and accessible classrooms through audio. 🆓 \n✨Each session will explore practical ways to support diverse learners using: \n\n\n\nUniversal Design for Learning (UDL) principles\nText-to-speech technology\, and\nInclusive STEM strategies.\n\n\n\nIdeal for schools looking to create equitable learning environments and better support multilingual students. \n📌All sessions are free and are available on demand. \nSessions\n🧑‍🤝‍🧑 Using Universal Design for Learning (UDL) to create inclusive learning environments\n🔊 Discover the UDL framework\, its three guiding principles\, and how assistive technologies like text-to-speech can support accessibility and equity in your classroom.\n🎯 Outcomes: Understand UDL\, evaluate your own practice\, and apply inclusive design strategies using practical tools and resources.\n▶️ Watch the session now: Using Universal Design for Learning (UDL) principles to create inclusive learning environments\n🖥️ Complementary learning content: \n🔗 Universal Design for Learning: A Comprehensive Introduction \n🔗 Students do better using ReadSpeaker text to speech for education \n  \n🗣️ The benefits of text to speech for multilingual learners\n🔊 Explore how TTS helps learners access content in their own language\, build confidence\, and stay engaged—particularly in multilingual classrooms.\n🎯 Outcomes: Learn how to use TTS for vocabulary development\, listening practice\, and independent learning.\n▶️ Watch the session now: Do you feel like you are supporting your multi-lingual learners enough? Discover how text-to-speech is improving comprehension\, fostering inclusivity and enabling exam success | ReadSpeaker\n🖥️ Complementary learning content: \n🔗 Text to Speech (TTS) in Education: Everything You Need to Know \n🔗 Text to Speech in Education: ReadSpeaker\, Free TTS\, or Both? \n🔗 What you need to know about TTS – FAQs \n  \n🧪 Delivering a compelling and accessible STEM experience\n🔊 Uncover strategies for making STEM content more accessible through audio and multimodal design.\n🎯 Outcomes: Understand how to support comprehension\, problem-solving\, and engagement in STEM using inclusive digital tools.\n▶️ Watch the session now: Delivering a Compelling & Accessible STEM Experience – Resources from Learnosity and ReadSpeaker TTS\n🖥️ Complementary learning content: \n🔗 Empowering STEM Talent by Making the STEM Olympiads Inclusive and Accessible \n🔗 Making STEM Accessible and Engaging on Digital Platforms: 9 Strategies \n  \nDisclaimer \nThis training is organised by an external organisation and Louise Dawson Professional Development and Management Training cannot accept any liability or responsibility for the content or quality of the training. \nPayment is made directly with the external training partner and any conversation about delivery of the training\, payment\, refunds\, etc should be addressed directly to the external company. \nIf you have concerns about any content of the training then please let us know so we can raise them with the training provider on behalf of all delegates/attendees.
URL:https://louisedawson.com/event/free-readspeaker-activities-for-uae-induction-week-august-2025/
CATEGORIES:External Training
ATTACH;FMTTYPE=image/png:https://louisedawson.com/wp-content/uploads/2025/07/ReadSpeaker-Induction-Week-2025-sessions.png
END:VEVENT
BEGIN:VEVENT
DTSTART;TZID=Asia/Dubai:20250818T090000
DTEND;TZID=Asia/Dubai:20250822T120000
DTSTAMP:20260426T080646
CREATED:20250609T062721Z
LAST-MODIFIED:20250708T165549Z
UID:10000096-1755507600-1755864000@louisedawson.com
SUMMARY:FREE Widgit morning training sessions during UAE Induction Week.
DESCRIPTION:🆓 We’re excited to be partnering once again with Widgit\, this time to offer a full week of free morning sessions during UAE Induction Week. 🆓 \n\n✨ These sessions will be led by Symbol and Education Specialist Rebecca Lynch and are ideal for educators looking to enhance communication\, accessibility\, and learning through symbols. 💬\n\nSession schedule:\n\n🗓️ 18 Aug – Why Symbols?\n🗓️ 19 Aug – Exploring the Widgit Online Interface\n🗓️ 20 Aug – Creating from a Template (Basic)\n🗓️ 21 Aug – Creating from a Template (Advanced)\n🗓️ 22 Aug – Good Symbolisation\n\nBecca will also be offering a limited number of free\, bespoke whole-school training sessions for Widgit Pro and Plus account users\, covering the impact of symbols and how to get started with Widgit Online.\n\n⚠️ Spaces are limited\, so be sure to check out the full Induction Week schedule and book your spot today: https://www.widgit.com/products/widgit-online/uae-induction.htm\n\n#Widgit #Symbols #WidgitSymbols #UAEEducation #InclusiveEducation #SEND #EdTech #SymbolSupport #TeacherTraining #Accessibility #WidgitOnline #UAETeachers #Dubai #AbuDhabi #InternationalSchools\n  \nDisclaimer \nThis training is organised by an external organisation and Louise Dawson Professional Development and Management Training cannot accept any liability or responsibility for the content or quality of the training. \nPayment is made directly with the external training partner and any conversation about delivery of the training\, payment\, refunds\, etc should be addressed directly to the external company. \nIf you have concerns about any content of the training then please let us know so we can raise them with the training provider on behalf of all delegates/attendees.
URL:https://louisedawson.com/event/free-widgit-morning-training-sessions-during-uae-induction-week/
CATEGORIES:External Training
ATTACH;FMTTYPE=image/jpeg:https://louisedawson.com/wp-content/uploads/2025/06/250818-Widgit-free-induction-week-training.jpg
END:VEVENT
END:VCALENDAR