BEGIN:VCALENDAR
VERSION:2.0
PRODID:-//Louise Dawson Professional and Management Development Training - ECPv6.15.20//NONSGML v1.0//EN
CALSCALE:GREGORIAN
METHOD:PUBLISH
X-ORIGINAL-URL:https://louisedawson.com
X-WR-CALDESC:Events for Louise Dawson Professional and Management Development Training
REFRESH-INTERVAL;VALUE=DURATION:PT1H
X-Robots-Tag:noindex
X-PUBLISHED-TTL:PT1H
BEGIN:VTIMEZONE
TZID:Asia/Dubai
BEGIN:STANDARD
TZOFFSETFROM:+0400
TZOFFSETTO:+0400
TZNAME:+04
DTSTART:20240101T000000
END:STANDARD
END:VTIMEZONE
BEGIN:VEVENT
DTSTART;TZID=Asia/Dubai:20250923T163000
DTEND;TZID=Asia/Dubai:20250923T174500
DTSTAMP:20260426T020438
CREATED:20250825T214837Z
LAST-MODIFIED:20250825T221024Z
UID:10000121-1758645000-1758649500@louisedawson.com
SUMMARY:Insights Psychology - Activity based support group for autistic thinkers ages 8 to 10
DESCRIPTION:POSITIVELY ME!\nAn activity based support group for autistic thinkers aged 8 to 10. \nA 6-week programme providing a safe\, creative\, and celebratory space for autistic children to explore their identity. A parent group runs at the same time. \n\nTuesdays 23rd September to 4th November\n4:30pm to 5:45pm\n301 Dome Tower\, JLT\, Dubai\n3\,000 AED (inclusive of parent group)\n\nWith Geraldine Rowell\, Speech & Language Therapist \n  \nClick here to sign up or know more information \nRead here for a parent’s perspective on attending an autism support group at Insights \n  \nDisclaimer \nThis training is organised by an external organisation and Louise Dawson Professional Development and Management Training cannot accept any liability or responsibility for the content or quality of the training. \nPayment is made directly with the external training partner and any conversation about delivery of the training\, payment\, refunds\, etc should be addressed directly to the external company. \nIf you have concerns about any content of the training then please let us know so we can raise them with the training provider on behalf of all delegates/attendees.
URL:https://louisedawson.com/event/insights-psychology-activity-based-support-group-for-autistic-thinkers-ages-8-to-10/
CATEGORIES:External Training,Insights Psychology DMCC
ATTACH;FMTTYPE=image/jpeg:https://louisedawson.com/wp-content/uploads/2025/08/insights-autisitc-thinker-support-group-ages-8-to-10.jpg
ORGANIZER;CN="Insights Psychology":MAILTO:training@insightspsychology.com
END:VEVENT
BEGIN:VEVENT
DTSTART;TZID=Asia/Dubai:20250923T163000
DTEND;TZID=Asia/Dubai:20250923T174500
DTSTAMP:20260426T020438
CREATED:20250825T220003Z
LAST-MODIFIED:20250825T220918Z
UID:10000122-1758645000-1758649500@louisedawson.com
SUMMARY:Insights Psychology - Activity based support group for autistic thinkers ages 11 to 13
DESCRIPTION:POSITIVELY ME!\nAn activity based support group for autistic thinkers aged 11 to 13. \nA 6-week programme providing a safe\, creative\, and celebratory space for autistic tweens to explore their identity. A parent group runs at the same time. \n\nTuesdays 23rd September to 4th November\n4:30pm to 5:45pm\n301 Dome Tower\, JLT\, Dubai\n3\,000 AED (inclusive of parent group\n\nWith Anna Fahey\, CBT Psychotherapist \nClick here to sign up or know more information \nRead here for a parent’s perspective on attending an autism support group at Insights \n  \nDisclaimer \nThis training is organised by an external organisation and Louise Dawson Professional Development and Management Training cannot accept any liability or responsibility for the content or quality of the training. \nPayment is made directly with the external training partner and any conversation about delivery of the training\, payment\, refunds\, etc should be addressed directly to the external company. \nIf you have concerns about any content of the training then please let us know so we can raise them with the training provider on behalf of all delegates/attendees.
URL:https://louisedawson.com/event/insights-psychology-activity-based-support-group-for-autistic-thinkers-ages-11-to-13/
CATEGORIES:External Training,Insights Psychology DMCC
ATTACH;FMTTYPE=image/jpeg:https://louisedawson.com/wp-content/uploads/2025/08/insights-autisitc-thinker-support-group-ages-11-to-13.jpg
ORGANIZER;CN="Insights Psychology":MAILTO:training@insightspsychology.com
END:VEVENT
BEGIN:VEVENT
DTSTART;TZID=Asia/Dubai:20250923T220000
DTEND;TZID=Asia/Dubai:20250923T223000
DTSTAMP:20260426T020438
CREATED:20250919T111036Z
LAST-MODIFIED:20250919T113702Z
UID:10000205-1758664800-1758666600@louisedawson.com
SUMMARY:FREE Webinar! Beacon School Support: Behaviour Tactics - Tricky Class? How to Build Safety\, Structure and Trust from Day One
DESCRIPTION:When a child becomes dysregulated\, learning stops. \nPupils with communication needs have a greater the risk of dysregulation. \nWhy? \nBecause when student can’t find the words to express themselves\, they often show their feelings through behaviour instead. What looks like refusal or disruption is often a sign of stress\, anxiety\, or overload. \nIn this free 30-minute webinar\, you’ll learn practical needs-led strategies you can use immediately in your classroom to: \n• Reduce the risk of dysregulation in your students before it begins\n• Keep pupils calm\, safe\, and engaged in learning\n• Support communication needs without lowering expectations \nThese ideas are simple\, effective\, and designed to work in real classrooms. \nJoin live on Tuesday at 7pm (UAE time) and get new ideas that will help your pupils feel secure\, regulated and ready to learn. \nWe are limited to 300  spaces\, so make sure you book your space now! \n🔗 https://beaconschoolsupport.co.uk/behaviourtactics \n  \nDisclaimer \nThis training is organised by an external organisation and Louise Dawson Professional Development and Management Training cannot accept any liability or responsibility for the content or quality of the training. \nPayment is made directly with the external training partner and any conversation about delivery of the training\, payment\, refunds\, etc should be addressed directly to the external company. \nIf you have concerns about any content of the training then please let us know so we can raise them with the training provider on behalf of all delegates/attendees.
URL:https://louisedawson.com/event/free-webinar-beacon-school-support-behaviour-tactics-tricky-class-how-to-build-safety-structure-and-trust-from-day-one-2/
CATEGORIES:Beacon School Support,External Training
ATTACH;FMTTYPE=image/png:https://louisedawson.com/wp-content/uploads/2025/09/250923-September-Beacon-School-Support-webinar.png
ORGANIZER;CN="Beacon School Support":MAILTO:emma@beaconschoolsupport.co.uk
END:VEVENT
END:VCALENDAR