BEGIN:VCALENDAR
VERSION:2.0
PRODID:-//Louise Dawson Professional and Management Development Training - ECPv6.15.20//NONSGML v1.0//EN
CALSCALE:GREGORIAN
METHOD:PUBLISH
X-ORIGINAL-URL:https://louisedawson.com
X-WR-CALDESC:Events for Louise Dawson Professional and Management Development Training
REFRESH-INTERVAL;VALUE=DURATION:PT1H
X-Robots-Tag:noindex
X-PUBLISHED-TTL:PT1H
BEGIN:VTIMEZONE
TZID:Asia/Dubai
BEGIN:STANDARD
TZOFFSETFROM:+0400
TZOFFSETTO:+0400
TZNAME:+04
DTSTART:20240101T000000
END:STANDARD
END:VTIMEZONE
BEGIN:VEVENT
DTSTART;TZID=Asia/Dubai:20251023T160000
DTEND;TZID=Asia/Dubai:20251023T170000
DTSTAMP:20260425T195715
CREATED:20251009T122617Z
LAST-MODIFIED:20251020T095621Z
UID:10000215-1761235200-1761238800@louisedawson.com
SUMMARY:FREE Webinar! Learn More About Developmental Language Disorder (DLD) with Elklan\, October '25
DESCRIPTION:Developmental Language Disorder (DLD) is probably the most common childhood condition you’ve never heard of’ — Professor Courtney Norbury. \nJoin Louise and Gill Clarke from Elklan Training to learn more about how this common childhood condition. \nIn this workshop we will: \n\nExplore what Development Language Disorder is\nKnow the impacts DLD can have on children\nBe able to use key indicators of DLD\nExplore simple strategies to help children with DLD\n\nFollowing this session\, practitioners will know what DLD is and gain confidence in identifying children with DLD and be aware of some simple strategies to support them. \nAbout Gill Clarke\nGill is a paediatric speech and language therapist with over 30 years experience. She has her own independent speech and language therapy practice in York\, UK\, as well as working as a speech and language therapy professional advisor for Elklan Training. In addition to working with individual children\, Gill believes parents\, carers\, pre-school and teaching staff hold the key to unlocking children’s communication potential. Gill is therefore passionate about empowering key adults in their life to support them by developing their knowledge and confidence in how to support speech and language development through sharing knowledge and experience. \nAbout Elklan\nElklan Training is a renowned organisation with expertise in the field of speech\, language and communication training. Elklan delivers courses to teachers\, teaching assistants\, early years practitioners and parents to give them knowledge and practical strategies to develop children’s speech\, language and communication skills. \nElklan will be running in-person training from October ’25 to January ’26 – find more details here \n  \n\nPlease be aware that some people have had issues trying to book spaces on our events. We believe this is an issue with the du/Virgin Mobile networks. We apologies for this issue\, which is beyond our control.\nIf you experience this issue please send a email to media@louisedawson.com with the event and date\, your name(s) and email address(es) of the people you would like to book on to the event. \n  \nTo book your space at this event…\n\nUsing the + and – buttons in the “Tickets” dialog box select the number of tickets you require\n\n*** If you do not select the number of tickets you required you will be unable to progress with your order *** \n\nClick on the “Get Tickets” button\n\nOn the next screen… \n\nAdd your name as the “purchaser” of the ticket(s)\nAdd your email address [this is the address the confirmation details will be sent to]\nEnter your payment details [if required]\nClick on the “Get Tickets” or “Purchase Tickets” button at the foot of the page to complete your order\n\n  \nYou will receive an on-screen order confirmation\, and you will also be sent two emails to the email address you entered\, which will include: \n\nYour tickets\, and\nYour purchase receipt\n\n  \nIf you do not receive your purchase receipt or tickets please ensure you have checked your spam or junk folder!
URL:https://louisedawson.com/event/free-webinar-learn-more-about-developmental-language-disorder-dld-with-elklan-october-25/
CATEGORIES:External Training
ATTACH;FMTTYPE=image/png:https://louisedawson.com/wp-content/uploads/2025/10/251023-Elklan-DLD-webinar-1.png
LOCATION:https://louisedawson.com/event/free-webinar-learn-more-about-developmental-language-disorder-dld-with-elklan-october-25/
END:VEVENT
END:VCALENDAR