BEGIN:VCALENDAR
VERSION:2.0
PRODID:-//Louise Dawson Professional and Management Development Training - ECPv6.15.20//NONSGML v1.0//EN
CALSCALE:GREGORIAN
METHOD:PUBLISH
X-WR-CALNAME:Louise Dawson Professional and Management Development Training
X-ORIGINAL-URL:https://louisedawson.com
X-WR-CALDESC:Events for Louise Dawson Professional and Management Development Training
REFRESH-INTERVAL;VALUE=DURATION:PT1H
X-Robots-Tag:noindex
X-PUBLISHED-TTL:PT1H
BEGIN:VTIMEZONE
TZID:Asia/Dubai
BEGIN:STANDARD
TZOFFSETFROM:+0400
TZOFFSETTO:+0400
TZNAME:+04
DTSTART:20240101T000000
END:STANDARD
END:VTIMEZONE
BEGIN:VEVENT
DTSTART;TZID=Asia/Dubai:20251028T090000
DTEND;TZID=Asia/Dubai:20251030T163000
DTSTAMP:20260425T183738
CREATED:20250903T090834Z
LAST-MODIFIED:20251010T115112Z
UID:10000135-1761642000-1761841800@louisedawson.com
SUMMARY:CPI - Training - Help Create a Safer Workplace\, October 2025
DESCRIPTION:Help Create a Safer Workplace\nAttend Safety Intervention™ Foundation ICP Training (Train the Trainer) \n\n🧡 Understand how trauma impacts brain psychology and behaviour so you can more effectively de-escalate life’s daily crisis moments.\n🧡 Employ a person-centred approach that offers consistent inclusive and culturally sensitive strategies to help those in crisis.\n🧡 Learn when\, why\, and how to apply safety interventions and disengagement techniques for de-escalating risk behaviours \n🧡 2.5 Hours Online training followed by\,\n🧡 3 days in-class training\n📆 28-30 October 2025 9.00am – 4.30pm each day \nTo register\, contact Peter Hawtin – General Manager CPI Dubai LLC on: \n💬 WhatsApp: +971 56 225 7220\n📧 Email: ContactUs@crisisprevention.com \n \nDisclaimer \nThis training is organised by an external organisation and Louise Dawson Professional Development and Management Training cannot accept any liability or responsibility for the content or quality of the training. \nPayment is made directly with the external training partner and any conversation about delivery of the training\, payment\, refunds\, etc should be addressed directly to the external company. \nIf you have concerns about any content of the training then please let us know so we can raise them with the training provider on behalf of all delegates/attendees.
URL:https://louisedawson.com/event/cpi-help-create-a-safer-workplace-training-october-2025/
LOCATION:Louise Dawson Professional and Management Development\, United Arab Emirates
CATEGORIES:External Training
ATTACH;FMTTYPE=image/png:https://louisedawson.com/wp-content/uploads/2025/09/251028-CPI-training-featured-image.png
ORGANIZER;CN="Crisis Prevention Institute (CPI)":MAILTO:ContactUs@crisisprevention.com
END:VEVENT
BEGIN:VEVENT
DTSTART;TZID=Asia/Dubai:20251030T150000
DTEND;TZID=Asia/Dubai:20251030T160000
DTSTAMP:20260425T183738
CREATED:20250822T082624Z
LAST-MODIFIED:20251030T060114Z
UID:10000120-1761836400-1761840000@louisedawson.com
SUMMARY:FREE! Inclusive Classrooms with Text to Speech hosted by Louise with ReadSpeaker and Berna Bouwer\, 30 October '25
DESCRIPTION:Don’t miss this FREE webinar – Inclusive Classrooms with Text To Speech (TTS) hosted by Louise Dawson with Jason Giddens of ReadSpeaker\, and guest speaker Berna Bouwer\, Corporate Head of Inclusion\, GEMS Education on Thursday 30th October 2025. \nLouise is thrilled to be supporting schools around the world with this FREE ReadSpeaker webinar designed to help educators build more inclusive\, engaging\, and accessible classrooms through audio. \nThis practical session will cover: \n\nHow text to speech works in practice\nReal examples of how multilingual and neurodiverse learners benefit\nGuidance from leading inclusion practitioners\n\nWe look forward to showing you how simple it is to give every learner a voice. \nLimited spaces\, so please register below to secure your place or watch the recording of the webinar on demand. \n  \n🖥️ Complementary learning content: \n🔗 Text to Speech (TTS) in Education: Everything You Need to Know \n🔗 Text to Speech in Education: ReadSpeaker\, Free TTS\, or Both? \n🔗 What you need to know about TTS – FAQs \n  \n\nPlease be aware that some people have had issues trying to book spaces on our events. We believe this is an issue with the du/Virgin Mobile networks. We apologies for this issue\, which is beyond our control.\nIf you experience this problem booking one of our events please send a email to media@louisedawson.com with the event and date\, your name(s) and email address(es) of the people you would like to book on to the event. \n  \nTo book your space at this event…\n\nUsing the + and – buttons in the “Tickets” dialog box select the number of tickets you require\n\n*** If you do not select the number of tickets you required you will be unable to progress with your order *** \n\nClick on the “Get Tickets” button\n\nOn the next screen… \n\nAdd your name as the “purchaser” of the ticket(s)\nAdd your email address [this is the address the confirmation details will be sent to]\nEnter your payment details [if required]\nClick on the “Get Tickets” or “Purchase Tickets” button at the foot of the page to complete your order\n\n  \nYou will receive an on-screen order confirmation\, and you will also be sent two emails to the email address you entered\, which will include: \n\nYour tickets\, and\nYour purchase receipt\n\n  \nIf you do not receive your purchase receipt or tickets please ensure you have checked your spam or junk folder! \nDelegates will be sent a joining link for the webinar shortly before the event
URL:https://louisedawson.com/event/free-inclusive-classrooms-with-text-to-speech-with-louise-and-readspeaker/
CATEGORIES:External Training
ATTACH;FMTTYPE=image/png:https://louisedawson.com/wp-content/uploads/2025/08/251030-free-webinar-with-readspeaker-and-berna-bouwer-headshots.png
LOCATION:https://us06web.zoom.us/j/9876541306
END:VEVENT
END:VCALENDAR