BEGIN:VCALENDAR
VERSION:2.0
PRODID:-//Louise Dawson Professional and Management Development Training - ECPv6.15.20//NONSGML v1.0//EN
CALSCALE:GREGORIAN
METHOD:PUBLISH
X-WR-CALNAME:Louise Dawson Professional and Management Development Training
X-ORIGINAL-URL:https://louisedawson.com
X-WR-CALDESC:Events for Louise Dawson Professional and Management Development Training
REFRESH-INTERVAL;VALUE=DURATION:PT1H
X-Robots-Tag:noindex
X-PUBLISHED-TTL:PT1H
BEGIN:VTIMEZONE
TZID:Asia/Dubai
BEGIN:STANDARD
TZOFFSETFROM:+0400
TZOFFSETTO:+0400
TZNAME:+04
DTSTART:20240101T000000
END:STANDARD
END:VTIMEZONE
BEGIN:VTIMEZONE
TZID:Europe/London
BEGIN:DAYLIGHT
TZOFFSETFROM:+0000
TZOFFSETTO:+0100
TZNAME:BST
DTSTART:20240331T010000
END:DAYLIGHT
BEGIN:STANDARD
TZOFFSETFROM:+0100
TZOFFSETTO:+0000
TZNAME:GMT
DTSTART:20241027T010000
END:STANDARD
BEGIN:DAYLIGHT
TZOFFSETFROM:+0000
TZOFFSETTO:+0100
TZNAME:BST
DTSTART:20250330T010000
END:DAYLIGHT
BEGIN:STANDARD
TZOFFSETFROM:+0100
TZOFFSETTO:+0000
TZNAME:GMT
DTSTART:20251026T010000
END:STANDARD
BEGIN:DAYLIGHT
TZOFFSETFROM:+0000
TZOFFSETTO:+0100
TZNAME:BST
DTSTART:20260329T010000
END:DAYLIGHT
BEGIN:STANDARD
TZOFFSETFROM:+0100
TZOFFSETTO:+0000
TZNAME:GMT
DTSTART:20261025T010000
END:STANDARD
END:VTIMEZONE
BEGIN:VEVENT
DTSTART;TZID=Asia/Dubai:20251117T083000
DTEND;TZID=Asia/Dubai:20251121T163000
DTSTAMP:20260425T183750
CREATED:20251021T105404Z
LAST-MODIFIED:20251021T115935Z
UID:10000237-1763368200-1763742600@louisedawson.com
SUMMARY:Team Teach Behaviour Support Training - Dubai November 2025
DESCRIPTION:Join Team Teach for Behaviour Support Training in Dubai\, 17 – 21 November 2025\nTeam Teach is a leading provider of Behaviour Support Training. \nWe support over 10\,000 settings globally\, to positively transform behaviour support and provide strategies which equip staff with the tools they need to understand behaviour\, foster consistent staff behaviour & responses\, and help reduce crisis incidents. \nOur training provides you with a toolkit of strategies you can rely on\, and promotes respect\, teamwork\, personal safety\, preventative skills and de-escalation. \nThese courses are for individuals who want to lead on\, and support the delivery of training in behaviour support strategies throughout their own organisation. Our courses will help you to: \n🧩 understand behaviour as a form of communication \n🧩 create a positive behaviour culture in your school or setting \n🧩ensure teachers and staff are confident in the latest approaches to behaviour support \n🧩 reduce classroom or workplace disruptions \n  \nTrainer course options \nWith our 3-day and 5-day trainer courses\, attendees will be trained to become Team Teach trainers themselves. Having your own in-house Team Teach trainer is a cost-effective way to upskill all your staff and level up your training and CPD while creating a consistent organisational approach to behaviour. \n  \n3 day Foundation Trainer Plus (Mon-Weds)\nWhat‘s included?\n🧩 You will be equipped to effectively support students who may engage in a range of behaviours that cause interruptions to learning\, or impact others when feeling dysregulated.\n🧩 You will also learn low level intervention skills to keep both students and staff safe (such as prompting and guiding and disengagements). \nYour certification:\n🧩 Once you’ve successfully completed the 3 day course\, you’ll be equipped and certified to deliver our Level One – 6 Hour course including all the theoretical aspects and safety responses.\n🧩 A 1 day annual reaccreditation course is then required to remain certified.\n🧩 Your Foundation Trainer Plus certification gives you a training license valid for 12 months. \nPrice: £1\,495 per person \n  \n5 day Intermediate Trainer (Mon-Fri)\nWhat‘s included?\n🧩 In addition to the content covered in our Foundation Trainer Plus course\, we also provide you with an accredited framework of physical intervention skills.\n🧩 Physical intervention skills include; low level prompting and guiding\, a wider range of disengagements\, one and two person holding skills (including small child module) and separating fights. \nYour certification\n🧩 Once you’ve successfully completed the 5 day course\, you’ll be equipped and certified to deliver both our Level One – 6 Hour and Level Two – 12 Hour Behaviour Support courses.\n🧩 Your Intermediate Certification in Behaviour Support gives you a training license valid for 12 months.\n🧩 A 2 day annual reaccreditation course is then required to remain certified. \nPrice: £1\,995 per person \nQuestions?\nPlease get in touch any time:\n📧 international@teamteach.com\n📞 +44 (0) 203 832 8875 \nClick here for session flyer or book your space here. \n  \nDisclaimer \nThis training is organised by an external organisation and Louise Dawson Professional Development and Management Training cannot accept any liability or responsibility for the content or quality of the training. \nPayment is made directly with the external training partner and any conversation about delivery of the training\, payment\, refunds\, etc should be addressed directly to the external company. \nIf you have concerns about any content of the training then please let us know so we can raise them with the training provider on behalf of all delegates/attendees.
URL:https://louisedawson.com/event/team-teach-behaviour-support-training-dubai-november-2025/
LOCATION:Louise Dawson Professional and Management Development\, United Arab Emirates
CATEGORIES:External Training
ATTACH;FMTTYPE=image/png:https://louisedawson.com/wp-content/uploads/2025/10/251117-Team-Teach-training-Dubai-1.png
END:VEVENT
BEGIN:VEVENT
DTSTART;TZID=Asia/Dubai:20251118T130000
DTEND;TZID=Asia/Dubai:20251118T140000
DTSTAMP:20260425T183750
CREATED:20251111T171914Z
LAST-MODIFIED:20251117T075924Z
UID:10000268-1763470800-1763474400@louisedawson.com
SUMMARY:FREE Webinar! "Raising Awareness & Reducing Mental Health Stigma" with elggo
DESCRIPTION:Elggo Free Webinar\nAs part of Abu Dhabi Early Childhood Week 2025 \nJoin us for a free webinar with Dr. Khaled Kadry on how stigma affects young children — and what we can do about it. \n Topic : Raising Awareness & Reducing Mental Health Stigma\n Tuesday\, November 18 |  1 PM (Gulf Time)\n Arabic & English |  Open to all\n Register now: https://www.elggo.com/events \n#ADEarlyChildhoodWeek2025 \n  \n\n  \nDisclaimer \nThis training is organised by an external organisation and Louise Dawson Professional Development and Management Training cannot accept any liability or responsibility for the content or quality of the training. \nPayment is made directly with the external training partner and any conversation about delivery of the training\, payment\, refunds\, etc should be addressed directly to the external company. \nIf you have concerns about any content of the training then please let us know so we can raise them with the training provider on behalf of all delegates/attendees.
URL:https://louisedawson.com/event/free-webinar-raising-awareness-reducing-mental-health-stigma-with-elggo/
LOCATION:Webinar – FREE
CATEGORIES:External Training,Well Being Network
ATTACH;FMTTYPE=image/jpeg:https://louisedawson.com/wp-content/uploads/2025/11/ELGGO-WEBINAR-NOV-18.jpeg
END:VEVENT
BEGIN:VEVENT
DTSTART;TZID=Europe/London:20251118T150000
DTEND;TZID=Europe/London:20251118T170500
DTSTAMP:20260425T183750
CREATED:20251111T164403Z
LAST-MODIFIED:20251111T170629Z
UID:10000267-1763478000-1763485500@louisedawson.com
SUMMARY:FREE! The Validation Toolkit: A Komodo Workshop\, Mesaieed International School\,  Qatar\, November 2025
DESCRIPTION:Join us for a focused & practical workshop designed to equip educators with essential skills in validation & emotion regulation at this collaborative effort from Komodo Wellbeing & Mesaieed International School\, Qatar \nHelping students navigate their emotions is key to fostering a supportive learning atmosphere. This session will move beyond theory\, providing strategies you can implement immediately to help students feel seen\, heard\, & better equipped to manage their feelings. Learn how to de-escalate emotional moments\, build strong student-teacher relationships\, & create a more resilient & focused classroom. \nThis is a FREE workshop for attendees! \nDesigned exclusively for senior leadership\, educators & pastoral care leaders\, this event is a practical\, conversation & presentation-led workshop centred around best practice approaches to managing student wellbeing. \n  \nSpeakers\nThe Komodo team is thrilled to be joined by Dr. Frances Willis\, Educational Psychologist and owner of Inclusive Psychology Bahrain who will be delivering a valuable session on emotion regulation as well as the team at Mesaieed International School\, with Jordan Hobbis\, Head of Secondary and wellbeing champion\, sharing MIS’s wellbeing journey and philosophy. \n\n\nDr. Frances Willis\, Educational Psychologist and owner of Inclusive Psychology Bahrain\nJordan Hobbis\, Head of Secondary and Wellbeing Champion\, Mesaieed International School\nKayleigh Ratcliffe- Head of KS5\, Mesaieed International School\nHannah Cashel-Joubij Deputy Headteacher\, Mesaieed International School\nKerry Pounsett – Head of KS3\, Mesaieed International School\nMichelle Reid – Head of KS4 & Head of Inclusion\, Mesaieed International School\nJessica Colson – School Success Lead\, Komodo Wellbeing\nJesper Andersson – New Schools Manager\, Komodo Wellbeing\n\nWhy attend?\nMaster immediate\, practical strategies\nGain proven\, classroom-ready approaches to acknowledge students’ emotions and guide them with confidence through moments of challenge. \nEnhance classroom management & climate\nDiscover how validating students can lead to reduced behavioural issues\, improved student engagement\, & a more positive\, supportive learning environment. \nStrengthen student-teacher relationships\nDevelop communication strategies that foster trust\, empowering students to openly share their experiences & seek support during moments of stress or conflict. \nMore details and to register: here \n\nFull registration link: https://content.komodowellbeing.com/the-validation-toolkit-workshop-from-komodo-qatar \n  \n  \nDisclaimer \nThis training is organised by an external organisation and Louise Dawson Professional Development and Management Training cannot accept any liability or responsibility for the content or quality of the training. \nPayment is made directly with the external training partner and any conversation about delivery of the training\, payment\, refunds\, etc should be addressed directly to the external company. \nIf you have concerns about any content of the training then please let us know so we can raise them with the training provider on behalf of all delegates/attendees.
URL:https://louisedawson.com/event/free-the-validation-toolkit-a-komodo-workshop-mesaieed-international-school-qatar-november-2025/
LOCATION:Mesaieed International School\, Qatar\, Mesaieed International School\, Mesaieed\, Qatar
CATEGORIES:External Training,Well Being Network
ATTACH;FMTTYPE=image/png:https://louisedawson.com/wp-content/uploads/2025/11/251118-Komodo-qatar.png
END:VEVENT
BEGIN:VEVENT
DTSTART;TZID=Asia/Dubai:20251118T160000
DTEND;TZID=Asia/Dubai:20251118T170000
DTSTAMP:20260425T183750
CREATED:20251021T121855Z
LAST-MODIFIED:20251021T124044Z
UID:10000239-1763481600-1763485200@louisedawson.com
SUMMARY:FREE Webinar! Inclusion – Behaviour Support Strategies For All Children\, Through Inclusive Practice - November 2025
DESCRIPTION:In this webinar you’ll hear from a group of experienced behaviour specialists working in schools across the Middle East and Nancy Hooper\, Head of Learning & Development for Team Teach. \nThis is a discussion-style webinar. Please join us to learn about: \n\nWhat inclusion actually means in a school setting\nHow understanding behaviour is communication\, is key to successful inclusive practice\nHow your students can reach their full potential when you discover and meet their individual needs\nHow to make sure you have the right approach to inclusion for your students to succeed\nFlexible and practical ways to make your school more inclusive\n\nWe are delighted to be joined by guests: \n\nDr. Zachary Berezowski\, Director of Student Support\, The Kaust School\, Saudi Arabia\nAdele Hattingh\, Senior Behaviour Therapist\, Al Karamah School\, UAE\nHanadi Rustam\, Education Consultant and Psychologist\, Bahrain\nBen Viljoen\, Head of Inclusion and Wellbeing\, Taaleem Education\, UAE\n\n  \nRegister to join us for the live event or to receive the recording. \nRegistration link: https://us06web.zoom.us/webinar/register/WN_NF4f446hSbucfQvPQmKZSQ \n  \nDisclaimer \nThis event or training is organised by an external organisation and Louise Dawson Professional Development and Management Training cannot accept any liability or responsibility for the content or quality of the training. \nPayment is made directly with the external training partner and any conversation about delivery of the training\, payment\, refunds\, etc should be addressed directly to the external company. \nIf you have concerns about any content of the training then please let us know so we can raise them with the training provider on behalf of all delegates/attendees.
URL:https://louisedawson.com/event/free-webinar-inclusion-behaviour-support-strategies-for-all-children-through-inclusive-practice-november-2025/
CATEGORIES:External Training
ATTACH;FMTTYPE=image/png:https://louisedawson.com/wp-content/uploads/2025/10/251118-Team-Teach-webinar.png
LOCATION:https://louisedawson.com/event/free-webinar-inclusion-behaviour-support-strategies-for-all-children-through-inclusive-practice-november-2025/
END:VEVENT
END:VCALENDAR