BEGIN:VCALENDAR
VERSION:2.0
PRODID:-//Louise Dawson Professional and Management Development Training - ECPv6.15.20//NONSGML v1.0//EN
CALSCALE:GREGORIAN
METHOD:PUBLISH
X-ORIGINAL-URL:https://louisedawson.com
X-WR-CALDESC:Events for Louise Dawson Professional and Management Development Training
REFRESH-INTERVAL;VALUE=DURATION:PT1H
X-Robots-Tag:noindex
X-PUBLISHED-TTL:PT1H
BEGIN:VTIMEZONE
TZID:Asia/Dubai
BEGIN:STANDARD
TZOFFSETFROM:+0400
TZOFFSETTO:+0400
TZNAME:+04
DTSTART:20240101T000000
END:STANDARD
END:VTIMEZONE
BEGIN:VEVENT
DTSTART;TZID=Asia/Dubai:20251124T080000
DTEND;TZID=Asia/Dubai:20251128T163000
DTSTAMP:20260425T211112
CREATED:20251021T110351Z
LAST-MODIFIED:20251021T115921Z
UID:10000238-1763971200-1764347400@louisedawson.com
SUMMARY:Team Teach Behaviour Support Training - Abu Dhabi November 2025
DESCRIPTION:Join Team Teach for Behaviour Support Training in Abu Dhabi\, 24-28 November 2025\nTeam Teach is a leading provider of Behaviour Support Training. \nWe support over 10\,000 settings globally\, to positively transform behaviour support and provide strategies which equip staff with the tools they need to understand behaviour\, foster consistent staff behaviour & responses\, and help reduce crisis incidents. \nOur training provides you with a toolkit of strategies you can rely on\, and promotes respect\, teamwork\, personal safety\, preventative skills and de-escalation. \nThese courses are for individuals who want to lead on\, and support the delivery of training in behaviour support strategies throughout their own organisation. Our courses will help you to: \n🧩 understand behaviour as a form of communication \n🧩 create a positive behaviour culture in your school or setting \n🧩ensure teachers and staff are confident in the latest approaches to behaviour support \n🧩 reduce classroom or workplace disruptions \n  \nTrainer course options \nWith our 3-day and 5-day trainer courses\, attendees will be trained to become Team Teach trainers themselves. Having your own in-house Team Teach trainer is a cost-effective way to upskill all your staff and level up your training and CPD while creating a consistent organisational approach to behaviour. \n  \n3 day Foundation Trainer Plus (Mon-Weds)\nWhat‘s included?\n🧩 You will be equipped to effectively support students who may engage in a range of behaviours that cause interruptions to learning\, or impact others when feeling dysregulated.\n🧩 You will also learn low level intervention skills to keep both students and staff safe (such as prompting and guiding and disengagements). \nYour certification:\n🧩 Once you’ve successfully completed the 3 day course\, you’ll be equipped and certified to deliver our Level One – 6 Hour course including all the theoretical aspects and safety responses.\n🧩 A 1 day annual reaccreditation course is then required to remain certified.\n🧩 Your Foundation Trainer Plus certification gives you a training license valid for 12 months. \nPrice: £1\,495 per person \n  \n5 day Intermediate Trainer (Mon-Fri)\nWhat‘s included?\n🧩 In addition to the content covered in our Foundation Trainer Plus course\, we also provide you with an accredited framework of physical intervention skills.\n🧩 Physical intervention skills include; low level prompting and guiding\, a wider range of disengagements\, one and two person holding skills (including small child module) and separating fights. \nYour certification\n🧩 Once you’ve successfully completed the 5 day course\, you’ll be equipped and certified to deliver both our Level One – 6 Hour and Level Two – 12 Hour Behaviour Support courses.\n🧩 Your Intermediate Certification in Behaviour Support gives you a training license valid for 12 months.\n🧩 A 2 day annual reaccreditation course is then required to remain certified. \nPrice: £1\,995 per person \nQuestions?\nPlease get in touch any time:\n📧 international@teamteach.com\n📞 +44 (0) 203 832 8875 \nClick here for session flyer or book your space here. \n  \nDisclaimer \nThis training is organised by an external organisation and Louise Dawson Professional Development and Management Training cannot accept any liability or responsibility for the content or quality of the training. \nPayment is made directly with the external training partner and any conversation about delivery of the training\, payment\, refunds\, etc should be addressed directly to the external company. \nIf you have concerns about any content of the training then please let us know so we can raise them with the training provider on behalf of all delegates/attendees.
URL:https://louisedawson.com/event/team-teach-behaviour-support-training-abu-dhabi-november-2025/
LOCATION:Al Karamah School\, Al Karamah School\, Al Karamah St - Al Manhal - W14 01\, Abu Dhabi\, United Arab Emirates
CATEGORIES:External Training
ATTACH;FMTTYPE=image/png:https://louisedawson.com/wp-content/uploads/2025/10/250124-Team-Teach-training-Abu-Dhabi.png
END:VEVENT
BEGIN:VEVENT
DTSTART;TZID=Asia/Dubai:20251126T080000
DTEND;TZID=Asia/Dubai:20251126T100000
DTSTAMP:20260425T211112
CREATED:20250910T070355Z
LAST-MODIFIED:20251104T134908Z
UID:10000148-1764144000-1764151200@louisedawson.com
SUMMARY:Insights Psychology - School Counsellors – Mental Health Toolbox\, September to December 2025
DESCRIPTION:Join us for a series of empowering mental health webinars tailored for staff working with children and young people experiencing mental health challenges. \nLed by licensed clinicians\, these sessions offer practical insights and tips crucial for effective support. \nFeel free to attend any session that fits your schedule – no commitment to all sessions required. \nDon’t miss out on this opportunity to enhance your skills and make a difference!\nWhen? \nWednesday mornings 8am – 10am\, online \nCourse features: \n\n90-minute immersive webinars facilitated by licensed clinicians.\nExplore a diverse array of topics supporting your professional development.\nDedicated 30-minute segments at the end of each session for supervision queries and case discussion.\nBook your place by emailing training@insightspsychology.com or WhatsApp on +971 (0) 52 637 4608.\n\nSeries Outline:\n\n\n\nNo.\nDate\nTopic\nClinician\n\n\n\n\n\n\n\n\n\n1\n1st October 2025\nTraining course for school counsellors to understand the principles of cognitive behaviour therapy and how to apply it in school settings.\nAnna Fahey- Chartered CBT Psychotherapist\n\n\n2\n8th October 2025\nTraining course for school counsellors on how to engage children of all ages in therapy sessions.\nDr Niamh Grace- Clinical Psychologist & Dr Mujahid Asmal-Lee- Clinical Psychologist\n\n\n3\n22nd October 2025\nTraining course for school counsellors working with Autistic and AuDHD students.\nLeyli Afsari- Licensed Psychologist\n\n\n5\n29th October 2025\nTraining course for school counsellors in supporting students to understand appropriate Screentime\, keeping themselves safe online and in online relationships\nGrainne Boyle- Educational Psychologist\n\n\n5\n5th November 2025\nComplimentary Supervision (for those who have attended previous sessions)\nDr Daniel O’Neill- Clinical Psychologist\n\n\n6\n12th November 2025\nTraining course for school counsellors in assessing risk\, referring outwards\, and how to approach safeguarding referrals\nDr Samir Pathan- Clinical Psychologist & Coral Leach- Licensed Psychologist\n\n\n7\n19th November 2025\nTraining course for school counsellors on supporting school refusal and working with the team around the child\nDr Dina Bedair- Clinical Psychologist\n\n\n8\n26th November 2025\nTraining course for school counsellors in understanding sensory differences\, regulation\, and adapting sessions outside of the counselling room.\nSiofra Colleran-Occupational Therapist & Miriam l Mahdi- Occupational Therapist\n\n\n9\n3rd December 2025\nTraining course for school counsellors in the basic principles of Dialectical Behaviour Skills\nTBC\n\n\n10\n10th December 2025\nComplimentary Supervision (for those who have attended previous sessions)\nDr Dina Bedair-Clinical Psychologist\n\n\n\n  \nAudience: School Counsellors\, SENCOs\, All school staff members. \nTrainers: Each Session is led by a different member of the Insights multi-disciplinary team; clinical psychologists\, education psychologists \nLocation: Online via Zoom \nDuration: 11 sessions including a complimentary supervision session. 1st October – 10th December \nTimings: 8am-10am\, Wednesday mornings. \nFees: 175 AED + VAT  per session with individual KHDA certificate\, or 100 AED + VAT per session without a KHDA certificate. Pay for all 10 sessions in advance for a discount. \nAccreditations: KHDA. \n  \nClick here to sign up or know more information \nRead here for a parent’s perspective on attending an autism support group at Insights \n  \nDisclaimer \nThis training is organised by an external organisation and Louise Dawson Professional Development and Management Training cannot accept any liability or responsibility for the content or quality of the training. \nPayment is made directly with the external training partner and any conversation about delivery of the training\, payment\, refunds\, etc should be addressed directly to the external company. \nIf you have concerns about any content of the training then please let us know so we can raise them with the training provider on behalf of all delegates/attendees.
URL:https://louisedawson.com/event/insights-psychology-school-counsellors-mental-health-toolbox-september-to-december-2025/2025-11-26/
CATEGORIES:External Training,Insights Psychology DMCC
ATTACH;FMTTYPE=image/png:https://louisedawson.com/wp-content/uploads/2025/09/250909-Insights-Mental-Health-Toolbox-series-events.png
ORGANIZER;CN="Insights Psychology":MAILTO:training@insightspsychology.com
LOCATION:https://louisedawson.com/event/insights-psychology-school-counsellors-mental-health-toolbox-september-to-december-2025/2025-11-26/
END:VEVENT
END:VCALENDAR