BEGIN:VCALENDAR
VERSION:2.0
PRODID:-//Louise Dawson Professional and Management Development Training - ECPv6.15.20//NONSGML v1.0//EN
CALSCALE:GREGORIAN
METHOD:PUBLISH
X-WR-CALNAME:Louise Dawson Professional and Management Development Training
X-ORIGINAL-URL:https://louisedawson.com
X-WR-CALDESC:Events for Louise Dawson Professional and Management Development Training
REFRESH-INTERVAL;VALUE=DURATION:PT1H
X-Robots-Tag:noindex
X-PUBLISHED-TTL:PT1H
BEGIN:VTIMEZONE
TZID:Asia/Dubai
BEGIN:STANDARD
TZOFFSETFROM:+0400
TZOFFSETTO:+0400
TZNAME:+04
DTSTART:20240101T000000
END:STANDARD
END:VTIMEZONE
BEGIN:VEVENT
DTSTART;TZID=Asia/Dubai:20251203T080000
DTEND;TZID=Asia/Dubai:20251203T100000
DTSTAMP:20260425T171617
CREATED:20250910T070355Z
LAST-MODIFIED:20251104T134908Z
UID:10000149-1764748800-1764756000@louisedawson.com
SUMMARY:Insights Psychology - School Counsellors – Mental Health Toolbox\, September to December 2025
DESCRIPTION:Join us for a series of empowering mental health webinars tailored for staff working with children and young people experiencing mental health challenges. \nLed by licensed clinicians\, these sessions offer practical insights and tips crucial for effective support. \nFeel free to attend any session that fits your schedule – no commitment to all sessions required. \nDon’t miss out on this opportunity to enhance your skills and make a difference!\nWhen? \nWednesday mornings 8am – 10am\, online \nCourse features: \n\n90-minute immersive webinars facilitated by licensed clinicians.\nExplore a diverse array of topics supporting your professional development.\nDedicated 30-minute segments at the end of each session for supervision queries and case discussion.\nBook your place by emailing training@insightspsychology.com or WhatsApp on +971 (0) 52 637 4608.\n\nSeries Outline:\n\n\n\nNo.\nDate\nTopic\nClinician\n\n\n\n\n\n\n\n\n\n1\n1st October 2025\nTraining course for school counsellors to understand the principles of cognitive behaviour therapy and how to apply it in school settings.\nAnna Fahey- Chartered CBT Psychotherapist\n\n\n2\n8th October 2025\nTraining course for school counsellors on how to engage children of all ages in therapy sessions.\nDr Niamh Grace- Clinical Psychologist & Dr Mujahid Asmal-Lee- Clinical Psychologist\n\n\n3\n22nd October 2025\nTraining course for school counsellors working with Autistic and AuDHD students.\nLeyli Afsari- Licensed Psychologist\n\n\n5\n29th October 2025\nTraining course for school counsellors in supporting students to understand appropriate Screentime\, keeping themselves safe online and in online relationships\nGrainne Boyle- Educational Psychologist\n\n\n5\n5th November 2025\nComplimentary Supervision (for those who have attended previous sessions)\nDr Daniel O’Neill- Clinical Psychologist\n\n\n6\n12th November 2025\nTraining course for school counsellors in assessing risk\, referring outwards\, and how to approach safeguarding referrals\nDr Samir Pathan- Clinical Psychologist & Coral Leach- Licensed Psychologist\n\n\n7\n19th November 2025\nTraining course for school counsellors on supporting school refusal and working with the team around the child\nDr Dina Bedair- Clinical Psychologist\n\n\n8\n26th November 2025\nTraining course for school counsellors in understanding sensory differences\, regulation\, and adapting sessions outside of the counselling room.\nSiofra Colleran-Occupational Therapist & Miriam l Mahdi- Occupational Therapist\n\n\n9\n3rd December 2025\nTraining course for school counsellors in the basic principles of Dialectical Behaviour Skills\nTBC\n\n\n10\n10th December 2025\nComplimentary Supervision (for those who have attended previous sessions)\nDr Dina Bedair-Clinical Psychologist\n\n\n\n  \nAudience: School Counsellors\, SENCOs\, All school staff members. \nTrainers: Each Session is led by a different member of the Insights multi-disciplinary team; clinical psychologists\, education psychologists \nLocation: Online via Zoom \nDuration: 11 sessions including a complimentary supervision session. 1st October – 10th December \nTimings: 8am-10am\, Wednesday mornings. \nFees: 175 AED + VAT  per session with individual KHDA certificate\, or 100 AED + VAT per session without a KHDA certificate. Pay for all 10 sessions in advance for a discount. \nAccreditations: KHDA. \n  \nClick here to sign up or know more information \nRead here for a parent’s perspective on attending an autism support group at Insights \n  \nDisclaimer \nThis training is organised by an external organisation and Louise Dawson Professional Development and Management Training cannot accept any liability or responsibility for the content or quality of the training. \nPayment is made directly with the external training partner and any conversation about delivery of the training\, payment\, refunds\, etc should be addressed directly to the external company. \nIf you have concerns about any content of the training then please let us know so we can raise them with the training provider on behalf of all delegates/attendees.
URL:https://louisedawson.com/event/insights-psychology-school-counsellors-mental-health-toolbox-september-to-december-2025/2025-12-03/
CATEGORIES:External Training,Insights Psychology DMCC
ATTACH;FMTTYPE=image/png:https://louisedawson.com/wp-content/uploads/2025/09/250909-Insights-Mental-Health-Toolbox-series-events.png
ORGANIZER;CN="Insights Psychology":MAILTO:training@insightspsychology.com
LOCATION:https://louisedawson.com/event/insights-psychology-school-counsellors-mental-health-toolbox-september-to-december-2025/2025-12-03/
END:VEVENT
BEGIN:VEVENT
DTSTART;TZID=Asia/Dubai:20251203T160000
DTEND;TZID=Asia/Dubai:20251203T170000
DTSTAMP:20260425T171617
CREATED:20250722T175231Z
LAST-MODIFIED:20250930T163936Z
UID:10000109-1764777600-1764781200@louisedawson.com
SUMMARY:FREE Webinar! Widgit Wednesday - What Do You Want To Know 3 December '25
DESCRIPTION:For over 40 years Widgit Symbols have been used worldwide to support people and help them realise their full potential\, no matter what their age\, ability or background. \n🆓 Join us on the first Wednesday of every month at 12pm GMT for a relaxed live session with Becca\, our Symbol & Education Specialist! \n🌟 These sessions are ideal if you do not have Widgit yet but want to see what it’s all about. \n✨ Becca from Widgit will walk you through the software\, answer your questions\, and show you how Widgit can make a real difference in the classroom. \n🖥️ Book your ticket for this session here \n  \nDisclaimer \nThis training is organised by an external organisation and Louise Dawson Professional Development and Management Training cannot accept any liability or responsibility for the content or quality of the training. \nPayment is made directly with the external training partner and any conversation about delivery of the training\, payment\, refunds\, etc should be addressed directly to the external company. \nIf you have concerns about any content of the training then please let us know so we can raise them with the training provider on behalf of all delegates/attendees.
URL:https://louisedawson.com/event/free-webinar-widgit-wednesday-what-do-you-want-to-know-3-december-25/
LOCATION:Webinar – FREE
CATEGORIES:External Training
ATTACH;FMTTYPE=image/png:https://louisedawson.com/wp-content/uploads/2025/07/251203-Widgit-Wednesdays-featured-image.png
END:VEVENT
BEGIN:VEVENT
DTSTART;TZID=Asia/Dubai:20251203T190000
DTEND;TZID=Asia/Dubai:20251203T194500
DTSTAMP:20260425T171617
CREATED:20251202T084251Z
LAST-MODIFIED:20251202T084932Z
UID:10000279-1764788400-1764791100@louisedawson.com
SUMMARY:FREE Webinar! "Flexible Hybrid Education for a Changing World" with CambriLearn and CASCADE Education
DESCRIPTION:🆓 Join CambriLearn UAE and CASCADE Education for an insightful session on how online learning and hybrid support can create a learning experience for your child that is: \n\nFlexible\nStructured\nPersonalised\n\nℹ️ This webinar is brought to you by CambriLearn and CASCADE Education\n🗓️ Wednesday\, 03 December 2025\n⏰ 19:00 PM GST – 45-Minutes\n📍 Online (Zoom) \n⚠️ Seats are limited – reserve your spot today! \nBooking link: https://us02web.zoom.us/webinar/register/WN_UKPRvVNGR8mxLOTe0lBYYA#/registration \nDisclaimer \nThis training is organised by an external organisation and Louise Dawson Professional Development and Management Training cannot accept any liability or responsibility for the content or quality of the training. \nPayment is made directly with the external training partner and any conversation about delivery of the training\, payment\, refunds\, etc should be addressed directly to the external company. \nIf you have concerns about any content of the training then please let us know so we can raise them with the training provider on behalf of all delegates/attendees.
URL:https://louisedawson.com/event/free-webinar-flexible-hybrid-education-for-a-changing-world-with-cambrilearn-and-cascade-education/
LOCATION:Webinar – FREE
CATEGORIES:External Training
ATTACH;FMTTYPE=image/jpeg:https://louisedawson.com/wp-content/uploads/2025/12/251203-cambrilearn-and-cascade-webinar.jpeg
END:VEVENT
END:VCALENDAR