BEGIN:VCALENDAR
VERSION:2.0
PRODID:-//Louise Dawson Professional and Management Development Training - ECPv6.15.20//NONSGML v1.0//EN
CALSCALE:GREGORIAN
METHOD:PUBLISH
X-WR-CALNAME:Louise Dawson Professional and Management Development Training
X-ORIGINAL-URL:https://louisedawson.com
X-WR-CALDESC:Events for Louise Dawson Professional and Management Development Training
REFRESH-INTERVAL;VALUE=DURATION:PT1H
X-Robots-Tag:noindex
X-PUBLISHED-TTL:PT1H
BEGIN:VTIMEZONE
TZID:Asia/Dubai
BEGIN:STANDARD
TZOFFSETFROM:+0400
TZOFFSETTO:+0400
TZNAME:+04
DTSTART:20240101T000000
END:STANDARD
END:VTIMEZONE
BEGIN:VEVENT
DTSTART;TZID=Asia/Dubai:20260202T080000
DTEND;TZID=Asia/Dubai:20260202T163000
DTSTAMP:20260425T163305
CREATED:20260114T100048Z
LAST-MODIFIED:20260114T100201Z
UID:10000308-1770019200-1770049800@louisedawson.com
SUMMARY:UAE Positive Behaviour Interventions with Dynamis - February 2026
DESCRIPTION:Relationships\, Crises and Responses at Your School\nUnderstand and respond to behaviours through a strategy of non-escalation\, using primary prevention wherever possible\, with de-escalation and last-resort holding strategies to keep everyone safe where they are needed.\n\nUAE-specific Legal Issues (Tried and Trusted)\nTrauma Awareness\nBehaviour Planning\nDe-escalation Skills\nStaff Safety and Teamwork\nPositive Handling and “Holding” Interventions\n\n  \nCost: 1\,000 AED per person. Contact Dynamis for group discounts. \nWant to find out more about Dynamis and their approach? Watch this webinar where Louise talks to Gerard O’Dea \n  \nDisclaimer \nThis training is organised by an external organisation and Louise Dawson Professional Development and Management Training cannot accept any liability or responsibility for the content or quality of the training. \nPayment is made directly with the external training partner and any conversation about delivery of the training\, payment\, refunds\, etc should be addressed directly to the external company. \nIf you have concerns about any content of the training then please let us know so we can raise them with the training provider on behalf of all delegates/attendees.
URL:https://louisedawson.com/event/uae-positive-behaviour-interventions-with-dynamis-february-2026/
CATEGORIES:Dynamis Training and Insights,External Training
ATTACH;FMTTYPE=image/jpeg:https://louisedawson.com/wp-content/uploads/2026/01/260202-Dynamis-training-dates-for-UAE.jpeg
ORGANIZER;CN="Dynamis Training & Insight":MAILTO:info@dynamis.training
END:VEVENT
BEGIN:VEVENT
DTSTART;TZID=Asia/Dubai:20251201T080000
DTEND;TZID=Asia/Dubai:20251201T163000
DTSTAMP:20260425T163305
CREATED:20251027T101223Z
LAST-MODIFIED:20251202T105736Z
UID:10000246-1764576000-1764606600@louisedawson.com
SUMMARY:UAE Positive Behaviour Interventions with Dynamis - December 2025
DESCRIPTION:Relationships\, Crises and Responses at Your School\nUnderstand and respond to behaviours through a strategy of non-escalation\, using primary prevention wherever possible\, with de-escalation and last-resort holding strategies to keep everyone safe where they are needed.\n\nUAE-specific Legal Issues (Tried and Trusted)\nTrauma Awareness\nBehaviour Planning\nDe-escalation Skills\nStaff Safety and Teamwork\nPositive Handling and “Holding” Interventions\n\n  \nCost: 1\,000 AED per person. Contact Dynamis for group discounts. \nWant to find out more about Dynamis and their approach? Watch this webinar where Louise talks to Gerard O’Dea \n  \nDisclaimer \nThis training is organised by an external organisation and Louise Dawson Professional Development and Management Training cannot accept any liability or responsibility for the content or quality of the training. \nPayment is made directly with the external training partner and any conversation about delivery of the training\, payment\, refunds\, etc should be addressed directly to the external company. \nIf you have concerns about any content of the training then please let us know so we can raise them with the training provider on behalf of all delegates/attendees.
URL:https://louisedawson.com/event/uae-positive-behaviour-interventions-with-dynamis-december-2025/
LOCATION:Louise Dawson Professional and Management Development\, United Arab Emirates
CATEGORIES:Dynamis Training and Insights,External Training
ATTACH;FMTTYPE=image/jpeg:https://louisedawson.com/wp-content/uploads/2025/10/251201-Dynamis-training.jpeg
ORGANIZER;CN="Dynamis Training & Insight":MAILTO:info@dynamis.training
END:VEVENT
BEGIN:VEVENT
DTSTART;TZID=Asia/Dubai:20250821T120000
DTEND;TZID=Asia/Dubai:20250821T150000
DTSTAMP:20260425T163305
CREATED:20250810T203729Z
LAST-MODIFIED:20250811T230504Z
UID:10000111-1755777600-1755788400@louisedawson.com
SUMMARY:UAE Positive Behaviour Interventions with Dynamis - August 2025
DESCRIPTION:Relationships\, Crises and Responses at Your School\nUnderstand and respond to behaviours through a strategy of non-escalation\, using primary prevention wherever possible\, with de-escalation and last-resort holding strategies to keep everyone safe where they are needed.\n\nUAE-specific Legal Issues (Tried and Trusted)\nTrauma Awareness\nBehaviour Planning\nDe-escalation Skills\nStaff Safety and Teamwork\nPositive Handling and “Holding” Interventions\n\nCost: 1\,000 AED per person \nDisclaimer \nThis training is organised by an external organisation and Louise Dawson Professional Development and Management Training cannot accept any liability or responsibility for the content or quality of the training. \nPayment is made directly with the external training partner and any conversation about delivery of the training\, payment\, refunds\, etc should be addressed directly to the external company. \nIf you have concerns about any content of the training then please let us know so we can raise them with the training provider on behalf of all delegates/attendees.
URL:https://louisedawson.com/event/uae-positive-behaviour-interventions-with-dynamis-august-2025/
LOCATION:Louise Dawson Professional and Management Development\, United Arab Emirates
CATEGORIES:Dynamis Training and Insights,External Training
ATTACH;FMTTYPE=image/jpeg:https://louisedawson.com/wp-content/uploads/2025/08/250821-Dynamis-session-at-LDPMDT.jpg
ORGANIZER;CN="Dynamis Training & Insight":MAILTO:info@dynamis.training
END:VEVENT
BEGIN:VEVENT
DTSTART;TZID=Asia/Dubai:20250616T083000
DTEND;TZID=Asia/Dubai:20250616T160000
DTSTAMP:20260425T163305
CREATED:20250424T113431Z
LAST-MODIFIED:20250424T121557Z
UID:10000083-1750062600-1750089600@louisedawson.com
SUMMARY:UAE Positive Behaviour Interventions with Dynamis - June 2025
DESCRIPTION:Relationships\, Crises and Responses at Your School\nUnderstand and respond to behaviours through a strategy of non-escalation\, using primary prevention wherever possible\, with de-escalation and last-resort holding strategies to keep everyone safe where they are needed.\n\nUAE-specific Legal Issues (Tried and Trusted)\nBehaviour Planning\nDe-escalation Skills\nStaff Safety and Teamwork\nPositive Handling and “Holding” Interventions\n\n  \nA week of one-day sessions to suit your schedule. \nThank you very much for your interest in our courses. \nOur understanding of your training requirements at schools in the UAE include: \n\nDe-Escalation Training for your school staff (incl. counsellors\, Teaching Assistants and SLT)\nCrisis Management Training for your response teams and those who look after children with additional needs\nPositive Handling (physical interventions) training for teams who are at the point-of-impact\n\nGerard O’Dea\, Director of Training at Dynamis \n  \nDisclaimer \nThis training is organised by an external organisation and Louise Dawson Professional Development and Management Training cannot accept any liability or responsibility for the content or quality of the training. \nPayment is made directly with the external training partner and any conversation about delivery of the training\, payment\, refunds\, etc should be addressed directly to the external company. \nIf you have concerns about any content of the training then please let us know so we can raise them with the training provider on behalf of all delegates/attendees.
URL:https://louisedawson.com/event/uae-positive-behaviour-interventions-with-dynamis-june-2025/
LOCATION:Louise Dawson Professional and Management Development\, United Arab Emirates
CATEGORIES:Dynamis Training and Insights,External Training
ATTACH;FMTTYPE=image/jpeg:https://louisedawson.com/wp-content/uploads/2025/04/250616-Dynamis-positive-behaviour-interventions-5-days.jpeg
ORGANIZER;CN="Dynamis Training & Insight":MAILTO:info@dynamis.training
END:VEVENT
END:VCALENDAR