BEGIN:VCALENDAR
VERSION:2.0
PRODID:-//Louise Dawson Professional and Management Development Training - ECPv6.15.20//NONSGML v1.0//EN
CALSCALE:GREGORIAN
METHOD:PUBLISH
X-ORIGINAL-URL:https://louisedawson.com
X-WR-CALDESC:Events for Louise Dawson Professional and Management Development Training
REFRESH-INTERVAL;VALUE=DURATION:PT1H
X-Robots-Tag:noindex
X-PUBLISHED-TTL:PT1H
BEGIN:VTIMEZONE
TZID:Asia/Dubai
BEGIN:STANDARD
TZOFFSETFROM:+0400
TZOFFSETTO:+0400
TZNAME:+04
DTSTART:20240101T000000
END:STANDARD
END:VTIMEZONE
BEGIN:VEVENT
DTSTART;TZID=Asia/Dubai:20250409T090000
DTEND;TZID=Asia/Dubai:20250409T103000
DTSTAMP:20260425T204322
CREATED:20250207T094137Z
LAST-MODIFIED:20250207T094236Z
UID:10000047-1744189200-1744194600@louisedawson.com
SUMMARY:Parenting Series - Understanding divergent communication styles and knowing how to support them
DESCRIPTION:Equipping parents and caregivers with practical tools and deep insights into raising children and how to support their mental health and wellbeing. \nThis series of events is being run for parents by Insights Psychology DMCC. \nCost\n\n150 AED (+VAT) with an individual KHDA certificate\n100 AED (+VAT) without a certificate\n\nTo register please email email Insights Psychology or WhatsApp +971 56 266 0227. \n  \nPARENTING SERIES\nSCHEDULE\n  \n** Timings Subject to Change Depending on Ramadan Hours\n  \n  \n19 FEB\nFostering Independence and Resilience: Letting go of old patterns and making healthier habits\nNatalie Reed – Occupational Therapist \n  \n26 FEB\nCalm and Confident- Supporting my child with anxiety\nDr Niamh Grace – Clinical Psychologist \n  \n05 MARCH**\nEmpowering conversations; helping children and their families understand their neurodivergent identity\nDr Kate Kamson – Clinical Psychologist \n  \n12 MARCH**\nManaging screen time with confidence and care\nGrainne Boyle – Educational Psychologist & Dr Samir Pathan – Clinical Psychologist \n  \n19 MARCH**\nSchool refusal- understanding my child and working with the team around them\nDr Dina Bedair – Clinical Psychologist \n  \n09 APRIL\nUnderstanding divergent communication styles and knowing how to support them\nAnnabel Whitcombe – Speech and Language Therapist \n  \n16 APRIL\nMy child is neurodivergent\, maybe I am too?\nJacqui Lawson – Psychologist \n  \n23 APRIL\nUnderstanding sensory differences and how to support them\nMiriam l Mahdi – Occupational Therapist \n  \n30 APRIL\nHelping my child to develop positive relationships with peers\nDr. Leanne O’Brien. – Educational Psychologist \n  \n07 MAY\nSupporting families during big life transitions\nDr Dina Bedair – Clinical Psychologist \n  \n14 MAY\nReset and recharge-supporting regulation during breaks and when transitioning back to school.\nMiriam l Mahdi – Occupational Therapist \n  \nDisclaimer \nThis training is organised by an external organisation and Louise Dawson Professional Development and Management Training cannot accept any liability or responsibility for the content or quality of the training. \nPayment is made directly with the external training partner and any conversation about delivery of the training\, payment\, refunds\, etc should be addressed directly to the external company. \nIf you have concerns about any content of the training then please let us know so we can raise them with the training provider on behalf of all delegates/attendees.
URL:https://louisedawson.com/event/parenting-series-understanding-divergent-communication-styles-and-knowing-how-to-support-them/
CATEGORIES:External Training,Insights Psychology DMCC
ATTACH;FMTTYPE=image/png:https://louisedawson.com/wp-content/uploads/2025/02/Insights-parenting-series.png
ORGANIZER;CN="Insights Psychology":MAILTO:training@insightspsychology.com
END:VEVENT
BEGIN:VEVENT
DTSTART;TZID=Asia/Dubai:20250319T090000
DTEND;TZID=Asia/Dubai:20250319T103000
DTSTAMP:20260425T204322
CREATED:20250207T094020Z
LAST-MODIFIED:20250207T094020Z
UID:10000046-1742374800-1742380200@louisedawson.com
SUMMARY:Parenting Series - School refusal- understanding my child and working with the team around them
DESCRIPTION:Equipping parents and caregivers with practical tools and deep insights into raising children and how to support their mental health and wellbeing. \nThis series of events is being run for parents by Insights Psychology DMCC. \nCost\n\n150 AED (+VAT) with an individual KHDA certificate\n100 AED (+VAT) without a certificate\n\nTo register please email email Insights Psychology or WhatsApp +971 56 266 0227. \n  \nPARENTING SERIES\nSCHEDULE\n  \n** Timings Subject to Change Depending on Ramadan Hours\n  \n  \n19 FEB\nFostering Independence and Resilience: Letting go of old patterns and making healthier habits\nNatalie Reed – Occupational Therapist \n  \n26 FEB\nCalm and Confident- Supporting my child with anxiety\nDr Niamh Grace – Clinical Psychologist \n  \n05 MARCH**\nEmpowering conversations; helping children and their families understand their neurodivergent identity\nDr Kate Kamson – Clinical Psychologist \n  \n12 MARCH**\nManaging screen time with confidence and care\nGrainne Boyle – Educational Psychologist & Dr Samir Pathan – Clinical Psychologist \n  \n19 MARCH**\nSchool refusal- understanding my child and working with the team around them\nDr Dina Bedair – Clinical Psychologist \n  \n09 APRIL\nUnderstanding divergent communication styles and knowing how to support them\nAnnabel Whitcombe – Speech and Language Therapist \n  \n16 APRIL\nMy child is neurodivergent\, maybe I am too?\nJacqui Lawson – Psychologist \n  \n23 APRIL\nUnderstanding sensory differences and how to support them\nMiriam l Mahdi – Occupational Therapist \n  \n30 APRIL\nHelping my child to develop positive relationships with peers\nDr. Leanne O’Brien. – Educational Psychologist \n  \n07 MAY\nSupporting families during big life transitions\nDr Dina Bedair – Clinical Psychologist \n  \n14 MAY\nReset and recharge-supporting regulation during breaks and when transitioning back to school.\nMiriam l Mahdi – Occupational Therapist \n  \nDisclaimer \nThis training is organised by an external organisation and Louise Dawson Professional Development and Management Training cannot accept any liability or responsibility for the content or quality of the training. \nPayment is made directly with the external training partner and any conversation about delivery of the training\, payment\, refunds\, etc should be addressed directly to the external company. \nIf you have concerns about any content of the training then please let us know so we can raise them with the training provider on behalf of all delegates/attendees.
URL:https://louisedawson.com/event/parenting-series-school-refusal-understanding-my-child-and-working-with-the-team-around-them/
CATEGORIES:External Training,Insights Psychology DMCC
ATTACH;FMTTYPE=image/png:https://louisedawson.com/wp-content/uploads/2025/02/Insights-parenting-series.png
ORGANIZER;CN="Insights Psychology":MAILTO:training@insightspsychology.com
END:VEVENT
BEGIN:VEVENT
DTSTART;TZID=Asia/Dubai:20250312T090000
DTEND;TZID=Asia/Dubai:20250312T103000
DTSTAMP:20260425T204322
CREATED:20250207T093822Z
LAST-MODIFIED:20250207T093822Z
UID:10000045-1741770000-1741775400@louisedawson.com
SUMMARY:Parenting Series - Managing screen time with confidence and care
DESCRIPTION:Equipping parents and caregivers with practical tools and deep insights into raising children and how to support their mental health and wellbeing. \nThis series of events is being run for parents by Insights Psychology DMCC. \nCost\n\n150 AED (+VAT) with an individual KHDA certificate\n100 AED (+VAT) without a certificate\n\nTo register please email email Insights Psychology or WhatsApp +971 56 266 0227. \n  \nPARENTING SERIES\nSCHEDULE\n  \n** Timings Subject to Change Depending on Ramadan Hours\n  \n  \n19 FEB\nFostering Independence and Resilience: Letting go of old patterns and making healthier habits\nNatalie Reed – Occupational Therapist \n  \n26 FEB\nCalm and Confident- Supporting my child with anxiety\nDr Niamh Grace – Clinical Psychologist \n  \n05 MARCH**\nEmpowering conversations; helping children and their families understand their neurodivergent identity\nDr Kate Kamson – Clinical Psychologist \n  \n12 MARCH**\nManaging screen time with confidence and care\nGrainne Boyle – Educational Psychologist & Dr Samir Pathan – Clinical Psychologist \n  \n19 MARCH**\nSchool refusal- understanding my child and working with the team around them\nDr Dina Bedair – Clinical Psychologist \n  \n09 APRIL\nUnderstanding divergent communication styles and knowing how to support them\nAnnabel Whitcombe – Speech and Language Therapist \n  \n16 APRIL\nMy child is neurodivergent\, maybe I am too?\nJacqui Lawson – Psychologist \n  \n23 APRIL\nUnderstanding sensory differences and how to support them\nMiriam l Mahdi – Occupational Therapist \n  \n30 APRIL\nHelping my child to develop positive relationships with peers\nDr. Leanne O’Brien. – Educational Psychologist \n  \n07 MAY\nSupporting families during big life transitions\nDr Dina Bedair – Clinical Psychologist \n  \n14 MAY\nReset and recharge-supporting regulation during breaks and when transitioning back to school.\nMiriam l Mahdi – Occupational Therapist \n  \nDisclaimer \nThis training is organised by an external organisation and Louise Dawson Professional Development and Management Training cannot accept any liability or responsibility for the content or quality of the training. \nPayment is made directly with the external training partner and any conversation about delivery of the training\, payment\, refunds\, etc should be addressed directly to the external company. \nIf you have concerns about any content of the training then please let us know so we can raise them with the training provider on behalf of all delegates/attendees.
URL:https://louisedawson.com/event/parenting-series-managing-screen-time-with-confidence-and-care/
CATEGORIES:External Training,Insights Psychology DMCC
ATTACH;FMTTYPE=image/png:https://louisedawson.com/wp-content/uploads/2025/02/Insights-parenting-series.png
ORGANIZER;CN="Insights Psychology":MAILTO:training@insightspsychology.com
END:VEVENT
BEGIN:VEVENT
DTSTART;TZID=Asia/Dubai:20250305T090000
DTEND;TZID=Asia/Dubai:20250305T103000
DTSTAMP:20260425T204322
CREATED:20250207T093556Z
LAST-MODIFIED:20250207T093556Z
UID:10000044-1741165200-1741170600@louisedawson.com
SUMMARY:Parenting Series - Empowering conversations; helping children and their families understand their neurodivergent identity
DESCRIPTION:Equipping parents and caregivers with practical tools and deep insights into raising children and how to support their mental health and wellbeing. \nThis series of events is being run for parents by Insights Psychology DMCC. \nCost\n\n150 AED (+VAT) with an individual KHDA certificate\n100 AED (+VAT) without a certificate\n\nTo register please email email Insights Psychology or WhatsApp +971 56 266 0227. \n  \nPARENTING SERIES\nSCHEDULE\n  \n** Timings Subject to Change Depending on Ramadan Hours\n  \n  \n19 FEB\nFostering Independence and Resilience: Letting go of old patterns and making healthier habits\nNatalie Reed – Occupational Therapist \n  \n26 FEB\nCalm and Confident- Supporting my child with anxiety\nDr Niamh Grace – Clinical Psychologist \n  \n05 MARCH**\nEmpowering conversations; helping children and their families understand their neurodivergent identity\nDr Kate Kamson – Clinical Psychologist \n  \n12 MARCH**\nManaging screen time with confidence and care\nGrainne Boyle – Educational Psychologist & Dr Samir Pathan – Clinical Psychologist \n  \n19 MARCH**\nSchool refusal- understanding my child and working with the team around them\nDr Dina Bedair – Clinical Psychologist \n  \n09 APRIL\nUnderstanding divergent communication styles and knowing how to support them\nAnnabel Whitcombe – Speech and Language Therapist \n  \n16 APRIL\nMy child is neurodivergent\, maybe I am too?\nJacqui Lawson – Psychologist \n  \n23 APRIL\nUnderstanding sensory differences and how to support them\nMiriam l Mahdi – Occupational Therapist \n  \n30 APRIL\nHelping my child to develop positive relationships with peers\nDr. Leanne O’Brien. – Educational Psychologist \n  \n07 MAY\nSupporting families during big life transitions\nDr Dina Bedair – Clinical Psychologist \n  \n14 MAY\nReset and recharge-supporting regulation during breaks and when transitioning back to school.\nMiriam l Mahdi – Occupational Therapist \n  \nDisclaimer \nThis training is organised by an external organisation and Louise Dawson Professional Development and Management Training cannot accept any liability or responsibility for the content or quality of the training. \nPayment is made directly with the external training partner and any conversation about delivery of the training\, payment\, refunds\, etc should be addressed directly to the external company. \nIf you have concerns about any content of the training then please let us know so we can raise them with the training provider on behalf of all delegates/attendees.
URL:https://louisedawson.com/event/parenting-series-empowering-conversations-helping-children-and-their-families-understand-their-neurodivergent-identity/
CATEGORIES:External Training,Insights Psychology DMCC
ATTACH;FMTTYPE=image/png:https://louisedawson.com/wp-content/uploads/2025/02/Insights-parenting-series.png
ORGANIZER;CN="Insights Psychology":MAILTO:training@insightspsychology.com
END:VEVENT
BEGIN:VEVENT
DTSTART;TZID=Asia/Dubai:20250226T090000
DTEND;TZID=Asia/Dubai:20250226T103000
DTSTAMP:20260425T204322
CREATED:20250207T093358Z
LAST-MODIFIED:20250207T093723Z
UID:10000043-1740560400-1740565800@louisedawson.com
SUMMARY:Parenting Series - Calm and Confident- Supporting my child with anxiety
DESCRIPTION:Equipping parents and caregivers with practical tools and deep insights into raising children and how to support their mental health and wellbeing. \nThis series of events is being run for parents by Insights Psychology DMCC. \nCost\n\n150 AED (+VAT) with an individual KHDA certificate\n100 AED (+VAT) without a certificate\n\nTo register please email email Insights Psychology or WhatsApp +971 56 266 0227. \n  \nPARENTING SERIES\nSCHEDULE\n  \n** Timings Subject to Change Depending on Ramadan Hours\n  \n  \n19 FEB\nFostering Independence and Resilience: Letting go of old patterns and making healthier habits\nNatalie Reed – Occupational Therapist \n  \n26 FEB\nCalm and Confident- Supporting my child with anxiety\nDr Niamh Grace – Clinical Psychologist \n  \n05 MARCH**\nEmpowering conversations; helping children and their families understand their neurodivergent identity\nDr Kate Kamson – Clinical Psychologist \n  \n12 MARCH**\nManaging screen time with confidence and care\nGrainne Boyle – Educational Psychologist & Dr Samir Pathan – Clinical Psychologist \n  \n19 MARCH**\nSchool refusal- understanding my child and working with the team around them\nDr Dina Bedair – Clinical Psychologist \n  \n09 APRIL\nUnderstanding divergent communication styles and knowing how to support them\nAnnabel Whitcombe – Speech and Language Therapist \n  \n16 APRIL\nMy child is neurodivergent\, maybe I am too?\nJacqui Lawson – Psychologist \n  \n23 APRIL\nUnderstanding sensory differences and how to support them\nMiriam l Mahdi – Occupational Therapist \n  \n30 APRIL\nHelping my child to develop positive relationships with peers\nDr. Leanne O’Brien. – Educational Psychologist \n  \n07 MAY\nSupporting families during big life transitions\nDr Dina Bedair – Clinical Psychologist \n  \n14 MAY\nReset and recharge-supporting regulation during breaks and when transitioning back to school.\nMiriam l Mahdi – Occupational Therapist \n  \nDisclaimer \nThis training is organised by an external organisation and Louise Dawson Professional Development and Management Training cannot accept any liability or responsibility for the content or quality of the training. \nPayment is made directly with the external training partner and any conversation about delivery of the training\, payment\, refunds\, etc should be addressed directly to the external company. \nIf you have concerns about any content of the training then please let us know so we can raise them with the training provider on behalf of all delegates/attendees.
URL:https://louisedawson.com/event/parenting-series-calm-and-confident-supporting-my-child-with-anxiety/
CATEGORIES:External Training,Insights Psychology DMCC
ATTACH;FMTTYPE=image/png:https://louisedawson.com/wp-content/uploads/2025/02/Insights-parenting-series.png
ORGANIZER;CN="Insights Psychology":MAILTO:training@insightspsychology.com
END:VEVENT
BEGIN:VEVENT
DTSTART;TZID=Asia/Dubai:20250219T090000
DTEND;TZID=Asia/Dubai:20250219T103000
DTSTAMP:20260425T204322
CREATED:20250206T110117Z
LAST-MODIFIED:20250207T091924Z
UID:10000041-1739955600-1739961000@louisedawson.com
SUMMARY:Parenting Series - Fostering Independence and Resilience: Letting go of old patterns and making healthier habits
DESCRIPTION:Equipping parents and caregivers with practical tools and deep insights into raising children and how to support their mental health and wellbeing. \nThis series of events is being run for parents by Insights Psychology DMCC. \nCost\n\n150 AED (+VAT) with an individual KHDA certificate\n100 AED (+VAT) without a certificate\n\nTo register please email email Insights Psychology or WhatsApp +971 56 266 0227. \n  \nPARENTING SERIES\nSCHEDULE\n \n** Timings Subject to Change Depending on Ramadan Hours\n \n  \n19 FEB\nFostering Independence and Resilience: Letting go of old patterns and making healthier habits\nNatalie Reed – Occupational Therapist \n  \n26 FEB\nCalm and Confident- Supporting my child with anxiety\nDr Niamh Grace – Clinical Psychologist \n  \n05 MARCH**\nEmpowering conversations; helping children and their families understand their neurodivergent identity\nDr Kate Kamson – Clinical Psychologist \n  \n12 MARCH**\nManaging screen time with confidence and care\nGrainne Boyle – Educational Psychologist & Dr Samir Pathan – Clinical Psychologist \n  \n19 MARCH**\nSchool refusal- understanding my child and working with the team around them\nDr Dina Bedair – Clinical Psychologist \n  \n09 APRIL\nUnderstanding divergent communication styles and knowing how to support them\nAnnabel Whitcombe – Speech and Language Therapist \n  \n16 APRIL\nMy child is neurodivergent\, maybe I am too?\nJacqui Lawson – Psychologist \n  \n23 APRIL\nUnderstanding sensory differences and how to support them\nMiriam l Mahdi – Occupational Therapist \n  \n30 APRIL\nHelping my child to develop positive relationships with peers\nDr. Leanne O’Brien. – Educational Psychologist \n  \n07 MAY\nSupporting families during big life transitions\nDr Dina Bedair – Clinical Psychologist \n  \n14 MAY\nReset and recharge-supporting regulation during breaks and when transitioning back to school.\nMiriam l Mahdi – Occupational Therapist \n  \nDisclaimer \nThis training is organised by an external organisation and Louise Dawson Professional Development and Management Training cannot accept any liability or responsibility for the content or quality of the training. \nPayment is made directly with the external training partner and any conversation about delivery of the training\, payment\, refunds\, etc should be addressed directly to the external company. \nIf you have concerns about any content of the training then please let us know so we can raise them with the training provider on behalf of all delegates/attendees.
URL:https://louisedawson.com/event/parenting-series-fostering-independence-and-resilience-letting-go-of-old-patterns-and-making-healthier-habits/
CATEGORIES:External Training,Insights Psychology DMCC
ATTACH;FMTTYPE=image/png:https://louisedawson.com/wp-content/uploads/2025/02/Insights-parenting-series.png
ORGANIZER;CN="Insights Psychology":MAILTO:training@insightspsychology.com
END:VEVENT
END:VCALENDAR