BEGIN:VCALENDAR
VERSION:2.0
PRODID:-//Louise Dawson Professional and Management Development Training - ECPv6.15.20//NONSGML v1.0//EN
CALSCALE:GREGORIAN
METHOD:PUBLISH
X-ORIGINAL-URL:https://louisedawson.com
X-WR-CALDESC:Events for Louise Dawson Professional and Management Development Training
REFRESH-INTERVAL;VALUE=DURATION:PT1H
X-Robots-Tag:noindex
X-PUBLISHED-TTL:PT1H
BEGIN:VTIMEZONE
TZID:Asia/Dubai
BEGIN:STANDARD
TZOFFSETFROM:+0400
TZOFFSETTO:+0400
TZNAME:+04
DTSTART:20250101T000000
END:STANDARD
END:VTIMEZONE
BEGIN:VEVENT
DTSTART;TZID=Asia/Dubai:20260423T160000
DTEND;TZID=Asia/Dubai:20260423T170000
DTSTAMP:20260423T120045
CREATED:20260406T100523Z
LAST-MODIFIED:20260406T100700Z
UID:10000366-1776960000-1776963600@louisedawson.com
SUMMARY:FREE Webinar! "Insight to Impact: Using Data\, AI and Digital Tools to Power Progress Across the ELL Curriculum." A live webinar discussion with Britannica Education
DESCRIPTION:As international schools become more linguistically diverse\, the challenge is no longer just supporting learners – it’s defining and measuring real progress across the ELL curriculum. \nAlthough Al and digital tools offer powerful insights\, they don’t always provide clarity on what data truly matters. \nJoin us live as\, together with senior educators from across the globe\, we will be exploring: \n\nHow ELL progress is being assessed today\nWhere the current gaps lie\nHow technology can better support teaching and student outcomes\n\nThursday 23 April 2026 4pm UAE/GST \nSpeakers: \n\nAmanda Archbald\nJasmina Green\nKatia Reed\nKonstantia Varela\nMax Humpston\nLaura Liguori\n\nRegister here \nRegistration link: https://pages.britannicalearn.co.uk/insight-to-impact-sign-up \nDisclaimer \nThis training is organised by an external organisation and Louise Dawson Professional Development and Management Training cannot accept any liability or responsibility for the content or quality of the training. \nPayment is made directly with the external training partner and any conversation about delivery of the training\, payment\, refunds\, etc should be addressed directly to the external company. \nIf you have concerns about any content of the training then please let us know so we can raise them with the training provider on behalf of all delegates/attendees.
URL:https://louisedawson.com/event/free-webinar-insight-to-impact-using-data-ai-and-digital-tools-to-power-progress-across-the-ell-curriculum/
LOCATION:Webinar – FREE
CATEGORIES:EAL/ELL Network,English Network,External Training
ATTACH;FMTTYPE=image/jpeg:https://louisedawson.com/wp-content/uploads/2026/04/260423-britannia-education-insight-to-impact.jpeg
END:VEVENT
BEGIN:VEVENT
DTSTART;TZID=Asia/Dubai:20260428T190000
DTEND;TZID=Asia/Dubai:20260428T200000
DTSTAMP:20260423T120045
CREATED:20260422T090934Z
LAST-MODIFIED:20260422T091042Z
UID:10000383-1777402800-1777406400@louisedawson.com
SUMMARY:FREE! Exclusive Webinar! Visual Literacy with Widgit & Mighty Writer
DESCRIPTION:We’re excited to launch the first webinar in our brand-new partnership with Widgit – a collaboration built on one shared belief: \nWhen children can see language\, they can use language – and that leads to confident\, successful writing. \nJoin Lisa from Widgit and Emma from Mighty Writer for this powerful introductory session\, where we’ll show how Widgit symbols and Mighty Writer’s sentence‑building approach work together to strengthen: \n\nVocabulary and oral rehearsal\nSentence structure and accuracy\nTranscription foundations in Reception & KS1\nConfidence for SEND\, EAL and reluctant writers\nOverall independence and writing success\n\nThis practical\, classroom‑focused webinar walks you through the full visual‑to‑verbal learning journey: \nPicture → Symbols → Oral Sentence → Sentence Build → Writing \n  \nPlease share these details with your colleagues and LSAs and they can book easily via the Mighty Writer website. \n \nRegistration link: https://www.mightywriter.co.uk/webinars \nMore details about Mighty Writer here \nMore details about Widgit here \n  \nDisclaimer \nThis training is organised by an external organisation and Louise Dawson Professional Development and Management Training cannot accept any liability or responsibility for the content or quality of the training. \nPayment is made directly with the external training partner and any conversation about delivery of the training\, payment\, refunds\, etc should be addressed directly to the external company. \nIf you have concerns about any content of the training then please let us know so we can raise them with the training provider on behalf of all delegates/attendees.
URL:https://louisedawson.com/event/free-exclusive-webinar-visual-literacy-with-widgit-and-mighty-writer/
CATEGORIES:EAL/ELL Network,English Network,External Training,Inclusion Network
ATTACH;FMTTYPE=image/png:https://louisedawson.com/wp-content/uploads/2026/04/260428-Mighty-Writer-amd-widgit-webinar.png
LOCATION:https://louisedawson.com/event/free-exclusive-webinar-visual-literacy-with-widgit-and-mighty-writer/
END:VEVENT
BEGIN:VEVENT
DTSTART;TZID=Asia/Dubai:20260430T160000
DTEND;TZID=Asia/Dubai:20260430T173000
DTSTAMP:20260423T120045
CREATED:20260413T065357Z
LAST-MODIFIED:20260413T075721Z
UID:10000373-1777564800-1777570200@louisedawson.com
SUMMARY:FREE Webinar! 'Supporting Children Through Separation\, Divorce & Change' with The Happy Confident Company
DESCRIPTION:Join Nadim Saad\, parenting coach\, and CEO of The Happy Confident Company and three fantastic guests to explore how to support children through separation\, divorce and change. \nNadim will be joined by: \n\nHannah Strong – coach\, therapist\, and founder of ‘My Thriving Child’\nMarcie Shaoul – award winning founder of ‘The Co-Parent Way’\nDr. Angharad Rudkin – Clinical Psychologist\n\nYou will discover how to: \n✅ Understand & respond to children’s emotional reactions to separation & change\n✅ Talk to children about separation in age-appropriate\, reassuring ways\n✅ Reduce conflict and protect children from adult tensions\n✅ Navigate co-parenting while managing your own emotions & wellbeing \n  \nParents and carers can also join the FREE Happy Confident Club. \n  \n \nRegistration link to copy and paste into your browser\, or share:  https://club.happyconfident.com/events/supporting-children-through-separation-divorce-change?ref=partners-april-webinar26 \n  \nDisclaimer \nThis training is organised by an external organisation and Louise Dawson Professional Development and Management Training cannot accept any liability or responsibility for the content or quality of the training. \nPayment is made directly with the external training partner and any conversation about delivery of the training\, payment\, refunds\, etc should be addressed directly to the external company. \nIf you have concerns about any content of the training then please let us know so we can raise them with the training provider on behalf of all delegates/attendees.
URL:https://louisedawson.com/event/free-webinar-supporting-children-through-separation-divorce-and-change-with-the-happy-confident-company/
LOCATION:Webinar – FREE
CATEGORIES:External Training,Well Being Network
ATTACH;FMTTYPE=image/png:https://louisedawson.com/wp-content/uploads/2026/04/260430-Happy-Confident-webinar-supporting-children-through-change.png
END:VEVENT
BEGIN:VEVENT
DTSTART;TZID=Asia/Dubai:20260513T121500
DTEND;TZID=Asia/Dubai:20260513T130000
DTSTAMP:20260423T120045
CREATED:20251017T115125Z
LAST-MODIFIED:20251017T115125Z
UID:10000231-1778674500-1778677200@louisedawson.com
SUMMARY:FREE! High-Impact LSA Literacy Training with Mighty Writer - 13 May
DESCRIPTION:Teaching oracy and writing has never been more of a priority\, and with the new UK Department for Education (DfE) writing framework\, the demand for a clear\, evidence-based approach is greater than ever. \nWe know the work Learning Support Assistants (LSAs) undertake is vital in engaging and supporting pupils in the classroom. \nThis focused series of 10 webinars equips LSAs with practical tools to support oracy and writing across EYFS and Key Stages 1 & 2. \nEach session builds essential skills—from oral language and sentence construction to genre awareness and targeted interventions. \nThrough this series of webinars LSAs will: \n\nDevelop expertise in how to inspire creativity through talk and play\nScaffold sentence-building\, and apply techniques like oral rehearsal and vocabulary expansion\n\nBy the end of this series of webinars LSAs will feel confident to help pupils become expressive\, accurate\, and purposeful writers. \n  \nWebinar Dates And Topics\n\nWednesday 22nd October 2025 – Laying the Foundations: Building Oral Language for Writing Success\nWednesday 19th November 2025 – From Scribbles to Sentences: Supporting Early Writing in EYFS\nWednesday 10th December 2025 – Visuals\, Prompts & Physical Skills: Inspiring Writing Through Images\, Handwriting and Dictation\nWednesday 14th January 2026 – Scaffolding Sentence Construction in KS1\nWednesday 11th February 2026 – Oral Rehearsal That Works: Reducing Cognitive Load in Writing Tasks\nWednesday 18th March 2026 – Vocabulary Matters: Expanding Word Choice and Expression\nWednesday 15th April 2026 – Grammar in Action: Making Sentence Rules Stick\nWednesday 13th May 2026 – writing for Purpose: Helping Pupils Understand Genre and Audience\nWednesday 17th June 2026 – Tracking Progress with Confidence: Simple Tools for Meaningful Assessment\nWednesday 15th July 2026 – Targeted Interventions in KS2: Closing the Writing Gap\n\nThis is an opportunity for strategic investment in your staff and a powerful driver for school-wide improvement. \nBy equipping your LSAs with this training\, you will see: \n\nA direct impact on pupil attainment\nincreased confidence across your team\, and\nA more cohesive\, expert-led approach to the teaching of oracy and writing across your school.\n\n  \nPlease share these details with your LSAs and they can book easily via the Mighty Writer website – click here to book as many sessions as you like. \nRegistration link: https://www.mightywriter.co.uk/ta-webinars \nMore details about Mighty Writer here \n  \nDisclaimer \nThis training is organised by an external organisation and Louise Dawson Professional Development and Management Training cannot accept any liability or responsibility for the content or quality of the training. \nPayment is made directly with the external training partner and any conversation about delivery of the training\, payment\, refunds\, etc should be addressed directly to the external company. \nIf you have concerns about any content of the training then please let us know so we can raise them with the training provider on behalf of all delegates/attendees.
URL:https://louisedawson.com/event/free-high-impact-lsa-literacy-training-with-mighty-writer-13-may/
CATEGORIES:EAL/ELL Network,English Network,External Training
ATTACH;FMTTYPE=image/png:https://louisedawson.com/wp-content/uploads/2025/10/251022-Mighty-Writer-LSA-High-Impact-LSA-training-webinars-.png
LOCATION:https://louisedawson.com/event/free-high-impact-lsa-literacy-training-with-mighty-writer-13-may/
END:VEVENT
BEGIN:VEVENT
DTSTART;TZID=Asia/Dubai:20260604T153000
DTEND;TZID=Asia/Dubai:20260604T161500
DTSTAMP:20260423T120045
CREATED:20260420T110834Z
LAST-MODIFIED:20260420T113422Z
UID:10000380-1780587000-1780589700@louisedawson.com
SUMMARY:FREE! CPD Webinar - SEND: Are you delivering inclusive\, flexible learning? with Gaia Learning and Bloom
DESCRIPTION:Overview\nStruggling with SEND provision? Learn how to improve engagement\, create flexible pathways\, and evidence outcomes beyond attainment. \nMany schools are asking the same question: \nAre we truly delivering inclusive\, flexible learning or just adapting around the edges? \nThe most effective schools don’t retrofit SEND support.\nThey design systems that anticipate and adapt to need. \nThis session explores what that looks like in practice. \nLed by Kate from Gaia Learning\, this CPD will share practical insight into how schools are: \n\nimproving engagement across complex SEND and SEMH cohorts\nbuilding flexible pathways that adapt as needs change\nresponding in real time — not waiting for formal review cycles\njoining up SEND\, pastoral and academic insight\nevidencing progress beyond attainment (engagement\, wellbeing\, independence)\nensuring provision moves learners forward\, not keeps them in holding patterns\n\nThese principles are drawn from real delivery across schools\, not just theory. \n  \nAbout The Speaker\nKate Heath is the Founder and Managing Director of Gaia Learning\, working with schools\, MATs and Local Authorities to support learners who struggle to access education. Her work focuses on designing inclusive\, flexible provision that improves engagement and long-term outcomes. \n \nRegistration link: https://www.eventbrite.co.uk/e/webinar-are-you-delivering-inclusive-flexible-learning-tickets-1987772219217 \n  \nDisclaimer \nThis training is organised by an external organisation and Louise Dawson Professional Development and Management Training cannot accept any liability or responsibility for the content or quality of the training. \nPayment is made directly with the external training partner and any conversation about delivery of the training\, payment\, refunds\, etc should be addressed directly to the external company. \nIf you have concerns about any content of the training then please let us know so we can raise them with the training provider on behalf of all delegates/attendees.
URL:https://louisedawson.com/event/free-cpd-webinar-send-are-you-delivering-inclusive-flexible-learning-with-gaia-learning-and-bloom/
CATEGORIES:EAL/ELL Network,English Network,External Training,Inclusion Network,Well Being Network
ATTACH;FMTTYPE=image/jpeg:https://louisedawson.com/wp-content/uploads/2026/04/260604-gaia-learning.jpg
LOCATION:https://louisedawson.com/event/free-cpd-webinar-send-are-you-delivering-inclusive-flexible-learning-with-gaia-learning-and-bloom/
END:VEVENT
BEGIN:VEVENT
DTSTART;TZID=Asia/Dubai:20260617T121500
DTEND;TZID=Asia/Dubai:20260617T130000
DTSTAMP:20260423T120045
CREATED:20251017T115220Z
LAST-MODIFIED:20251017T115220Z
UID:10000232-1781698500-1781701200@louisedawson.com
SUMMARY:FREE! High-Impact LSA Literacy Training with Mighty Writer - 17 June
DESCRIPTION:Teaching oracy and writing has never been more of a priority\, and with the new UK Department for Education (DfE) writing framework\, the demand for a clear\, evidence-based approach is greater than ever. \nWe know the work Learning Support Assistants (LSAs) undertake is vital in engaging and supporting pupils in the classroom. \nThis focused series of 10 webinars equips LSAs with practical tools to support oracy and writing across EYFS and Key Stages 1 & 2. \nEach session builds essential skills—from oral language and sentence construction to genre awareness and targeted interventions. \nThrough this series of webinars LSAs will: \n\nDevelop expertise in how to inspire creativity through talk and play\nScaffold sentence-building\, and apply techniques like oral rehearsal and vocabulary expansion\n\nBy the end of this series of webinars LSAs will feel confident to help pupils become expressive\, accurate\, and purposeful writers. \n  \nWebinar Dates And Topics\n\nWednesday 22nd October 2025 – Laying the Foundations: Building Oral Language for Writing Success\nWednesday 19th November 2025 – From Scribbles to Sentences: Supporting Early Writing in EYFS\nWednesday 10th December 2025 – Visuals\, Prompts & Physical Skills: Inspiring Writing Through Images\, Handwriting and Dictation\nWednesday 14th January 2026 – Scaffolding Sentence Construction in KS1\nWednesday 11th February 2026 – Oral Rehearsal That Works: Reducing Cognitive Load in Writing Tasks\nWednesday 18th March 2026 – Vocabulary Matters: Expanding Word Choice and Expression\nWednesday 15th April 2026 – Grammar in Action: Making Sentence Rules Stick\nWednesday 13th May 2026 – writing for Purpose: Helping Pupils Understand Genre and Audience\nWednesday 17th June 2026 – Tracking Progress with Confidence: Simple Tools for Meaningful Assessment\nWednesday 15th July 2026 – Targeted Interventions in KS2: Closing the Writing Gap\n\nThis is an opportunity for strategic investment in your staff and a powerful driver for school-wide improvement. \nBy equipping your LSAs with this training\, you will see: \n\nA direct impact on pupil attainment\nincreased confidence across your team\, and\nA more cohesive\, expert-led approach to the teaching of oracy and writing across your school.\n\n  \nPlease share these details with your LSAs and they can book easily via the Mighty Writer website – click here to book as many sessions as you like. \nRegistration link: https://www.mightywriter.co.uk/ta-webinars \nMore details about Mighty Writer here \n  \nDisclaimer \nThis training is organised by an external organisation and Louise Dawson Professional Development and Management Training cannot accept any liability or responsibility for the content or quality of the training. \nPayment is made directly with the external training partner and any conversation about delivery of the training\, payment\, refunds\, etc should be addressed directly to the external company. \nIf you have concerns about any content of the training then please let us know so we can raise them with the training provider on behalf of all delegates/attendees.
URL:https://louisedawson.com/event/free-high-impact-lsa-literacy-training-with-mighty-writer-17-june/
CATEGORIES:EAL/ELL Network,English Network,External Training
ATTACH;FMTTYPE=image/png:https://louisedawson.com/wp-content/uploads/2025/10/251022-Mighty-Writer-LSA-High-Impact-LSA-training-webinars-.png
LOCATION:https://louisedawson.com/event/free-high-impact-lsa-literacy-training-with-mighty-writer-17-june/
END:VEVENT
BEGIN:VEVENT
DTSTART;TZID=Asia/Dubai:20260617T121500
DTEND;TZID=Asia/Dubai:20260617T130000
DTSTAMP:20260423T120045
CREATED:20251017T115316Z
LAST-MODIFIED:20251017T115316Z
UID:10000233-1781698500-1781701200@louisedawson.com
SUMMARY:FREE! High-Impact LSA Literacy Training with Mighty Writer - 15 July
DESCRIPTION:Teaching oracy and writing has never been more of a priority\, and with the new UK Department for Education (DfE) writing framework\, the demand for a clear\, evidence-based approach is greater than ever. \nWe know the work Learning Support Assistants (LSAs) undertake is vital in engaging and supporting pupils in the classroom. \nThis focused series of 10 webinars equips LSAs with practical tools to support oracy and writing across EYFS and Key Stages 1 & 2. \nEach session builds essential skills—from oral language and sentence construction to genre awareness and targeted interventions. \nThrough this series of webinars LSAs will: \n\nDevelop expertise in how to inspire creativity through talk and play\nScaffold sentence-building\, and apply techniques like oral rehearsal and vocabulary expansion\n\nBy the end of this series of webinars LSAs will feel confident to help pupils become expressive\, accurate\, and purposeful writers. \n  \nWebinar Dates And Topics\n\nWednesday 22nd October 2025 – Laying the Foundations: Building Oral Language for Writing Success\nWednesday 19th November 2025 – From Scribbles to Sentences: Supporting Early Writing in EYFS\nWednesday 10th December 2025 – Visuals\, Prompts & Physical Skills: Inspiring Writing Through Images\, Handwriting and Dictation\nWednesday 14th January 2026 – Scaffolding Sentence Construction in KS1\nWednesday 11th February 2026 – Oral Rehearsal That Works: Reducing Cognitive Load in Writing Tasks\nWednesday 18th March 2026 – Vocabulary Matters: Expanding Word Choice and Expression\nWednesday 15th April 2026 – Grammar in Action: Making Sentence Rules Stick\nWednesday 13th May 2026 – writing for Purpose: Helping Pupils Understand Genre and Audience\nWednesday 17th June 2026 – Tracking Progress with Confidence: Simple Tools for Meaningful Assessment\nWednesday 15th July 2026 – Targeted Interventions in KS2: Closing the Writing Gap\n\nThis is an opportunity for strategic investment in your staff and a powerful driver for school-wide improvement. \nBy equipping your LSAs with this training\, you will see: \n\nA direct impact on pupil attainment\nincreased confidence across your team\, and\nA more cohesive\, expert-led approach to the teaching of oracy and writing across your school.\n\n  \nPlease share these details with your LSAs and they can book easily via the Mighty Writer website – click here to book as many sessions as you like. \nRegistration link: https://www.mightywriter.co.uk/ta-webinars \nMore details about Mighty Writer here \n  \nDisclaimer \nThis training is organised by an external organisation and Louise Dawson Professional Development and Management Training cannot accept any liability or responsibility for the content or quality of the training. \nPayment is made directly with the external training partner and any conversation about delivery of the training\, payment\, refunds\, etc should be addressed directly to the external company. \nIf you have concerns about any content of the training then please let us know so we can raise them with the training provider on behalf of all delegates/attendees.
URL:https://louisedawson.com/event/free-high-impact-lsa-literacy-training-with-mighty-writer-15-july/
CATEGORIES:EAL/ELL Network,English Network,External Training
ATTACH;FMTTYPE=image/png:https://louisedawson.com/wp-content/uploads/2025/10/251022-Mighty-Writer-LSA-High-Impact-LSA-training-webinars-.png
LOCATION:https://louisedawson.com/event/free-high-impact-lsa-literacy-training-with-mighty-writer-15-july/
END:VEVENT
END:VCALENDAR