BEGIN:VCALENDAR
VERSION:2.0
PRODID:-//Louise Dawson Professional and Management Development Training - ECPv6.15.20//NONSGML v1.0//EN
CALSCALE:GREGORIAN
METHOD:PUBLISH
X-ORIGINAL-URL:https://louisedawson.com
X-WR-CALDESC:Events for Louise Dawson Professional and Management Development Training
REFRESH-INTERVAL;VALUE=DURATION:PT1H
X-Robots-Tag:noindex
X-PUBLISHED-TTL:PT1H
BEGIN:VTIMEZONE
TZID:Asia/Dubai
BEGIN:STANDARD
TZOFFSETFROM:+0400
TZOFFSETTO:+0400
TZNAME:+04
DTSTART:20250101T000000
END:STANDARD
END:VTIMEZONE
BEGIN:VEVENT
DTSTART;TZID=Asia/Dubai:20260423T160000
DTEND;TZID=Asia/Dubai:20260423T170000
DTSTAMP:20260423T132335
CREATED:20260406T100523Z
LAST-MODIFIED:20260406T100700Z
UID:10000366-1776960000-1776963600@louisedawson.com
SUMMARY:FREE Webinar! "Insight to Impact: Using Data\, AI and Digital Tools to Power Progress Across the ELL Curriculum." A live webinar discussion with Britannica Education
DESCRIPTION:As international schools become more linguistically diverse\, the challenge is no longer just supporting learners – it’s defining and measuring real progress across the ELL curriculum. \nAlthough Al and digital tools offer powerful insights\, they don’t always provide clarity on what data truly matters. \nJoin us live as\, together with senior educators from across the globe\, we will be exploring: \n\nHow ELL progress is being assessed today\nWhere the current gaps lie\nHow technology can better support teaching and student outcomes\n\nThursday 23 April 2026 4pm UAE/GST \nSpeakers: \n\nAmanda Archbald\nJasmina Green\nKatia Reed\nKonstantia Varela\nMax Humpston\nLaura Liguori\n\nRegister here \nRegistration link: https://pages.britannicalearn.co.uk/insight-to-impact-sign-up \nDisclaimer \nThis training is organised by an external organisation and Louise Dawson Professional Development and Management Training cannot accept any liability or responsibility for the content or quality of the training. \nPayment is made directly with the external training partner and any conversation about delivery of the training\, payment\, refunds\, etc should be addressed directly to the external company. \nIf you have concerns about any content of the training then please let us know so we can raise them with the training provider on behalf of all delegates/attendees.
URL:https://louisedawson.com/event/free-webinar-insight-to-impact-using-data-ai-and-digital-tools-to-power-progress-across-the-ell-curriculum/
LOCATION:Webinar – FREE
CATEGORIES:EAL/ELL Network,English Network,External Training
ATTACH;FMTTYPE=image/jpeg:https://louisedawson.com/wp-content/uploads/2026/04/260423-britannia-education-insight-to-impact.jpeg
END:VEVENT
END:VCALENDAR