BEGIN:VCALENDAR
VERSION:2.0
PRODID:-//Louise Dawson Professional and Management Development Training - ECPv6.15.20//NONSGML v1.0//EN
CALSCALE:GREGORIAN
METHOD:PUBLISH
X-WR-CALNAME:Louise Dawson Professional and Management Development Training
X-ORIGINAL-URL:https://louisedawson.com
X-WR-CALDESC:Events for Louise Dawson Professional and Management Development Training
REFRESH-INTERVAL;VALUE=DURATION:PT1H
X-Robots-Tag:noindex
X-PUBLISHED-TTL:PT1H
BEGIN:VTIMEZONE
TZID:Asia/Dubai
BEGIN:STANDARD
TZOFFSETFROM:+0400
TZOFFSETTO:+0400
TZNAME:+04
DTSTART:20250101T000000
END:STANDARD
END:VTIMEZONE
BEGIN:VEVENT
DTSTART;TZID=Asia/Dubai:20260512T160000
DTEND;TZID=Asia/Dubai:20260512T163000
DTSTAMP:20260425T160114
CREATED:20260423T144614Z
LAST-MODIFIED:20260423T150548Z
UID:10000385-1778601600-1778603400@louisedawson.com
SUMMARY:FREE webinar! The Impact of Stress and Uncertainty: How to support ourselves\, children and young people
DESCRIPTION:Join our Jigsaw webinar ‘The Impact of Stress and Uncertainty: How to support ourselves\, children and young people’\, led by Alex Phoenix\, Training Consultant at KCA Training \nIn this short session we look at what science and research tells us about stress and uncertainty and how it affects all of us\, how there are differences in levels of stress and how our own past experiences affect how we feel stress. \nUncertainty causes stress\, this is because the human brain is wired to crave predictability and certainty for survival\, uncertainty and ambiguity is therefore felt as a threat to safety.  How our brains and nervous systems respond to that stress is an individual process\, but it affects the ways in which we interact with others and the world around us. \nThroughout this session we will look at practical examples of what we can do to support ourselves through times of uncertainty and stress\, ways in which we can help our brains and nervous systems to cope. We will also look at what we can do to support the children and young people that we work with\, practical examples that help us to help them to cope during uncertainty and stressful times. \nThe aims of this session are: \n\nThe science of the impact of stress\nThe science and understanding of uncertainty and its impact\nHow these both affect how we interact with each other and the world around us\nSome examples of what we can do to support ourselves during these times\nSome examples of how we can support children and young people during these times \n\nThis session will include a 10 minute Q&A section for participants \n \nFor more information on Jigsaw Education here \n  \nDisclaimer \nThis training is organised by an external organisation and Louise Dawson Professional Development and Management Training cannot accept any liability or responsibility for the content or quality of the training. \nPayment is made directly with the external training partner and any conversation about delivery of the training\, payment\, refunds\, etc should be addressed directly to the external company. \nIf you have concerns about any content of the training then please let us know so we can raise them with the training provider on behalf of all delegates/attendees.
URL:https://louisedawson.com/event/free-webinar-the-impact-of-stress-and-uncertainty-how-to-support-ourselves-children-and-young-people/
CATEGORIES:External Training,Inclusion Network,Well Being Network
ATTACH;FMTTYPE=image/png:https://louisedawson.com/wp-content/uploads/2026/04/260512-jigsaw-webinar.png
LOCATION:https://louisedawson.com/event/free-webinar-the-impact-of-stress-and-uncertainty-how-to-support-ourselves-children-and-young-people/
END:VEVENT
BEGIN:VEVENT
DTSTART;TZID=Asia/Dubai:20260513T121500
DTEND;TZID=Asia/Dubai:20260513T130000
DTSTAMP:20260425T160114
CREATED:20251017T115125Z
LAST-MODIFIED:20251017T115125Z
UID:10000231-1778674500-1778677200@louisedawson.com
SUMMARY:FREE! High-Impact LSA Literacy Training with Mighty Writer - 13 May
DESCRIPTION:Teaching oracy and writing has never been more of a priority\, and with the new UK Department for Education (DfE) writing framework\, the demand for a clear\, evidence-based approach is greater than ever. \nWe know the work Learning Support Assistants (LSAs) undertake is vital in engaging and supporting pupils in the classroom. \nThis focused series of 10 webinars equips LSAs with practical tools to support oracy and writing across EYFS and Key Stages 1 & 2. \nEach session builds essential skills—from oral language and sentence construction to genre awareness and targeted interventions. \nThrough this series of webinars LSAs will: \n\nDevelop expertise in how to inspire creativity through talk and play\nScaffold sentence-building\, and apply techniques like oral rehearsal and vocabulary expansion\n\nBy the end of this series of webinars LSAs will feel confident to help pupils become expressive\, accurate\, and purposeful writers. \n  \nWebinar Dates And Topics\n\nWednesday 22nd October 2025 – Laying the Foundations: Building Oral Language for Writing Success\nWednesday 19th November 2025 – From Scribbles to Sentences: Supporting Early Writing in EYFS\nWednesday 10th December 2025 – Visuals\, Prompts & Physical Skills: Inspiring Writing Through Images\, Handwriting and Dictation\nWednesday 14th January 2026 – Scaffolding Sentence Construction in KS1\nWednesday 11th February 2026 – Oral Rehearsal That Works: Reducing Cognitive Load in Writing Tasks\nWednesday 18th March 2026 – Vocabulary Matters: Expanding Word Choice and Expression\nWednesday 15th April 2026 – Grammar in Action: Making Sentence Rules Stick\nWednesday 13th May 2026 – writing for Purpose: Helping Pupils Understand Genre and Audience\nWednesday 17th June 2026 – Tracking Progress with Confidence: Simple Tools for Meaningful Assessment\nWednesday 15th July 2026 – Targeted Interventions in KS2: Closing the Writing Gap\n\nThis is an opportunity for strategic investment in your staff and a powerful driver for school-wide improvement. \nBy equipping your LSAs with this training\, you will see: \n\nA direct impact on pupil attainment\nincreased confidence across your team\, and\nA more cohesive\, expert-led approach to the teaching of oracy and writing across your school.\n\n  \nPlease share these details with your LSAs and they can book easily via the Mighty Writer website – click here to book as many sessions as you like. \nRegistration link: https://www.mightywriter.co.uk/ta-webinars \nMore details about Mighty Writer here \n  \nDisclaimer \nThis training is organised by an external organisation and Louise Dawson Professional Development and Management Training cannot accept any liability or responsibility for the content or quality of the training. \nPayment is made directly with the external training partner and any conversation about delivery of the training\, payment\, refunds\, etc should be addressed directly to the external company. \nIf you have concerns about any content of the training then please let us know so we can raise them with the training provider on behalf of all delegates/attendees.
URL:https://louisedawson.com/event/free-high-impact-lsa-literacy-training-with-mighty-writer-13-may/
CATEGORIES:EAL/ELL Network,English Network,External Training
ATTACH;FMTTYPE=image/png:https://louisedawson.com/wp-content/uploads/2025/10/251022-Mighty-Writer-LSA-High-Impact-LSA-training-webinars-.png
LOCATION:https://louisedawson.com/event/free-high-impact-lsa-literacy-training-with-mighty-writer-13-may/
END:VEVENT
END:VCALENDAR