BEGIN:VCALENDAR
VERSION:2.0
PRODID:-//Louise Dawson Professional and Management Development Training - ECPv6.15.20//NONSGML v1.0//EN
CALSCALE:GREGORIAN
METHOD:PUBLISH
X-WR-CALNAME:Louise Dawson Professional and Management Development Training
X-ORIGINAL-URL:https://louisedawson.com
X-WR-CALDESC:Events for Louise Dawson Professional and Management Development Training
REFRESH-INTERVAL;VALUE=DURATION:PT1H
X-Robots-Tag:noindex
X-PUBLISHED-TTL:PT1H
BEGIN:VTIMEZONE
TZID:Asia/Dubai
BEGIN:STANDARD
TZOFFSETFROM:+0400
TZOFFSETTO:+0400
TZNAME:+04
DTSTART:20250101T000000
END:STANDARD
END:VTIMEZONE
BEGIN:VTIMEZONE
TZID:Europe/London
BEGIN:DAYLIGHT
TZOFFSETFROM:+0000
TZOFFSETTO:+0100
TZNAME:BST
DTSTART:20250330T010000
END:DAYLIGHT
BEGIN:STANDARD
TZOFFSETFROM:+0100
TZOFFSETTO:+0000
TZNAME:GMT
DTSTART:20251026T010000
END:STANDARD
BEGIN:DAYLIGHT
TZOFFSETFROM:+0000
TZOFFSETTO:+0100
TZNAME:BST
DTSTART:20260329T010000
END:DAYLIGHT
BEGIN:STANDARD
TZOFFSETFROM:+0100
TZOFFSETTO:+0000
TZNAME:GMT
DTSTART:20261025T010000
END:STANDARD
BEGIN:DAYLIGHT
TZOFFSETFROM:+0000
TZOFFSETTO:+0100
TZNAME:BST
DTSTART:20270328T010000
END:DAYLIGHT
BEGIN:STANDARD
TZOFFSETFROM:+0100
TZOFFSETTO:+0000
TZNAME:GMT
DTSTART:20271031T010000
END:STANDARD
END:VTIMEZONE
BEGIN:VEVENT
DTSTART;TZID=Asia/Dubai:20260414T090000
DTEND;TZID=Asia/Dubai:20260414T103000
DTSTAMP:20260425T172829
CREATED:20260412T114326Z
LAST-MODIFIED:20260412T115546Z
UID:10000371-1776157200-1776162600@louisedawson.com
SUMMARY:Online Event - Therapy By Insights - EMDR Group Therapy For School Counsellors
DESCRIPTION:School counsellors across the UAE are carrying increasing emotional and psychological demands in their roles. \nAt Insights Psychology\, we are committed to supporting you with practical tools\, professional learning\, and space to regulate and reset. \nThis April\, we are offering two dedicated opportunities designed specifically for school counsellors. \nThis guided\, supportive group designed to help you regulate your nervous system and process ongoing stress. \nEMDR (Eye Movement Desensitisation and Reprocessing) is an evidence-based approach that supports: \n\nProcessing distressing experiences\nReducing emotional overwhelm\nIncreasing capacity to support others\n\nSession details: \n\n90-minute group session\nNo requirement to share personal details\nDelivered by EMDR-trained Clinical Psychologists\n\nThis initiative will be led by Dr Dina Bedair\, Clinical Director at Therapy by Insights and Director of Mental Health Services at Insights Psychology\, and supported by additional EMDR-trained practitioners within the team. \nAvailable sessions: \n\nMonday 13th April | 8:00–9:30am (In person – Production City)\nTuesday 14th April | 9:00–10:30am (Online)\nTuesday 14th April | 2:00–3:30pm (In person – Production City)\nThursday 16th April | 3:00–4:30pm (Online)\n\n\n 100 AED per person\n Limited to 10 participants per group\n  \nFor more details and to register \n \n  \nRegistration link to share or copy and paste into your browser: https://insightspsychology.com/product/emdr-group-therapy-for-school-counsellors/ \n  \nDisclaimer \nThis training is organised by an external organisation and Louise Dawson Professional Development and Management Training cannot accept any liability or responsibility for the content or quality of the training. \nPayment is made directly with the external training partner and any conversation about delivery of the training\, payment\, refunds\, etc should be addressed directly to the external company. \nIf you have concerns about any content of the training then please let us know so we can raise them with the training provider on behalf of all delegates/attendees.
URL:https://louisedawson.com/event/online-event-therapy-by-insights-emdr-group-therapy-for-school-counsellors-14-april-26/
CATEGORIES:External Training,Well Being Network
ATTACH;FMTTYPE=image/png:https://louisedawson.com/wp-content/uploads/2026/04/260413-therapy-by-isnights-emdr-sessions.png
ORGANIZER;CN="Insights Psychology":MAILTO:training@insightspsychology.com
LOCATION:
END:VEVENT
BEGIN:VEVENT
DTSTART;TZID=Europe/London:20260414T140000
DTEND;TZID=Europe/London:20260414T150000
DTSTAMP:20260425T172829
CREATED:20260226T100933Z
LAST-MODIFIED:20260321T161122Z
UID:10000343-1776175200-1776178800@louisedawson.com
SUMMARY:FREE! Literacy For All Event (virtual) - 14 April 2026
DESCRIPTION:Back by popular demand.\nLiteracy for All: A 360° Approach to Leading Reading\, Writing and Inclusion\nAcross classrooms in the Middle East\, literacy leads are being asked to raise standards\, drive outcomes\, and close gaps – often in the face of growing complexity. \nFrom early readers to reluctant writers\, multilingual learners to those pupils of determination\, the challenge is clear: how do we build a literacy strategy that works for everyone? \nIn this introductory session you will hear from four leading organisations to offer a 360° view of inclusive literacy that’s practical\, powerful and proven to make a difference: \n\nEverway\nWidgit\nPobble Education\nLexonic\n\n  \nYou’ll leave with some easy-to-implement ideas as well as instructions on how you can join a longer session from each of the organisations. \nWe are running the same session on two consecutive days. \nChoose the session that works best for you. \n\n Monday 13th April or Tuesday 14th April \n 2–3pm GST \n  \n\nRegister here – https://us02web.zoom.us/webinar/register/8017736799441/WN_gf6nnDCFQAS7xTP6_GuZiQ#/registration\n  \n  \nDisclaimer \nThis training is organised by an external organisation and Louise Dawson Professional Development and Management Training cannot accept any liability or responsibility for the content or quality of the training. \nPayment is made directly with the external training partner and any conversation about delivery of the training\, payment\, refunds\, etc should be addressed directly to the external company. \nIf you have concerns about any content of the training then please let us know so we can raise them with the training provider on behalf of all delegates/attendees.
URL:https://louisedawson.com/event/free-literacy-for-all-event-abu-dhabi-april-2026/
CATEGORIES:EAL/ELL Network,English Network,External Training,Inclusion Network,Well Being Network
ATTACH;FMTTYPE=image/png:https://louisedawson.com/wp-content/uploads/2026/02/260413-updated-Literacy-360-event-virtual.png
LOCATION:
END:VEVENT
BEGIN:VEVENT
DTSTART;TZID=Asia/Dubai:20260414T140000
DTEND;TZID=Asia/Dubai:20260414T153000
DTSTAMP:20260425T172829
CREATED:20260412T114133Z
LAST-MODIFIED:20260412T114834Z
UID:10000370-1776175200-1776180600@louisedawson.com
SUMMARY:In Person Event - Therapy By Insights - EMDR Group Therapy For School Counsellors 14 April '26
DESCRIPTION:School counsellors across the UAE are carrying increasing emotional and psychological demands in their roles. \nAt Insights Psychology\, we are committed to supporting you with practical tools\, professional learning\, and space to regulate and reset. \nThis April\, we are offering two dedicated opportunities designed specifically for school counsellors. \nThis guided\, supportive group designed to help you regulate your nervous system and process ongoing stress. \nEMDR (Eye Movement Desensitisation and Reprocessing) is an evidence-based approach that supports: \n\nProcessing distressing experiences\nReducing emotional overwhelm\nIncreasing capacity to support others\n\nSession details: \n\n90-minute group session\nNo requirement to share personal details\nDelivered by EMDR-trained Clinical Psychologists\n\nThis initiative will be led by Dr Dina Bedair\, Clinical Director at Therapy by Insights and Director of Mental Health Services at Insights Psychology\, and supported by additional EMDR-trained practitioners within the team. \nAvailable sessions: \n\nMonday 13th April | 8:00–9:30am (In person – Production City)\nTuesday 14th April | 9:00–10:30am (Online)\nTuesday 14th April | 2:00–3:30pm (In person – Production City)\nThursday 16th April | 3:00–4:30pm (Online)\n\n\n 100 AED per person\n Limited to 10 participants per group\n  \nFor more details and to register \n \n  \nRegistration link to share or copy and paste into your browser: https://insightspsychology.com/product/emdr-group-therapy-for-school-counsellors/ \n  \nDisclaimer \nThis training is organised by an external organisation and Louise Dawson Professional Development and Management Training cannot accept any liability or responsibility for the content or quality of the training. \nPayment is made directly with the external training partner and any conversation about delivery of the training\, payment\, refunds\, etc should be addressed directly to the external company. \nIf you have concerns about any content of the training then please let us know so we can raise them with the training provider on behalf of all delegates/attendees.
URL:https://louisedawson.com/event/in-person-event-therapy-by-insights-emdr-group-therapy-for-school-counsellors-14-april-26/
LOCATION:Therapy By Insights\, 201 Galadari Office Building B16\, Production City\, Dubai\, United Arab Emirates
CATEGORIES:External Training,Well Being Network
ATTACH;FMTTYPE=image/png:https://louisedawson.com/wp-content/uploads/2026/04/260413-therapy-by-isnights-emdr-sessions.png
ORGANIZER;CN="Insights Psychology":MAILTO:training@insightspsychology.com
END:VEVENT
BEGIN:VEVENT
DTSTART;TZID=Asia/Dubai:20260414T153000
DTEND;TZID=Asia/Dubai:20260414T163000
DTSTAMP:20260425T172829
CREATED:20260409T121101Z
LAST-MODIFIED:20260409T121101Z
UID:10000368-1776180600-1776184200@louisedawson.com
SUMMARY:FREE Webinar! 'Q&A: Borrow My Calm - The Science of Co-Regulation' with The Happy Confident Company
DESCRIPTION:Dr. Pippa Busch explores the neuroscience of co-regulation: \n✅ Why children “borrow” our nervous systems\n✅ How dysregulation spreads\n✅ What to do in the moment when emotions run high. \nWhen children feel overwhelmed\, they don’t need better behaviour charts\, they need regulated adults. \nYou’ll learn practical tools to reduce escalation and build long-term emotional resilience at home. \n  \n \n\n\nRegistration link:  https://bit.ly/QA_APRIL_LD \n  \nDisclaimer \nThis training is organised by an external organisation and Louise Dawson Professional Development and Management Training cannot accept any liability or responsibility for the content or quality of the training. \nPayment is made directly with the external training partner and any conversation about delivery of the training\, payment\, refunds\, etc should be addressed directly to the external company. \nIf you have concerns about any content of the training then please let us know so we can raise them with the training provider on behalf of all delegates/attendees.
URL:https://louisedawson.com/event/free-webinar-q-and-a-borrow-my-calm-the-science-of-co-regulation-with-the-happy-confident-company/
LOCATION:Webinar – FREE
CATEGORIES:External Training,Well Being Network
ATTACH;FMTTYPE=image/png:https://louisedawson.com/wp-content/uploads/2026/04/260414-Happy-Confident-Q-and-A-session.png
END:VEVENT
END:VCALENDAR