BEGIN:VCALENDAR
VERSION:2.0
PRODID:-//Louise Dawson Professional and Management Development Training - ECPv6.15.20//NONSGML v1.0//EN
CALSCALE:GREGORIAN
METHOD:PUBLISH
X-ORIGINAL-URL:https://louisedawson.com
X-WR-CALDESC:Events for Louise Dawson Professional and Management Development Training
REFRESH-INTERVAL;VALUE=DURATION:PT1H
X-Robots-Tag:noindex
X-PUBLISHED-TTL:PT1H
BEGIN:VTIMEZONE
TZID:Asia/Dubai
BEGIN:STANDARD
TZOFFSETFROM:+0400
TZOFFSETTO:+0400
TZNAME:+04
DTSTART:20240101T000000
END:STANDARD
END:VTIMEZONE
BEGIN:VEVENT
DTSTART;TZID=Asia/Dubai:20251114T090000
DTEND;TZID=Asia/Dubai:20251114T110000
DTSTAMP:20260425T202919
CREATED:20250827T221525Z
LAST-MODIFIED:20251111T173410Z
UID:10000130-1763110800-1763118000@louisedawson.com
SUMMARY:FREE! EAL/ELL Network Meeting - November 2025
DESCRIPTION:People planning to attend the EAL Network event are asked to register for the FlashAcademy EAL conference which will be running at the time the EAL network meeting was planned for (finishing at 2pm\, with lunch and networking time included) – full details here \nRegistration link: https://louisedawson.com/event/eal-with-flashacademy-conference-in-dubai-november-2025/ \n🫖☕ Tea\, coffee and light refreshments will be provided. 🍥🥐 \n  \nDisclaimer \nThis training is organised by an external organisation and Louise Dawson Professional Development and Management Training cannot accept any liability or responsibility for the content or quality of the training. \nPayment is made directly with the external training partner and any conversation about delivery of the training\, payment\, refunds\, etc should be addressed directly to the external company. \nIf you have concerns about any content of the training then please let us know so we can raise them with the training provider on behalf of all delegates/attendees.
URL:https://louisedawson.com/event/free-eal-ell-network-meeting-november-2025/
LOCATION:Louise Dawson Professional and Management Development\, United Arab Emirates
CATEGORIES:EAL/ELL Network
ATTACH;FMTTYPE=image/png:https://louisedawson.com/wp-content/uploads/2025/08/251114-EAL-network-meeting.png
END:VEVENT
BEGIN:VEVENT
DTSTART;TZID=Asia/Dubai:20251114T090000
DTEND;TZID=Asia/Dubai:20251114T140000
DTSTAMP:20260425T202919
CREATED:20251103T140758Z
LAST-MODIFIED:20251103T141302Z
UID:10000241-1763110800-1763128800@louisedawson.com
SUMMARY:FREE! EAL With FlashAcademy Conference in Dubai - November 2025
DESCRIPTION:Improving outcomes for multilingual learners\nA free in-person conference hosted at the Louise Dawson centre in Dubai Friday 14th November 2025 from 9am \nJoin us in Dubai for an in-person conference dedicated to exploring the best ways to support multilingual learners both inside and outside the classroom. \nThis event will bring together educators\, school leaders\, and practitioners from across the region to share insights\, strategies\, and whole school approaches that ensure every learner feels included\, supported\, and able to thrive. \n\nFREE in-person event with refreshments and lunch.\nInspiring speakers from schools across Dubai\, alongside experts from FlashAcademy® and other leading organisations championing inclusion and learner wellbeing\nPractical strategies for supporting multilingual learners in the classroom\nApproaches to nurturing wellbeing and inclusion\nOpportunities to network and share best practice with colleagues\n\nClick Here to book your space at this event.
URL:https://louisedawson.com/event/eal-with-flashacademy-conference-in-dubai-november-2025/
LOCATION:Louise Dawson Professional and Management Development\, United Arab Emirates
CATEGORIES:EAL/ELL Network,Network Meetings
ATTACH;FMTTYPE=image/png:https://louisedawson.com/wp-content/uploads/2025/11/251114-FlashAcademy-Dubai-ELL-Conference.png
END:VEVENT
END:VCALENDAR