BEGIN:VCALENDAR
VERSION:2.0
PRODID:-//Louise Dawson Professional and Management Development Training - ECPv6.15.20//NONSGML v1.0//EN
CALSCALE:GREGORIAN
METHOD:PUBLISH
X-ORIGINAL-URL:https://louisedawson.com
X-WR-CALDESC:Events for Louise Dawson Professional and Management Development Training
REFRESH-INTERVAL;VALUE=DURATION:PT1H
X-Robots-Tag:noindex
X-PUBLISHED-TTL:PT1H
BEGIN:VTIMEZONE
TZID:Asia/Dubai
BEGIN:STANDARD
TZOFFSETFROM:+0400
TZOFFSETTO:+0400
TZNAME:+04
DTSTART:20240101T000000
END:STANDARD
END:VTIMEZONE
BEGIN:VEVENT
DTSTART;TZID=Asia/Dubai:20251201T200000
DTEND;TZID=Asia/Dubai:20251201T204500
DTSTAMP:20260425T191245
CREATED:20251016T122220Z
LAST-MODIFIED:20251020T103553Z
UID:10000222-1764619200-1764621900@louisedawson.com
SUMMARY:FREE! Mighty Writer CPD webinar “Developing Independent Writers in KS1" 1st December 2025
DESCRIPTION:Stay current with Mighty Writer’s literacy CPD webinar series. \nIndependence in writing doesn’t just happen. It’s something we teach\, nurture\, and model. When we empower children to write with confidence and ownership\, we’re not just building their literacy skills – we’re building thinkers\, communicators\, and future learners. \nIt is crucial that the main objective when teaching writing is that children become independent writers – motivated and able to apply their learning accurately. Developing independent writers is a process which is started right from the beginning of a child’s time in school and requires a well thought through approach which involves sensitive teaching and an excellent understanding of how children learn and their needs. \nThis webinar is 45-minutes\, with 30-minutes of discussions and 15-minutes of Q&A. \nWe hope you can join us\, or please do pass on to a colleague. We will also send you a CPD certificate of completion and a recording to those who register. \nPlease register here for this opportunity to share best practice. \n🔊 Speaker: Emma Ralph\, Founder\, Mighty Writer. \n✨ Emma Ralph is a highly experienced teacher and Assistant Head with a flair for helping children to maximise their abilities. \n✨ Emma developed the highly-acclaimed literacy resource\, Mighty Writer\, which was launched at The Education Show in 2016. \nRegistration link: https://events.teams.microsoft.com/event/17e430d3-43c6-49e5-9eec-eb1d994db566@8ac6952a-ef26-4118-b781-35d616360bfc \n  \nDisclaimer \nThis training is organised by an external organisation and Louise Dawson Professional Development and Management Training cannot accept any liability or responsibility for the content or quality of the training. \nPayment is made directly with the external training partner and any conversation about delivery of the training\, payment\, refunds\, etc should be addressed directly to the external company. \nIf you have concerns about any content of the training then please let us know so we can raise them with the training provider on behalf of all delegates/attendees.
URL:https://louisedawson.com/event/free-mighty-writer-cpd-webinar-developing-independent-writers-in-ks1-1st-december-2025/
CATEGORIES:EAL/ELL Network,English Network,External Training
ATTACH;FMTTYPE=image/png:https://louisedawson.com/wp-content/uploads/2025/10/251201-Mighty-Writer-CPD-webinar.png
LOCATION:https://louisedawson.com/event/free-mighty-writer-cpd-webinar-developing-independent-writers-in-ks1-1st-december-2025/
END:VEVENT
END:VCALENDAR