BEGIN:VCALENDAR
VERSION:2.0
PRODID:-//Louise Dawson Professional and Management Development Training - ECPv6.15.20//NONSGML v1.0//EN
CALSCALE:GREGORIAN
METHOD:PUBLISH
X-WR-CALNAME:Louise Dawson Professional and Management Development Training
X-ORIGINAL-URL:https://louisedawson.com
X-WR-CALDESC:Events for Louise Dawson Professional and Management Development Training
REFRESH-INTERVAL;VALUE=DURATION:PT1H
X-Robots-Tag:noindex
X-PUBLISHED-TTL:PT1H
BEGIN:VTIMEZONE
TZID:Asia/Dubai
BEGIN:STANDARD
TZOFFSETFROM:+0400
TZOFFSETTO:+0400
TZNAME:+04
DTSTART:20240101T000000
END:STANDARD
END:VTIMEZONE
BEGIN:VEVENT
DTSTART;TZID=Asia/Dubai:20251211T194500
DTEND;TZID=Asia/Dubai:20251211T204500
DTSTAMP:20260425T195949
CREATED:20251209T170809Z
LAST-MODIFIED:20260112T103006Z
UID:10000286-1765482300-1765485900@louisedawson.com
SUMMARY:FREE 45-minute Webinar! "Welcome to Widgit and Introduction to Widgit Online"
DESCRIPTION:Travel to the world of Widgit and discover who we are and what we do. \nExperience what it may feel like to be a non-reader\, and see how easy it is to create symbol-supported resources. \nWho should attend: Those new to Widgit and/or Widgit Online \nYou’ll learn how to: \n\nCreate symbol-supported resources (including Dual Language)\nAdapt and personalise symbols by changing colours\, skin tones and combining text\nInsert your own images\n\n\n\n\n\n\n  \n\n\n\nDate\nTime\nAudience\n\n\n\nThursday 11th December\n15:45 – 16:45 (GMT)\nAll\nBook your place\n\n\nTuesday 6th January 2026\n10:00 – 11:00 (GMT)\nAll\nBook your place\n\n\nThursday 8th January 2026\n15:45 – 16:45 (GMT)\nAll\nBook your place\n\n\nTuesday 13th January 2026\n15:30 – 16:30 (GMT)\nAll\nBook your place\n\n\nThursday 15th January 2026\n10:00 – 11:00 (GMT)\nAll\nBook your place\n\n\nTuesday 20th January 2026\n15:45 – 16:45 (GMT)\nAll\nBook your place\n\n\nThursday 22nd January 2026\n10:00 – 11:00 (GMT)\nAll\nBook your place\n\n\nMonday 26th January 2026\n15:30 – 16:30 (GMT)\nAll\nBook your place\n\n\n\nOr you can watch a pre-recorded version of the webinar here \n  \nDisclaimer \nThis training is organised by an external organisation and Louise Dawson Professional Development and Management Training cannot accept any liability or responsibility for the content or quality of the training. \nPayment is made directly with the external training partner and any conversation about delivery of the training\, payment\, refunds\, etc should be addressed directly to the external company. \nIf you have concerns about any content of the training then please let us know so we can raise them with the training provider on behalf of all delegates/attendees.
URL:https://louisedawson.com/event/free-45-minute-webinar-welcome-to-widgit-and-introduction-to-widgit-online/2025-12-11/
LOCATION:Webinar – FREE
CATEGORIES:EAL/ELL Network,English Network,External Training,Inclusion Network
ATTACH;FMTTYPE=image/png:https://louisedawson.com/wp-content/uploads/2025/12/widgit-welcome-and-widgit-online-webinars.png
END:VEVENT
END:VCALENDAR