BEGIN:VCALENDAR
VERSION:2.0
PRODID:-//Louise Dawson Professional and Management Development Training - ECPv6.15.20//NONSGML v1.0//EN
CALSCALE:GREGORIAN
METHOD:PUBLISH
X-WR-CALNAME:Louise Dawson Professional and Management Development Training
X-ORIGINAL-URL:https://louisedawson.com
X-WR-CALDESC:Events for Louise Dawson Professional and Management Development Training
REFRESH-INTERVAL;VALUE=DURATION:PT1H
X-Robots-Tag:noindex
X-PUBLISHED-TTL:PT1H
BEGIN:VTIMEZONE
TZID:Asia/Dubai
BEGIN:STANDARD
TZOFFSETFROM:+0400
TZOFFSETTO:+0400
TZNAME:+04
DTSTART:20240101T000000
END:STANDARD
END:VTIMEZONE
BEGIN:VEVENT
DTSTART;TZID=Asia/Dubai:20250530T090000
DTEND;TZID=Asia/Dubai:20250530T110000
DTSTAMP:20260426T021236
CREATED:20250223T084733Z
LAST-MODIFIED:20250429T083037Z
UID:10000056-1748595600-1748602800@louisedawson.com
SUMMARY:FREE! Teaching and Learning (Standard 3) Network Meeting - May 2025
DESCRIPTION:🆓 Join us for another of our FREE Friday morning sessions where we get together to discuss Teaching and Learning (Standard 3) topics. 🆓 \nThis is a peer-led group\, where attendees can discuss and co-create solutions to current challenges with colleagues from other schools across the UAE. \n🫖☕ Tea\, coffee and light refreshments will be provided. 🍥🥐 \nAttendees will also have the opportunity to network with colleagues attending the Gifted and Talented Network meeting. \n  \nTo book your space at this event…\n\nUsing the + and – buttons in the “Tickets” dialog box select the number of tickets you require\n\n*** If you do not select the number of tickets you required you will be unable to progress with your order *** \n\nClick on the “Get Tickets” button\n\nOn the next screen… \n\nAdd your name as the “purchaser” of the ticket(s)\nAdd your email address [this is the address the confirmation details will be sent to]\nEnter your payment details [if required]\nClick on the “Get Tickets” or “Purchase Tickets” button at the foot of the page to complete your order\n\n  \nYou will receive an on-screen order confirmation\, and you will also be sent two emails to the email address you entered\, which will include: \n\nYour tickets\, and\nYour purchase receipt\n\n  \nIf you do not receive your purchase receipt or tickets please ensure you have checked your spam or junk folder!
URL:https://louisedawson.com/event/free-teaching-and-learning-standard-3-network-meeting-may-2025/
LOCATION:Louise Dawson Professional and Management Development\, United Arab Emirates
CATEGORIES:Curriculum (Standard 3) Network
ATTACH;FMTTYPE=image/png:https://louisedawson.com/wp-content/uploads/2025/03/250530-Standard-3-Learning-and-Teaching-network-meeting.png
END:VEVENT
BEGIN:VEVENT
DTSTART;TZID=Asia/Dubai:20250530T090000
DTEND;TZID=Asia/Dubai:20250530T110000
DTSTAMP:20260426T021236
CREATED:20250221T090142Z
LAST-MODIFIED:20250429T082850Z
UID:10000057-1748595600-1748602800@louisedawson.com
SUMMARY:FREE! Gifted and Talented Network Meeting - May 2025
DESCRIPTION:🆓 Join us for another of our FREE Friday morning sessions where we get together to discuss Gifted and Talented topics. 🆓 \nThis is a peer-led group\, where attendees can discuss and co-create solutions to current challenges with colleagues from other schools across the UAE. \n🫖☕ Tea\, coffee and light refreshments will be provided. 🍥🥐 \nAttendees will also have the opportunity to network with colleagues attending the Teaching and Learning Network meeting. \nTo book your space at this event…\n\nUsing the + and – buttons in the “Tickets” dialog box select the number of tickets you require\n\n*** If you do not select the number of tickets you required you will be unable to progress with your order *** \n\nClick on the “Get Tickets” button\n\nOn the next screen… \n\nAdd your name as the “purchaser” of the ticket(s)\nAdd your email address [this is the address the confirmation details will be sent to]\nEnter your payment details [if required]\nClick on the “Get Tickets” or “Purchase Tickets” button at the foot of the page to complete your order\n\n  \nYou will receive an on-screen order confirmation\, and you will also be sent two emails to the email address you entered\, which will include: \n\nYour tickets\, and\nYour purchase receipt\n\n  \nIf you do not receive your purchase receipt or tickets please ensure you have checked your spam or junk folder!
URL:https://louisedawson.com/event/free-gifted-and-talented-network-meeting-may-2025/
LOCATION:Louise Dawson Professional and Management Development\, United Arab Emirates
CATEGORIES:Gifted and Talented Network
ATTACH;FMTTYPE=image/png:https://louisedawson.com/wp-content/uploads/2025/03/250530-Gifted-and-Talented-network-meeting.png
END:VEVENT
BEGIN:VEVENT
DTSTART;TZID=Asia/Dubai:20250509T090000
DTEND;TZID=Asia/Dubai:20250509T110000
DTSTAMP:20260426T021236
CREATED:20250223T084829Z
LAST-MODIFIED:20250429T082639Z
UID:10000063-1746781200-1746788400@louisedawson.com
SUMMARY:FREE! EAL/ELL Network Meeting - May 2025
DESCRIPTION:🆓 Join us for another of our FREE Friday morning sessions where we get together to discuss EAL/ELL topics. 🆓 \nThis is a peer-led group\, where attendees can discuss and co-create solutions to current challenges with colleagues from other schools across the UAE. \n🫖☕ Tea\, coffee and light refreshments will be provided. 🍥🥐 \nAttendees will also have the opportunity to network with colleagues attending the English Network meeting. \nTo book your space at this event…\n\nUsing the + and – buttons in the “Tickets” dialog box select the number of tickets you require\n\n*** If you do not select the number of tickets you required you will be unable to progress with your order *** \n\nClick on the “Get Tickets” button\n\nOn the next screen… \n\nAdd your name as the “purchaser” of the ticket(s)\nAdd your email address [this is the address the confirmation details will be sent to]\nEnter your payment details [if required]\nClick on the “Get Tickets” or “Purchase Tickets” button at the foot of the page to complete your order\n\n  \nYou will receive an on-screen order confirmation\, and you will also be sent two emails to the email address you entered\, which will include: \n\nYour tickets\, and\nYour purchase receipt\n\n  \nIf you do not receive your purchase receipt or tickets please ensure you have checked your spam or junk folder!
URL:https://louisedawson.com/event/free-eal-ell-network-meeting-may-2025/
LOCATION:Louise Dawson Professional and Management Development\, United Arab Emirates
CATEGORIES:EAL/ELL Network
ATTACH;FMTTYPE=image/png:https://louisedawson.com/wp-content/uploads/2025/03/250509-EAL-network-meeting.png
END:VEVENT
BEGIN:VEVENT
DTSTART;TZID=Asia/Dubai:20250509T090000
DTEND;TZID=Asia/Dubai:20250509T110000
DTSTAMP:20260426T021236
CREATED:20250223T084749Z
LAST-MODIFIED:20250429T082520Z
UID:10000062-1746781200-1746788400@louisedawson.com
SUMMARY:FREE! English Network Meeting - May 2025
DESCRIPTION:🆓 Join us for another of our FREE Friday morning sessions where we get together to discuss English topics. \nThis is a peer-led group\, where attendees can discuss and co-create solutions to current challenges with colleagues from other schools across the UAE. \n🫖☕ Tea\, coffee and light refreshments will be provided. 🍥🥐 \nAttendees will also have the opportunity to network with colleagues attending the EAL/ELL Network meeting. \n  \nTo book your space at this event…\n\nUsing the + and – buttons in the “Tickets” dialog box select the number of tickets you require\n\n*** If you do not select the number of tickets you required you will be unable to progress with your order *** \n\nClick on the “Get Tickets” button\n\nOn the next screen… \n\nAdd your name as the “purchaser” of the ticket(s)\nAdd your email address [this is the address the confirmation details will be sent to]\nEnter your payment details [if required]\nClick on the “Get Tickets” or “Purchase Tickets” button at the foot of the page to complete your order\n\n  \nYou will receive an on-screen order confirmation\, and you will also be sent two emails to the email address you entered\, which will include: \n\nYour tickets\, and\nYour purchase receipt\n\n  \nIf you do not receive your purchase receipt or tickets please ensure you have checked your spam or junk folder!
URL:https://louisedawson.com/event/free-english-network-meeting-may-2025/
LOCATION:Louise Dawson Professional and Management Development\, United Arab Emirates
CATEGORIES:English Network
ATTACH;FMTTYPE=image/png:https://louisedawson.com/wp-content/uploads/2025/03/250509-English-network-meeting.png
END:VEVENT
BEGIN:VEVENT
DTSTART;TZID=Asia/Dubai:20250425T090000
DTEND;TZID=Asia/Dubai:20250425T110000
DTSTAMP:20260426T021236
CREATED:20250223T084759Z
LAST-MODIFIED:20250424T124010Z
UID:10000061-1745571600-1745578800@louisedawson.com
SUMMARY:FREE! Wellbeing Network Meeting - April 2025
DESCRIPTION:Join us for another of our FREE Friday morning sessions where we get together to discuss Wellbeing topics. \nThis is a peer-led group\, where attendees can discuss and co-create solutions to current challenges with colleagues from other schools across the UAE. \nTea\, coffee and light refreshments will be provided. \n  \nTo book your space at this event…\n\nUsing the + and – buttons in the “Tickets” dialog box select the number of tickets you require\n\n*** If you do not select the number of tickets you required you will be unable to progress with your order *** \n\nClick on the “Get Tickets” button\n\nOn the next screen… \n\nAdd your name as the “purchaser” of the ticket(s)\nAdd your email address [this is the address the confirmation details will be sent to]\nEnter your payment details [if required]\nClick on the “Get Tickets” or “Purchase Tickets” button at the foot of the page to complete your order\n\n  \nYou will receive an on-screen order confirmation\, and you will also be sent two emails to the email address you entered\, which will include: \n\nYour tickets\, and\nYour purchase receipt\n\n  \nIf you do not receive your purchase receipt or tickets please ensure you have checked your spam or junk folder!
URL:https://louisedawson.com/event/free-wellbeing-network-meeting-april-2025/
LOCATION:Louise Dawson Professional and Management Development\, United Arab Emirates
CATEGORIES:Well Being Network
ATTACH;FMTTYPE=image/png:https://louisedawson.com/wp-content/uploads/2025/02/250425-Wellbeing-network-meeting.png
END:VEVENT
BEGIN:VEVENT
DTSTART;TZID=Asia/Dubai:20250411T090000
DTEND;TZID=Asia/Dubai:20250411T110000
DTSTAMP:20260426T021236
CREATED:20250223T084809Z
LAST-MODIFIED:20250325T153058Z
UID:10000059-1744362000-1744369200@louisedawson.com
SUMMARY:FREE! Heads of Inclusion Network Meeting - April 2025
DESCRIPTION:*** We will be joined by Stuart Plumridge of Nessy Learning for the first part of this network meeting *** \nJoin us for another of our FREE Friday morning sessions where we get together to discuss inclusion topics. \nThis is a peer-led group\, where attendees can discuss and co-create solutions to current challenges with colleagues from other schools across the UAE. \nTea\, coffee and light refreshments will be provided. \nAttendees will also have the opportunity to network with colleagues attending the Science Network meeting. \n  \nTo book your space at this event…\n\nUsing the + and – buttons in the “Tickets” dialog box select the number of tickets you require\n\n*** If you do not select the number of tickets you required you will be unable to progress with your order *** \n\nClick on the “Get Tickets” button\n\nOn the next screen… \n\nAdd your name as the “purchaser” of the ticket(s)\nAdd your email address [this is the address the confirmation details will be sent to]\nEnter your payment details [if required]\nClick on the “Get Tickets” or “Purchase Tickets” button at the foot of the page to complete your order\n\n  \nYou will receive an on-screen order confirmation\, and you will also be sent two emails to the email address you entered\, which will include: \n\nYour tickets\, and\nYour purchase receipt\n\n  \nIf you do not receive your purchase receipt or tickets please ensure you have checked your spam or junk folder!
URL:https://louisedawson.com/event/free-heads-of-inclusion-network-meeting-april-2025/
LOCATION:Louise Dawson Professional and Management Development\, United Arab Emirates
CATEGORIES:Inclusion Network
ATTACH;FMTTYPE=image/png:https://louisedawson.com/wp-content/uploads/2025/03/250411-Heads-of-Inclusion-network-meeting.png
END:VEVENT
BEGIN:VEVENT
DTSTART;TZID=Asia/Dubai:20250221T090000
DTEND;TZID=Asia/Dubai:20250221T110000
DTSTAMP:20260426T021236
CREATED:20241216T102139Z
LAST-MODIFIED:20250213T092350Z
UID:10000019-1740128400-1740135600@louisedawson.com
SUMMARY:FREE! Teaching and Learning Network Meeting
DESCRIPTION:Join us for another of our FREE Friday morning sessions where we get together to discuss Teaching and Learning (Standard 3) topics. \nThis is a peer-led group\, where attendees can discuss and co-create solutions to current challenges with colleagues from other schools across the UAE. \nTea\, coffee and light refreshments will be provided. \nAttendees will also have the opportunity to network with colleagues attending the Gifted and Talented Network meeting. \n  \nPlease note: The UAE World Tour men’s cycle race will be taking place in Dubai on Friday 21st February.\nThe race will start at 12:40 at Dubai American University and passing through Sports City around 13:10\, so we are not expecting any impact from road closures around our centre. A map and details for the race are available below for anyone that wants to check on the routes\, timings\, and possible road closures. \nClick here for the route map and timings \n  \nTo book your space at this event…\n\nUsing the + and – buttons in the “Tickets” dialog box select the number of tickets you require\n\n*** If you do not select the number of tickets you required you will be unable to progress with your order *** \n\nClick on the “Get Tickets” button\n\nOn the next screen… \n\nAdd your name as the “purchaser” of the ticket(s)\nAdd your email address [this is the address the confirmation details will be sent to]\nEnter your payment details [if required]\nClick on the “Get Tickets” or “Purchase Tickets” button at the foot of the page to complete your order\n\n  \nYou will receive an on-screen order confirmation\, and you will also be sent two emails to the email address you entered\, which will include: \n\nYour tickets\, and\nYour purchase receipt\n\n  \nIf you do not receive your purchase receipt or tickets please ensure you have checked your spam or junk folder!
URL:https://louisedawson.com/event/teaching-and-learning-network-meeting-february-2025/
LOCATION:Louise Dawson Professional and Management Development\, United Arab Emirates
CATEGORIES:Curriculum (Standard 3) Network
ATTACH;FMTTYPE=image/jpeg:https://louisedawson.com/wp-content/uploads/2024/12/STANDARD-3-Feb.-21.jpg
END:VEVENT
BEGIN:VEVENT
DTSTART;TZID=Asia/Dubai:20250221T090000
DTEND;TZID=Asia/Dubai:20250221T110000
DTSTAMP:20260426T021236
CREATED:20241216T101911Z
LAST-MODIFIED:20250213T092259Z
UID:10000018-1740128400-1740135600@louisedawson.com
SUMMARY:FREE! Gifted and Talented Network Meeting
DESCRIPTION:Join us for another of our FREE Friday morning sessions where we get together to discuss Gifted and Talented topics. \nThis is a peer-led group\, where attendees can discuss and co-create solutions to current challenges with colleagues from other schools across the UAE. \nTea\, coffee and light refreshments will be provided. \nAttendees will also have the opportunity to network with colleagues attending the Teaching and Learning Network meeting. \n  \nPlease note: The UAE World Tour men’s cycle race will be taking place in Dubai on Friday 21st February.\nThe race will start at 12:40 at Dubai American University and passing through Sports City around 13:10\, so we are not expecting any impact from road closures around our centre. A map and details for the race are available below for anyone that wants to check on the routes\, timings\, and possible road closures. \nClick here for the route map and timings \n  \nTo book your space at this event…\n\nUsing the + and – buttons in the “Tickets” dialog box select the number of tickets you require\n\n*** If you do not select the number of tickets you required you will be unable to progress with your order *** \n\nClick on the “Get Tickets” button\n\nOn the next screen… \n\nAdd your name as the “purchaser” of the ticket(s)\nAdd your email address [this is the address the confirmation details will be sent to]\nEnter your payment details [if required]\nClick on the “Get Tickets” or “Purchase Tickets” button at the foot of the page to complete your order\n\n  \nYou will receive an on-screen order confirmation\, and you will also be sent two emails to the email address you entered\, which will include: \n\nYour tickets\, and\nYour purchase receipt\n\n  \nIf you do not receive your purchase receipt or tickets please ensure you have checked your spam or junk folder!
URL:https://louisedawson.com/event/gifted-and-talented-network-meeting-february-2025/
LOCATION:Louise Dawson Professional and Management Development\, United Arab Emirates
CATEGORIES:Gifted and Talented Network
ATTACH;FMTTYPE=image/jpeg:https://louisedawson.com/wp-content/uploads/2024/12/GiftedTalented-Feb.-21.jpg
END:VEVENT
BEGIN:VEVENT
DTSTART;TZID=Asia/Dubai:20250207T090000
DTEND;TZID=Asia/Dubai:20250207T110000
DTSTAMP:20260426T021236
CREATED:20250111T102344Z
LAST-MODIFIED:20250114T052918Z
UID:10000023-1738918800-1738926000@louisedawson.com
SUMMARY:FREE! Maths Network Meeting - February 2025
DESCRIPTION:Join us for another of our FREE Friday morning sessions where we get together to discuss Maths topics. \nThis is a peer-led group\, where attendees can discuss and co-create solutions to current challenges with colleagues from other schools across the UAE. \nTea\, coffee and light refreshments will be provided. \n  \n  \nTo book your space at this event…\n\nUsing the + and – buttons in the “Tickets” dialog box select the number of tickets you require\n\n*** If you do not select the number of tickets you required you will be unable to progress with your order *** \n\nClick on the “Get Tickets” button\n\nOn the next screen… \n\nAdd your name as the “purchaser” of the ticket(s)\nAdd your email address [this is the address the confirmation details will be sent to]\nEnter your payment details [if required]\nClick on the “Get Tickets” or “Purchase Tickets” button at the foot of the page to complete your order\n\n  \nYou will receive an on-screen order confirmation\, and you will also be sent two emails to the email address you entered\, which will include: \n\nYour tickets\, and\nYour purchase receipt\n\n  \nIf you do not receive your purchase receipt or tickets please ensure you have checked your spam or junk folder!
URL:https://louisedawson.com/event/maths-network-0225/
LOCATION:Australian International School Dubai\, Australian International School Dubai\, Arjan\, United Arab Emirates
CATEGORIES:Maths Network
ATTACH;FMTTYPE=image/jpeg:https://louisedawson.com/wp-content/uploads/2025/01/250207-Maths-1.jpg
END:VEVENT
BEGIN:VEVENT
DTSTART;TZID=Asia/Dubai:20250131T090000
DTEND;TZID=Asia/Dubai:20250131T110000
DTSTAMP:20260426T021236
CREATED:20241216T101436Z
LAST-MODIFIED:20250114T053114Z
UID:10000017-1738314000-1738321200@louisedawson.com
SUMMARY:FREE! EAL/ELL Network Meeting
DESCRIPTION:Join us for another of our FREE Friday morning sessions where we get together to discuss EAL/ELL topics. \nThis is a peer-led group\, where attendees can discuss and co-create solutions to current challenges with colleagues from other schools across the UAE. \nTea\, coffee and light refreshments will be provided. \nAttendees will also have the opportunity to network with colleagues attending the English Network meeting and to see Mighty Writer. \n \n  \nTo book your space at this event…\n\nUsing the + and – buttons in the “Tickets” dialog box select the number of tickets you require\n\n*** If you do not select the number of tickets you required you will be unable to progress with your order *** \n\nClick on the “Get Tickets” button\n\nOn the next screen… \n\nAdd your name as the “purchaser” of the ticket(s)\nAdd your email address [this is the address the confirmation details will be sent to]\nEnter your payment details [if required]\nClick on the “Get Tickets” or “Purchase Tickets” button at the foot of the page to complete your order\n\n  \nYou will receive an on-screen order confirmation\, and you will also be sent two emails to the email address you entered\, which will include: \n\nYour tickets\, and\nYour purchase receipt\n\n  \nIf you do not receive your purchase receipt or tickets please ensure you have checked your spam or junk folder!
URL:https://louisedawson.com/event/eal-ell-network-meeting-january-2025/
LOCATION:Australian International School Dubai\, Australian International School Dubai\, Arjan\, United Arab Emirates
CATEGORIES:EAL/ELL Network
ATTACH;FMTTYPE=image/jpeg:https://louisedawson.com/wp-content/uploads/2024/12/EAL-Jan.-31.jpg
END:VEVENT
BEGIN:VEVENT
DTSTART;TZID=Asia/Dubai:20250131T090000
DTEND;TZID=Asia/Dubai:20250131T110000
DTSTAMP:20260426T021236
CREATED:20241216T101216Z
LAST-MODIFIED:20250114T053203Z
UID:10000016-1738314000-1738321200@louisedawson.com
SUMMARY:FREE! English Network Meeting\, with Mighty Writer
DESCRIPTION:Join us for another of our FREE Friday morning sessions where we get together to discuss English topics. \nThis is a peer-led group\, where attendees can discuss and co-create solutions to current challenges with colleagues from other schools across the UAE. \nTea\, coffee and light refreshments will be provided. \nAttendees will also have the opportunity to network with colleagues attending the EAL/ELL Network meeting. \n \n  \nTo book your space at this event…\n\nUsing the + and – buttons in the “Tickets” dialog box select the number of tickets you require\n\n*** If you do not select the number of tickets you required you will be unable to progress with your order *** \n\nClick on the “Get Tickets” button\n\nOn the next screen… \n\nAdd your name as the “purchaser” of the ticket(s)\nAdd your email address [this is the address the confirmation details will be sent to]\nEnter your payment details [if required]\nClick on the “Get Tickets” or “Purchase Tickets” button at the foot of the page to complete your order\n\n  \nYou will receive an on-screen order confirmation\, and you will also be sent two emails to the email address you entered\, which will include: \n\nYour tickets\, and\nYour purchase receipt\n\n  \nIf you do not receive your purchase receipt or tickets please ensure you have checked your spam or junk folder!
URL:https://louisedawson.com/event/english-network-meeting-with-might-writer-january-2025/
LOCATION:Australian International School Dubai\, Australian International School Dubai\, Arjan\, United Arab Emirates
CATEGORIES:English Network
ATTACH;FMTTYPE=image/jpeg:https://louisedawson.com/wp-content/uploads/2024/12/ENGLISH-Jan.-31.jpg
END:VEVENT
BEGIN:VEVENT
DTSTART;TZID=Asia/Dubai:20250124T090000
DTEND;TZID=Asia/Dubai:20250124T110000
DTSTAMP:20260426T021236
CREATED:20241216T101105Z
LAST-MODIFIED:20250221T091917Z
UID:10000015-1737709200-1737716400@louisedawson.com
SUMMARY:FREE! Wellbeing Network Meeting January 2025
DESCRIPTION:Join us for another of our FREE Friday morning sessions where we get together to discuss Wellbeing topics. \nThis is a peer-led group\, where attendees can discuss and co-create solutions to current challenges with colleagues from other schools across the UAE. \nTea\, coffee and light refreshments will be provided. \n  \nTo book your space at this event…\n\nUsing the + and – buttons in the “Tickets” dialog box select the number of tickets you require\n\n*** If you do not select the number of tickets you required you will be unable to progress with your order *** \n\nClick on the “Get Tickets” button\n\nOn the next screen… \n\nAdd your name as the “purchaser” of the ticket(s)\nAdd your email address [this is the address the confirmation details will be sent to]\nEnter your payment details [if required]\nClick on the “Get Tickets” or “Purchase Tickets” button at the foot of the page to complete your order\n\n  \nYou will receive an on-screen order confirmation\, and you will also be sent two emails to the email address you entered\, which will include: \n\nYour tickets\, and\nYour purchase receipt\n\n  \nIf you do not receive your purchase receipt or tickets please ensure you have checked your spam or junk folder!
URL:https://louisedawson.com/event/wellbeing-network-meeting-january-2025/
LOCATION:Dubai College\, Dubai College\, Al Sufouh 2\, United Arab Emirates
CATEGORIES:Well Being Network
ATTACH;FMTTYPE=image/jpeg:https://louisedawson.com/wp-content/uploads/2024/12/WELLBEING-Jan.-24.jpg
END:VEVENT
BEGIN:VEVENT
DTSTART;TZID=Asia/Dubai:20250117T090000
DTEND;TZID=Asia/Dubai:20250117T110000
DTSTAMP:20260426T021236
CREATED:20241216T100925Z
LAST-MODIFIED:20250114T053344Z
UID:10000014-1737104400-1737111600@louisedawson.com
SUMMARY:FREE! Science Network Meeting
DESCRIPTION:Join us for another of our FREE Friday morning sessions where we get together to discuss Science topics. \nThis is a peer-led group\, where attendees can discuss and co-create solutions to current challenges with colleagues from other schools across the UAE. \nTea\, coffee and light refreshments will be provided. \nAttendees will also have the opportunity to network with colleagues attending the Inclusion Network meeting. \n \n  \nTo book your space at this event…\n\nUsing the + and – buttons in the “Tickets” dialog box select the number of tickets you require\n\n*** If you do not select the number of tickets you required you will be unable to progress with your order *** \n\nClick on the “Get Tickets” button\n\nOn the next screen… \n\nAdd your name as the “purchaser” of the ticket(s)\nAdd your email address [this is the address the confirmation details will be sent to]\nEnter your payment details [if required]\nClick on the “Get Tickets” or “Purchase Tickets” button at the foot of the page to complete your order\n\n  \nYou will receive an on-screen order confirmation\, and you will also be sent two emails to the email address you entered\, which will include: \n\nYour tickets\, and\nYour purchase receipt\n\n  \nIf you do not receive your purchase receipt or tickets please ensure you have checked your spam or junk folder!
URL:https://louisedawson.com/event/science-network-meeting/
LOCATION:Australian International School Dubai\, Australian International School Dubai\, Arjan\, United Arab Emirates
CATEGORIES:Science Network
ATTACH;FMTTYPE=image/jpeg:https://louisedawson.com/wp-content/uploads/2024/12/SCIENCE-Jan.-17.jpg
END:VEVENT
BEGIN:VEVENT
DTSTART;TZID=Asia/Dubai:20250117T090000
DTEND;TZID=Asia/Dubai:20250117T110000
DTSTAMP:20260426T021236
CREATED:20241216T094019Z
LAST-MODIFIED:20250221T091410Z
UID:10000013-1737104400-1737111600@louisedawson.com
SUMMARY:FREE! Heads of Inclusion - Network Meeting January 2025
DESCRIPTION:Join us for another of our FREE Friday morning sessions where we get together to discuss inclusion topics. \nThis is a peer-led group\, where attendees can discuss and co-create solutions to current challenges with colleagues from other schools across the UAE. \nTea\, coffee and light refreshments will be provided. \nAttendees will also have the opportunity to network with colleagues attending the Science Network meeting. \n  \nTo book your space at this event…\n\nUsing the + and – buttons in the “Tickets” dialog box select the number of tickets you require\n\n*** If you do not select the number of tickets you required you will be unable to progress with your order *** \n\nClick on the “Get Tickets” button\n\nOn the next screen… \n\nAdd your name as the “purchaser” of the ticket(s)\nAdd your email address [this is the address the confirmation details will be sent to]\nEnter your payment details [if required]\nClick on the “Get Tickets” or “Purchase Tickets” button at the foot of the page to complete your order\n\n  \nYou will receive an on-screen order confirmation\, and you will also be sent two emails to the email address you entered\, which will include: \n\nYour tickets\, and\nYour purchase receipt\n\n  \nIf you do not receive your purchase receipt or tickets please ensure you have checked your spam or junk folder!
URL:https://louisedawson.com/event/inclusion-network-meeting/
LOCATION:Australian International School Dubai\, Australian International School Dubai\, Arjan\, United Arab Emirates
CATEGORIES:Inclusion Network
ATTACH;FMTTYPE=image/jpeg:https://louisedawson.com/wp-content/uploads/2024/12/INCLUSION-Jan.-17.jpg
END:VEVENT
END:VCALENDAR