BEGIN:VCALENDAR
VERSION:2.0
PRODID:-//Louise Dawson Professional and Management Development Training - ECPv6.15.20//NONSGML v1.0//EN
CALSCALE:GREGORIAN
METHOD:PUBLISH
X-WR-CALNAME:Louise Dawson Professional and Management Development Training
X-ORIGINAL-URL:https://louisedawson.com
X-WR-CALDESC:Events for Louise Dawson Professional and Management Development Training
REFRESH-INTERVAL;VALUE=DURATION:PT1H
X-Robots-Tag:noindex
X-PUBLISHED-TTL:PT1H
BEGIN:VTIMEZONE
TZID:Europe/London
BEGIN:DAYLIGHT
TZOFFSETFROM:+0000
TZOFFSETTO:+0100
TZNAME:BST
DTSTART:20240331T010000
END:DAYLIGHT
BEGIN:STANDARD
TZOFFSETFROM:+0100
TZOFFSETTO:+0000
TZNAME:GMT
DTSTART:20241027T010000
END:STANDARD
BEGIN:DAYLIGHT
TZOFFSETFROM:+0000
TZOFFSETTO:+0100
TZNAME:BST
DTSTART:20250330T010000
END:DAYLIGHT
BEGIN:STANDARD
TZOFFSETFROM:+0100
TZOFFSETTO:+0000
TZNAME:GMT
DTSTART:20251026T010000
END:STANDARD
BEGIN:DAYLIGHT
TZOFFSETFROM:+0000
TZOFFSETTO:+0100
TZNAME:BST
DTSTART:20260329T010000
END:DAYLIGHT
BEGIN:STANDARD
TZOFFSETFROM:+0100
TZOFFSETTO:+0000
TZNAME:GMT
DTSTART:20261025T010000
END:STANDARD
END:VTIMEZONE
BEGIN:VEVENT
DTSTART;TZID=Europe/London:20251111T144500
DTEND;TZID=Europe/London:20251111T163500
DTSTAMP:20260425T200045
CREATED:20251107T092114Z
LAST-MODIFIED:20251107T093304Z
UID:10000264-1762872300-1762878900@louisedawson.com
SUMMARY:FREE! The Validation Toolkit: A Komodo Workshop\, Dunecrest American School\, November 2025
DESCRIPTION:Join us for a focused & practical workshop designed to equip educators with essential skills in validation & emotion regulation at this collaborative effort from Komodo Wellbeing & Dunecrest American School \nHelping students navigate their emotions is key to fostering a supportive learning atmosphere. This session will move beyond theory\, providing strategies you can implement immediately to help students feel seen\, heard\, & better equipped to manage their feelings. Learn how to de-escalate emotional moments\, build strong student-teacher relationships\, & create a more resilient & focused classroom. \nThis is a FREE workshop for attendees! \nDesigned exclusively for senior leadership\, educators & pastoral care leaders\, this event is a practical\, conversation & presentation-led workshop centred around best practice approaches to managing student wellbeing. \nSpeakers\n\n\nGillian King – Early Childhood Counselor and Wellbeing Champion\, Dunecrest American School\nMary Rose Connolly – Education consultant\, Senior Mental Health Lead & First Aider\, POSA Consulting\nZeina Mouganie – Counseling Coordinator/High School Counselor\, Dunecrest American School\nMichael Roberts – School Director\, Dunecrest American School\nJessica Colson – School Success Lead\, Komodo Wellbeing\nJesper Andersson – New Schools Manager\, Komodo Wellbeing\n\nWhy attend?\nMaster immediate\, practical strategies\nGain proven\, classroom-ready approaches to acknowledge students’ emotions and guide them with confidence through moments of challenge. \nEnhance classroom management & climate\nDiscover how validating students can lead to reduced behavioural issues\, improved student engagement\, & a more positive\, supportive learning environment. \nStrengthen student-teacher relationships\nDevelop communication strategies that foster trust\, empowering students to openly share their experiences & seek support during moments of stress or conflict. \nMore details and to register: here \n\nFull registration link: https://www.youhq.co.uk/wellbeing-in-action-training-and-networking-event \n  \n  \nDisclaimer \nThis training is organised by an external organisation and Louise Dawson Professional Development and Management Training cannot accept any liability or responsibility for the content or quality of the training. \nPayment is made directly with the external training partner and any conversation about delivery of the training\, payment\, refunds\, etc should be addressed directly to the external company. \nIf you have concerns about any content of the training then please let us know so we can raise them with the training provider on behalf of all delegates/attendees.
URL:https://louisedawson.com/event/free-the-validation-toolkit-a-komodo-workshop-dunecrest-american-school-november-2025/
LOCATION:Dunecrest American School\, Wadi Al Safa 3\, Dubai\, United Arab Emirates
CATEGORIES:External Training,Well Being Network
ATTACH;FMTTYPE=image/png:https://louisedawson.com/wp-content/uploads/2025/11/251111-Komodo-and-Dunecrests-workshop.png
END:VEVENT
END:VCALENDAR