BEGIN:VCALENDAR
VERSION:2.0
PRODID:-//Louise Dawson Professional and Management Development Training - ECPv6.15.20//NONSGML v1.0//EN
CALSCALE:GREGORIAN
METHOD:PUBLISH
X-WR-CALNAME:Louise Dawson Professional and Management Development Training
X-ORIGINAL-URL:https://louisedawson.com
X-WR-CALDESC:Events for Louise Dawson Professional and Management Development Training
REFRESH-INTERVAL;VALUE=DURATION:PT1H
X-Robots-Tag:noindex
X-PUBLISHED-TTL:PT1H
BEGIN:VTIMEZONE
TZID:Europe/London
BEGIN:DAYLIGHT
TZOFFSETFROM:+0000
TZOFFSETTO:+0100
TZNAME:BST
DTSTART:20240331T010000
END:DAYLIGHT
BEGIN:STANDARD
TZOFFSETFROM:+0100
TZOFFSETTO:+0000
TZNAME:GMT
DTSTART:20241027T010000
END:STANDARD
BEGIN:DAYLIGHT
TZOFFSETFROM:+0000
TZOFFSETTO:+0100
TZNAME:BST
DTSTART:20250330T010000
END:DAYLIGHT
BEGIN:STANDARD
TZOFFSETFROM:+0100
TZOFFSETTO:+0000
TZNAME:GMT
DTSTART:20251026T010000
END:STANDARD
BEGIN:DAYLIGHT
TZOFFSETFROM:+0000
TZOFFSETTO:+0100
TZNAME:BST
DTSTART:20260329T010000
END:DAYLIGHT
BEGIN:STANDARD
TZOFFSETFROM:+0100
TZOFFSETTO:+0000
TZNAME:GMT
DTSTART:20261025T010000
END:STANDARD
END:VTIMEZONE
BEGIN:VEVENT
DTSTART;TZID=Europe/London:20251119T140000
DTEND;TZID=Europe/London:20251119T160000
DTSTAMP:20260425T200048
CREATED:20251022T161657Z
LAST-MODIFIED:20251107T102908Z
UID:10000244-1763560800-1763568000@louisedawson.com
SUMMARY:FREE! Wellbeing In Action: youHQ Training and Networking Event in Dubai - November 2025
DESCRIPTION:Wellbeing in Action: youHQ Training and Networking Event\nCalling all youHQ user school staff members\, ambassadors\, and their guests! \nJoin us at our free Wellbeing in Action Training Event this November! \nYou will: \n\nLearn how youHQ supports student wellbeing and personal development\nShare wellbeing challenges and  best practices across UAE schools\nCollaboratively shape the next phase of youHQ development\n\n  \nAgenda\n2 – 2.30pm    Arrival and networking \n🔹Welcome from Jon Ford\, CEO \n🔹Showcase –  youHQ’s impact and practical applications in UAE \n\nLive demo of the youHQ platform and new features-\nCase studies from user schools\n\n🔹Workshop: Sharing and Learning – What’s Working in Your School? \n\nOpportunity for collaboration and peer learning between user schools\nWhat’s Working in Your School?\n\n🔹The Future of youHQ \n\nWe are planning the next version of youHQ\nWe want our user schools to be at the forefront of the new development\n\n  \n4pm    FINISH \n  \nRegister here \nFull registration link: https://www.youhq.co.uk/wellbeing-in-action-training-and-networking-event \n​By registering for this event you agree to join the youHQ mailing list and receive relevant emails. \n  \nDisclaimer \nThis training is organised by an external organisation and Louise Dawson Professional Development and Management Training cannot accept any liability or responsibility for the content or quality of the training. \nPayment is made directly with the external training partner and any conversation about delivery of the training\, payment\, refunds\, etc should be addressed directly to the external company. \nIf you have concerns about any content of the training then please let us know so we can raise them with the training provider on behalf of all delegates/attendees.
URL:https://louisedawson.com/event/free-wellbeing-in-action-youhq-face-to-face-trainng-and-networking-event-in-dubai-november-2025/
LOCATION:Louise Dawson Professional and Management Development\, United Arab Emirates
CATEGORIES:External Training,Well Being Network
ATTACH;FMTTYPE=image/png:https://louisedawson.com/wp-content/uploads/2025/10/251119-youHQ-wellbeing-in-action.png
END:VEVENT
END:VCALENDAR