BEGIN:VCALENDAR
VERSION:2.0
PRODID:-//Louise Dawson Professional and Management Development Training - ECPv6.15.20//NONSGML v1.0//EN
CALSCALE:GREGORIAN
METHOD:PUBLISH
X-ORIGINAL-URL:https://louisedawson.com
X-WR-CALDESC:Events for Louise Dawson Professional and Management Development Training
REFRESH-INTERVAL;VALUE=DURATION:PT1H
X-Robots-Tag:noindex
X-PUBLISHED-TTL:PT1H
BEGIN:VTIMEZONE
TZID:Asia/Dubai
BEGIN:STANDARD
TZOFFSETFROM:+0400
TZOFFSETTO:+0400
TZNAME:+04
DTSTART:20250101T000000
END:STANDARD
END:VTIMEZONE
BEGIN:VEVENT
DTSTART;TZID=Asia/Dubai:20260324T193000
DTEND;TZID=Asia/Dubai:20260324T203000
DTSTAMP:20260425T145901
CREATED:20260217T131930Z
LAST-MODIFIED:20260218T060129Z
UID:10000326-1774380600-1774384200@louisedawson.com
SUMMARY:FREE! Breathwork for Children- supporting emotional regulation in children
DESCRIPTION:FREE Staff training/ADDS sessions – In conjunction with Breathwork for Children\n\n\n\nJoin us for a Teacher CPD via teams with guest speaker Sarah Movassaghi\, founder of Breathwork for Children. As emotional regulation and nervous system awareness become central across education\, workplaces and everyday life\, this introduction to our CPD course looks into the five emotional states that influence children’s behaviour\, attention and readiness to learn. \nDuring the session you will gain practical\, evidence- informed breathwork tools to support regulation\, refocus attention and create calm\, emotionally safe learning environments. \nWho should attend? \nAll Staff – Headteachers\, SLT\, SENCO/ALNCO\, Class Teachers\, TAs\, and LSAs \n\n\n  \nDisclaimer \nThis training is organised by an external organisation and Louise Dawson Professional Development and Management Training cannot accept any liability or responsibility for the content or quality of the training. \nPayment is made directly with the external training partner and any conversation about delivery of the training\, payment\, refunds\, etc should be addressed directly to the external company. \nIf you have concerns about any content of the training then please let us know so we can raise them with the training provider on behalf of all delegates/attendees.
URL:https://louisedawson.com/event/free-breathwork-for-children-supporting-emotional-regulation-in-children/
CATEGORIES:External Training,Well Being Network
ATTACH;FMTTYPE=image/png:https://louisedawson.com/wp-content/uploads/2026/02/260324-Bumbles-of-Honeywood-Breathwork-webinar.png
LOCATION:https://louisedawson.com/event/free-breathwork-for-children-supporting-emotional-regulation-in-children/
END:VEVENT
BEGIN:VEVENT
DTSTART;TZID=Asia/Dubai:20260331T170000
DTEND;TZID=Asia/Dubai:20260331T180000
DTSTAMP:20260425T145901
CREATED:20260330T090523Z
LAST-MODIFIED:20260330T091355Z
UID:10000365-1774976400-1774980000@louisedawson.com
SUMMARY:FREE! World Giftedness Centre - Giftedness Is Not Enough: The Road to Meaningful\, Creative Contributions.
DESCRIPTION:Instructor: Dr. Alexandra Vuyk\nTuesday March 31st\n5pm Dubai Time\nOnline/Zoom\n\nRegister to attend here \n  \nDisclaimer \nThis training is organised by an external organisation and Louise Dawson Professional Development and Management Training cannot accept any liability or responsibility for the content or quality of the training. \nPayment is made directly with the external training partner and any conversation about delivery of the training\, payment\, refunds\, etc should be addressed directly to the external company. \nIf you have concerns about any content of the training then please let us know so we can raise them with the training provider on behalf of all delegates/attendees.
URL:https://louisedawson.com/event/freeworld-giftedness-centre-giftedness-is-not-enough-the-road-to-meaningful-creative-contributions/
CATEGORIES:External Training,Gifted and Talented Network
ATTACH;FMTTYPE=image/jpeg:https://louisedawson.com/wp-content/uploads/2026/03/260331-giftedness-is-not-enough-wgc-webinar-scaled.jpg
ORGANIZER;CN="World Giftedness Centre":MAILTO:wgc@ha.ae
LOCATION:https://louisedawson.com/event/freeworld-giftedness-centre-giftedness-is-not-enough-the-road-to-meaningful-creative-contributions/
END:VEVENT
END:VCALENDAR