BEGIN:VCALENDAR
VERSION:2.0
PRODID:-//Louise Dawson Professional and Management Development Training - ECPv6.15.20//NONSGML v1.0//EN
CALSCALE:GREGORIAN
METHOD:PUBLISH
X-WR-CALNAME:Louise Dawson Professional and Management Development Training
X-ORIGINAL-URL:https://louisedawson.com
X-WR-CALDESC:Events for Louise Dawson Professional and Management Development Training
REFRESH-INTERVAL;VALUE=DURATION:PT1H
X-Robots-Tag:noindex
X-PUBLISHED-TTL:PT1H
BEGIN:VTIMEZONE
TZID:Europe/London
BEGIN:DAYLIGHT
TZOFFSETFROM:+0000
TZOFFSETTO:+0100
TZNAME:BST
DTSTART:20240331T010000
END:DAYLIGHT
BEGIN:STANDARD
TZOFFSETFROM:+0100
TZOFFSETTO:+0000
TZNAME:GMT
DTSTART:20241027T010000
END:STANDARD
BEGIN:DAYLIGHT
TZOFFSETFROM:+0000
TZOFFSETTO:+0100
TZNAME:BST
DTSTART:20250330T010000
END:DAYLIGHT
BEGIN:STANDARD
TZOFFSETFROM:+0100
TZOFFSETTO:+0000
TZNAME:GMT
DTSTART:20251026T010000
END:STANDARD
BEGIN:DAYLIGHT
TZOFFSETFROM:+0000
TZOFFSETTO:+0100
TZNAME:BST
DTSTART:20260329T010000
END:DAYLIGHT
BEGIN:STANDARD
TZOFFSETFROM:+0100
TZOFFSETTO:+0000
TZNAME:GMT
DTSTART:20261025T010000
END:STANDARD
END:VTIMEZONE
BEGIN:VEVENT
DTSTART;TZID=Europe/London:20250429T100000
DTEND;TZID=Europe/London:20250429T110000
DTSTAMP:20260426T070123
CREATED:20250404T072258Z
LAST-MODIFIED:20250424T124240Z
UID:10000077-1745920800-1745924400@louisedawson.com
SUMMARY:FREE! CPD webinar with ReadSpeaker: How to Leverage Universal Design for Learning to Support Inclusion in International Schools.
DESCRIPTION:Join Emily Worthington\, Education Marketing Manager for EMEA at ReadSpeaker\, on 29th April at 10 am GMT +1 (1pm UAE time) for a Continuing Professional Development (CPD) webinar focused on How to Leverage Universal Design for Learning to Support Inclusion in International Schools. \nTo attend this event you will need to sign up to the ISC Community for free: https://ow.ly/1oKN50VqhuQ \nIf you have any questions before the webinar\, please email emily.worthington@readspeaker.com \nThis webinar will be hosted in English. \n  \n  \nDisclaimer \nThis training is organised by an external organisation and Louise Dawson Professional Development and Management Training cannot accept any liability or responsibility for the content or quality of the training. \nPayment is made directly with the external training partner and any conversation about delivery of the training\, payment\, refunds\, etc should be addressed directly to the external company. \nIf you have concerns about any content of the training then please let us know so we can raise them with the training provider on behalf of all delegates/attendees.
URL:https://louisedawson.com/event/free-cpd-webinar-with-readspeaker-how-to-leverage-universal-design-for-learning-to-support-inclusion-in-international-schools/
CATEGORIES:External Training
ATTACH;FMTTYPE=image/jpeg:https://louisedawson.com/wp-content/uploads/2025/04/250429-ReadSpeaker-webinar-with-ISC.jpeg
END:VEVENT
END:VCALENDAR