BEGIN:VCALENDAR
VERSION:2.0
PRODID:-//Louise Dawson Professional and Management Development Training - ECPv6.15.20//NONSGML v1.0//EN
CALSCALE:GREGORIAN
METHOD:PUBLISH
X-ORIGINAL-URL:https://louisedawson.com
X-WR-CALDESC:Events for Louise Dawson Professional and Management Development Training
REFRESH-INTERVAL;VALUE=DURATION:PT1H
X-Robots-Tag:noindex
X-PUBLISHED-TTL:PT1H
BEGIN:VTIMEZONE
TZID:Asia/Dubai
BEGIN:STANDARD
TZOFFSETFROM:+0400
TZOFFSETTO:+0400
TZNAME:+04
DTSTART:20240101T000000
END:STANDARD
END:VTIMEZONE
BEGIN:VEVENT
DTSTART;TZID=Asia/Dubai:20250623T083000
DTEND;TZID=Asia/Dubai:20250625T163000
DTSTAMP:20260426T073746
CREATED:20250618T082447Z
LAST-MODIFIED:20250618T083201Z
UID:10000097-1750667400-1750869000@louisedawson.com
SUMMARY:CPI - Help Create a Safer Workplace Training\, June 2025
DESCRIPTION:Help Create a Safer Workplace\nAttend Safety Intervention™ Foundation ICP Training (Train the trainer) \n\n🧡 Understand how trauma impacts brain psychology and behaviour so you can more effectively de-escalate life’s daily crisis moments.\n🧡 Employ a person-centred approach that offers consistent inclusive and culturally sensitive strategies to help those in crisis.\n🧡 Learn when\, why\, and how to apply safety interventions and disengagement techniques for de-escalating risk behaviours \n🧡 2.5 Hours Online training followed by\,\n🧡 3 days in class training\n📆 23-25 June 2025 8.30am – 4.30pm each day \nTo register\, contact Peter Hawtin – General Manager CPI Dubai LLC on: \n💬 WhatsApp: +971 56 225 7220\n📧 Email: ContactUs@crisisprevention.com \n \nDisclaimer \nThis training is organised by an external organisation and Louise Dawson Professional Development and Management Training cannot accept any liability or responsibility for the content or quality of the training. \nPayment is made directly with the external training partner and any conversation about delivery of the training\, payment\, refunds\, etc should be addressed directly to the external company. \nIf you have concerns about any content of the training then please let us know so we can raise them with the training provider on behalf of all delegates/attendees.
URL:https://louisedawson.com/event/cpi-help-create-a-safer-workplace-training-june-2025/
CATEGORIES:External Training
ORGANIZER;CN="Crisis Prevention Institute (CPI)":MAILTO:ContactUs@crisisprevention.com
END:VEVENT
END:VCALENDAR