BEGIN:VCALENDAR
VERSION:2.0
PRODID:-//Louise Dawson Professional and Management Development Training - ECPv6.15.20//NONSGML v1.0//EN
CALSCALE:GREGORIAN
METHOD:PUBLISH
X-WR-CALNAME:Louise Dawson Professional and Management Development Training
X-ORIGINAL-URL:https://louisedawson.com
X-WR-CALDESC:Events for Louise Dawson Professional and Management Development Training
REFRESH-INTERVAL;VALUE=DURATION:PT1H
X-Robots-Tag:noindex
X-PUBLISHED-TTL:PT1H
BEGIN:VTIMEZONE
TZID:Asia/Dubai
BEGIN:STANDARD
TZOFFSETFROM:+0400
TZOFFSETTO:+0400
TZNAME:+04
DTSTART:20250101T000000
END:STANDARD
END:VTIMEZONE
BEGIN:VEVENT
DTSTART;TZID=Asia/Dubai:20260401T160000
DTEND;TZID=Asia/Dubai:20260401T170000
DTSTAMP:20260425T164531
CREATED:20260330T094824Z
LAST-MODIFIED:20260330T094824Z
UID:10000340-1775059200-1775062800@louisedawson.com
SUMMARY:FREE Webinar! Effective Use of Wellbeing Data\, with youHQ
DESCRIPTION:Submit your own questions\, plus learn from leading experts: \n✔️ Creating an emotionally safe place for children to feel they belong\n✔️ How emotional regulation is the key to feeling safe\n✔️ Bridge the gap between home & school\n✔️ Practical ideas for building connection & belonging in the family \n \n  \nCan’t make it live? Sign up anyway to receive a free recording so you don’t miss these expert insights. \n  \n  \n  \nDisclaimer \nThis training is organised by an external organisation and Louise Dawson Professional Development and Management Training cannot accept any liability or responsibility for the content or quality of the training. \nPayment is made directly with the external training partner and any conversation about delivery of the training\, payment\, refunds\, etc should be addressed directly to the external company. \nIf you have concerns about any content of the training then please let us know so we can raise them with the training provider on behalf of all delegates/attendees.
URL:https://louisedawson.com/event/free-webinar-effective-use-of-wellbeing-data/
LOCATION:Webinar – FREE
CATEGORIES:External Training,Well Being Network
END:VEVENT
END:VCALENDAR