BEGIN:VCALENDAR
VERSION:2.0
PRODID:-//Louise Dawson Professional and Management Development Training - ECPv6.15.20//NONSGML v1.0//EN
CALSCALE:GREGORIAN
METHOD:PUBLISH
X-ORIGINAL-URL:https://louisedawson.com
X-WR-CALDESC:Events for Louise Dawson Professional and Management Development Training
REFRESH-INTERVAL;VALUE=DURATION:PT1H
X-Robots-Tag:noindex
X-PUBLISHED-TTL:PT1H
BEGIN:VTIMEZONE
TZID:Asia/Dubai
BEGIN:STANDARD
TZOFFSETFROM:+0400
TZOFFSETTO:+0400
TZNAME:+04
DTSTART:20240101T000000
END:STANDARD
END:VTIMEZONE
BEGIN:VEVENT
DTSTART;TZID=Asia/Dubai:20250917T190000
DTEND;TZID=Asia/Dubai:20250917T193000
DTSTAMP:20260426T043313
CREATED:20250913T115113Z
LAST-MODIFIED:20250913T130041Z
UID:10000203-1758135600-1758137400@louisedawson.com
SUMMARY:FREE Webinar! Unlocking Exam Success Through Inclusion with Everway - September 2025
DESCRIPTION:🆓 Unlocking Exam Success Through Inclusion \nJoin Laura and Alan for a 30 minute live webinar \n📅 Wednesday 17th September 2025\n⏰ 4:00pm \nDiscover how Read&Write and ExamWritePad can support every stage of learning – from revision and study through to use during exams. \nYou’ll leave with a clear understanding of how Everway empowers learners. \nPart of our HITT (High Intensity Teacher Training) Series\, this session gives teachers practical tools to build student independence and provide access to resources in one place. \nRegister below to receive your webinar link by email. Join live or watch back at a time that suits you. \n🖥️ Book your ticket for this session here \n  \nDisclaimer \nThis training is organised by an external organisation and Louise Dawson Professional Development and Management Training cannot accept any liability or responsibility for the content or quality of the training. \nPayment is made directly with the external training partner and any conversation about delivery of the training\, payment\, refunds\, etc should be addressed directly to the external company. \nIf you have concerns about any content of the training then please let us know so we can raise them with the training provider on behalf of all delegates/attendees.
URL:https://louisedawson.com/event/free-webinar-unlocking-exam-success-through-inclusion-with-everway-september-2025/
CATEGORIES:External Training
ATTACH;FMTTYPE=image/png:https://louisedawson.com/wp-content/uploads/2025/09/250917-Everway-Exam-Success-webinar.png
END:VEVENT
END:VCALENDAR