BEGIN:VCALENDAR
VERSION:2.0
PRODID:-//Louise Dawson Professional and Management Development Training - ECPv6.15.20//NONSGML v1.0//EN
CALSCALE:GREGORIAN
METHOD:PUBLISH
X-ORIGINAL-URL:https://louisedawson.com
X-WR-CALDESC:Events for Louise Dawson Professional and Management Development Training
REFRESH-INTERVAL;VALUE=DURATION:PT1H
X-Robots-Tag:noindex
X-PUBLISHED-TTL:PT1H
BEGIN:VTIMEZONE
TZID:Asia/Dubai
BEGIN:STANDARD
TZOFFSETFROM:+0400
TZOFFSETTO:+0400
TZNAME:+04
DTSTART:20240101T000000
END:STANDARD
END:VTIMEZONE
BEGIN:VEVENT
DTSTART;TZID=Asia/Dubai:20251105T160000
DTEND;TZID=Asia/Dubai:20251105T170000
DTSTAMP:20260425T171730
CREATED:20250722T175024Z
LAST-MODIFIED:20250722T181053Z
UID:10000108-1762358400-1762362000@louisedawson.com
SUMMARY:FREE Webinar! Widgit Wednesday - What Do You Want To Know 5 November '25
DESCRIPTION:For over 40 years Widgit Symbols have been used worldwide to support people and help them realise their full potential\, no matter what their age\, ability or background. \n🆓 Join us on the first Wednesday of every month at 12pm GMT for a relaxed live session with Becca\, our Symbol & Education Specialist! \n🌟 These sessions are ideal if you do not have Widgit yet but want to see what it’s all about. \n✨ Becca from Widgit will walk you through the software\, answer your questions\, and show you how Widgit can make a real difference in the classroom. \n🖥️ Book your ticket for this session here \n  \nDisclaimer \nThis training is organised by an external organisation and Louise Dawson Professional Development and Management Training cannot accept any liability or responsibility for the content or quality of the training. \nPayment is made directly with the external training partner and any conversation about delivery of the training\, payment\, refunds\, etc should be addressed directly to the external company. \nIf you have concerns about any content of the training then please let us know so we can raise them with the training provider on behalf of all delegates/attendees.
URL:https://louisedawson.com/event/free-webinar-widgit-wednesday-what-do-you-want-to-know-5-november-25/
CATEGORIES:External Training
ATTACH;FMTTYPE=image/png:https://louisedawson.com/wp-content/uploads/2025/07/251105-Widgit-Wednesdays-featured-image.png
END:VEVENT
BEGIN:VEVENT
DTSTART;TZID=Asia/Dubai:20251105T200000
DTEND;TZID=Asia/Dubai:20251105T204500
DTSTAMP:20260425T171730
CREATED:20251016T115702Z
LAST-MODIFIED:20251017T145541Z
UID:10000220-1762372800-1762375500@louisedawson.com
SUMMARY:FREE! Mighty Writer CPD webinar “Building Sentences Aloud" 5th November 2025
DESCRIPTION:Stay current with Mighty Writer’s literacy CPD webinar series. \nSpeaking in full\, well-structured sentences is a vital stepping stone to confident\, independent writing. \nWe hope you can join us\, or please do pass on to a colleague. We will also send you a CPD certificate of completion and a recording to those who register. \nPlease register here for this opportunity to share best practice. \n🔊 Speaker: Emma Ralph\, Founder\, Mighty Writer. \n✨ Emma Ralph is a highly experienced teacher and Assistant Head with a flair for helping children to maximise their abilities. \n✨ Emma developed the highly-acclaimed literacy resource\, Mighty Writer\, which was launched at The Education Show in 2016. \nRegistration link: https://events.teams.microsoft.com/event/17e430d3-43c6-49e5-9eec-eb1d994db566@8ac6952a-ef26-4118-b781-35d616360bfc \n  \nDisclaimer \nThis training is organised by an external organisation and Louise Dawson Professional Development and Management Training cannot accept any liability or responsibility for the content or quality of the training. \nPayment is made directly with the external training partner and any conversation about delivery of the training\, payment\, refunds\, etc should be addressed directly to the external company. \nIf you have concerns about any content of the training then please let us know so we can raise them with the training provider on behalf of all delegates/attendees.
URL:https://louisedawson.com/event/free-mighty-writer-cpd-webinar-building-sentences-aloud-5th-november-2025/
CATEGORIES:EAL/ELL Network,English Network,External Training
ATTACH;FMTTYPE=image/png:https://louisedawson.com/wp-content/uploads/2025/10/251105-Mighty-Writer-CPD-webinar-540x675-1.png
LOCATION:https://louisedawson.com/event/free-mighty-writer-cpd-webinar-building-sentences-aloud-5th-november-2025/
END:VEVENT
BEGIN:VEVENT
DTSTART;TZID=Asia/Dubai:20251112T153000
DTEND;TZID=Asia/Dubai:20251112T173000
DTSTAMP:20260425T171730
CREATED:20251104T111714Z
LAST-MODIFIED:20251104T113951Z
UID:10000253-1762961400-1762968600@louisedawson.com
SUMMARY:FREE! 2-hour CPD session "Beyond the Buzzwords:  What Really Works in Schools" - 12 November '25
DESCRIPTION:GEST Consultancy will be running a 2-hour CPD session “Beyond the Buzzwords: What Really Works in Schools” from 3.30pm on Wednesday 12th November. \nThe session will be led by James Persechino\, with potential for guest speakers based on experience on the particular topic. \nThe roundtable discussion topics will cover: \n\nStaff & Student Well-being\nConfidence and Success for Students in English Writing\nDigital Literacy Tools that actually work\nParent Communication and Operations\n\n  \nWe go beyond theory and explore what’s actually making a difference in classrooms. \n  \nPractical strategies. Professional conversation. \n  \nThis event will be free of charge and will run as a breakout from GESS Dubai\, at McGettigan’s World Trade Centre. \nGEST Consultancy will provide limited food and drink tokens for attendees. \nRegister here: https://api.leadconnectorhq.com/widget/form/FePo49T6mG8QbaXtoDYz \n  \nDisclaimer \nThis training is organised by an external organisation and Louise Dawson Professional Development and Management Training cannot accept any liability or responsibility for the content or quality of the training. \nPayment is made directly with the external training partner and any conversation about delivery of the training\, payment\, refunds\, etc should be addressed directly to the external company. \nIf you have concerns about any content of the training then please let us know so we can raise them with the training provider on behalf of all delegates/attendees.
URL:https://louisedawson.com/event/free-2-hour-cpd-session-beyond-buzzwords-12-novemberting-connection-25-september-25/
LOCATION:McGettigans\, Dubai World Trade Centre\, Dubai World Trade Centre\, Dubai\, United Arab Emirates
CATEGORIES:External Training
ATTACH;FMTTYPE=image/png:https://louisedawson.com/wp-content/uploads/2025/11/251112-GEST-beyond-buzzwords.png
END:VEVENT
BEGIN:VEVENT
DTSTART;TZID=Asia/Dubai:20251118T130000
DTEND;TZID=Asia/Dubai:20251118T140000
DTSTAMP:20260425T171730
CREATED:20251111T171914Z
LAST-MODIFIED:20251117T075924Z
UID:10000268-1763470800-1763474400@louisedawson.com
SUMMARY:FREE Webinar! "Raising Awareness & Reducing Mental Health Stigma" with elggo
DESCRIPTION:Elggo Free Webinar\nAs part of Abu Dhabi Early Childhood Week 2025 \nJoin us for a free webinar with Dr. Khaled Kadry on how stigma affects young children — and what we can do about it. \n Topic : Raising Awareness & Reducing Mental Health Stigma\n Tuesday\, November 18 |  1 PM (Gulf Time)\n Arabic & English |  Open to all\n Register now: https://www.elggo.com/events \n#ADEarlyChildhoodWeek2025 \n  \n\n  \nDisclaimer \nThis training is organised by an external organisation and Louise Dawson Professional Development and Management Training cannot accept any liability or responsibility for the content or quality of the training. \nPayment is made directly with the external training partner and any conversation about delivery of the training\, payment\, refunds\, etc should be addressed directly to the external company. \nIf you have concerns about any content of the training then please let us know so we can raise them with the training provider on behalf of all delegates/attendees.
URL:https://louisedawson.com/event/free-webinar-raising-awareness-reducing-mental-health-stigma-with-elggo/
LOCATION:Webinar – FREE
CATEGORIES:External Training,Well Being Network
ATTACH;FMTTYPE=image/jpeg:https://louisedawson.com/wp-content/uploads/2025/11/ELGGO-WEBINAR-NOV-18.jpeg
END:VEVENT
BEGIN:VEVENT
DTSTART;TZID=Asia/Dubai:20251119T131500
DTEND;TZID=Asia/Dubai:20251119T140000
DTSTAMP:20260425T171730
CREATED:20251017T113722Z
LAST-MODIFIED:20251017T114935Z
UID:10000225-1763558100-1763560800@louisedawson.com
SUMMARY:FREE! High-Impact LSA Literacy Training with Mighty Writer - 19 November
DESCRIPTION:Teaching oracy and writing has never been more of a priority\, and with the new UK Department for Education (DfE) writing framework\, the demand for a clear\, evidence-based approach is greater than ever. \nWe know the work Learning Support Assistants (LSAs) undertake is vital in engaging and supporting pupils in the classroom. \nThis focused series of 10 webinars equips LSAs with practical tools to support oracy and writing across EYFS and Key Stages 1 & 2. \nEach session builds essential skills—from oral language and sentence construction to genre awareness and targeted interventions. \nThrough this series of webinars LSAs will: \n\nDevelop expertise in how to inspire creativity through talk and play\nScaffold sentence-building\, and apply techniques like oral rehearsal and vocabulary expansion\n\nBy the end of this series of webinars LSAs will feel confident to help pupils become expressive\, accurate\, and purposeful writers. \n  \nWebinar Dates And Topics\n\nWednesday 22nd October 2025 – Laying the Foundations: Building Oral Language for Writing Success\nWednesday 19th November 2025 – From Scribbles to Sentences: Supporting Early Writing in EYFS\nWednesday 10th December 2025 – Visuals\, Prompts & Physical Skills: Inspiring Writing Through Images\, Handwriting and Dictation\nWednesday 14th January 2026 – Scaffolding Sentence Construction in KS1\nWednesday 11th February 2026 – Oral Rehearsal That Works: Reducing Cognitive Load in Writing Tasks\nWednesday 18th March 2026 – Vocabulary Matters: Expanding Word Choice and Expression\nWednesday 15th April 2026 – Grammar in Action: Making Sentence Rules Stick\nWednesday 13th May 2026 – writing for Purpose: Helping Pupils Understand Genre and Audience\nWednesday 17th June 2026 – Tracking Progress with Confidence: Simple Tools for Meaningful Assessment\nWednesday 15th July 2026 – Targeted Interventions in KS2: Closing the Writing Gap\n\nThis is an opportunity for strategic investment in your staff and a powerful driver for school-wide improvement. \nBy equipping your LSAs with this training\, you will see: \n\nA direct impact on pupil attainment\nincreased confidence across your team\, and\nA more cohesive\, expert-led approach to the teaching of oracy and writing across your school.\n\n  \nPlease share these details with your LSAs and they can book easily via the Mighty Writer website – click here to book as many sessions as you like. \nRegistration link: https://www.mightywriter.co.uk/ta-webinars \nMore details about Mighty Writer here \n  \nDisclaimer \nThis training is organised by an external organisation and Louise Dawson Professional Development and Management Training cannot accept any liability or responsibility for the content or quality of the training. \nPayment is made directly with the external training partner and any conversation about delivery of the training\, payment\, refunds\, etc should be addressed directly to the external company. \nIf you have concerns about any content of the training then please let us know so we can raise them with the training provider on behalf of all delegates/attendees.
URL:https://louisedawson.com/event/free-high-impact-lsa-literacy-training-with-mighty-writer-19-november/
CATEGORIES:EAL/ELL Network,English Network,External Training
ATTACH;FMTTYPE=image/png:https://louisedawson.com/wp-content/uploads/2025/10/251022-Mighty-Writer-LSA-High-Impact-LSA-training-webinars-.png
LOCATION:https://louisedawson.com/event/free-high-impact-lsa-literacy-training-with-mighty-writer-19-november/
END:VEVENT
BEGIN:VEVENT
DTSTART;TZID=Asia/Dubai:20251119T200000
DTEND;TZID=Asia/Dubai:20251119T204500
DTSTAMP:20260425T171730
CREATED:20251016T121932Z
LAST-MODIFIED:20251020T103138Z
UID:10000221-1763582400-1763585100@louisedawson.com
SUMMARY:FREE! Mighty Writer CPD webinar “Supporting All Learners - Early Identification and Assessment" 19th November 2025
DESCRIPTION:Stay current with Mighty Writer’s literacy CPD webinar series. \nEvery child’s learning journey is unique – and the earlier we understand their needs\, the better we can support them. \nWe hope you can join us\, or please do pass on to a colleague. We will also send you a CPD certificate of completion and a recording to those who register. \nPlease register here for this opportunity to share best practice. \n🔊 Speaker: Emma Ralph\, Founder\, Mighty Writer. \n✨ Emma Ralph is a highly experienced teacher and Assistant Head with a flair for helping children to maximise their abilities. \n✨ Emma developed the highly-acclaimed literacy resource\, Mighty Writer\, which was launched at The Education Show in 2016. \nRegistration link: https://events.teams.microsoft.com/event/17e430d3-43c6-49e5-9eec-eb1d994db566@8ac6952a-ef26-4118-b781-35d616360bfc \n  \nDisclaimer \nThis training is organised by an external organisation and Louise Dawson Professional Development and Management Training cannot accept any liability or responsibility for the content or quality of the training. \nPayment is made directly with the external training partner and any conversation about delivery of the training\, payment\, refunds\, etc should be addressed directly to the external company. \nIf you have concerns about any content of the training then please let us know so we can raise them with the training provider on behalf of all delegates/attendees.
URL:https://louisedawson.com/event/free-mighty-writer-cpd-webinar-supporting-all-learners-early-identification-and-assessment-19th-november-2025/
CATEGORIES:EAL/ELL Network,English Network,External Training
ATTACH;FMTTYPE=image/png:https://louisedawson.com/wp-content/uploads/2025/10/251119-Mighty-Writer-CPD-webinar.png
LOCATION:https://louisedawson.com/event/free-mighty-writer-cpd-webinar-supporting-all-learners-early-identification-and-assessment-19th-november-2025/
END:VEVENT
BEGIN:VEVENT
DTSTART;TZID=Asia/Dubai:20251120T163000
DTEND;TZID=Asia/Dubai:20251120T173000
DTSTAMP:20260425T171730
CREATED:20251110T103342Z
LAST-MODIFIED:20251117T085406Z
UID:10000265-1763656200-1763659800@louisedawson.com
SUMMARY:FREE Webinar! 'Exam Pressure: Tools & Tips for Success' with The Happy Confident Company
DESCRIPTION:Join us for this free 1-hour webinar designed for parents\, caregivers & educators who want practical strategies for supporting exam anxiety.\n\nWhether your child is stressed by tests\, or shows symptoms of anxiety around exam time\, this webinar will equip you with understanding and strategies for managing their stress. \nLed by The Happy Confident Company founder Nadim Saad\, with three expert guests; Natalie Costa\, Louise Moore & Louise Treherne. \nWhat you’ll learn: \n\nThe psychology behind exam stress & anxiety\nTools & techniques to help manage exam stress\nWays to build emotional resilience & a growth mindset\nHow parents & educators can create supportive environment\n\nThursday 20th November | 4:30 – 5:30pm UAE/GST (12.30–1.30pm UK) \nMore details on the event and panel members here \nSign up now to reserve your spot \nRegistration link:  https://zoom.us/webinar/register/6817624356793/WN_FWDT84hgT4yLB12Eu4pZWA \n\n  \nDisclaimer \nThis training is organised by an external organisation and Louise Dawson Professional Development and Management Training cannot accept any liability or responsibility for the content or quality of the training. \nPayment is made directly with the external training partner and any conversation about delivery of the training\, payment\, refunds\, etc should be addressed directly to the external company. \nIf you have concerns about any content of the training then please let us know so we can raise them with the training provider on behalf of all delegates/attendees.
URL:https://louisedawson.com/event/free-webinar-free-webinar-exam-pressure-tools-tips-for-success-with-the-happy-confident-company/
CATEGORIES:External Training,Well Being Network
ATTACH;FMTTYPE=image/png:https://louisedawson.com/wp-content/uploads/2025/11/251120-Happy-Confident-Exam-Pressure-webinar.png
END:VEVENT
BEGIN:VEVENT
DTSTART;TZID=Asia/Dubai:20251125T170000
DTEND;TZID=Asia/Dubai:20251125T180000
DTSTAMP:20260425T171730
CREATED:20251117T073024Z
LAST-MODIFIED:20251117T080244Z
UID:10000270-1764090000-1764093600@louisedawson.com
SUMMARY:FREE Webinar! "Fluent Futures: How AI is Shaping  the Future of English Language Learning Today." A live webinar discussion with Britannica Education
DESCRIPTION:Join us for a high-stakes live discussion exploring the immediate impact of AI on English language learning. \nTake part in our live webinar on Tuesday 25 November at 5.00 PM GST/UAE. \n\n\n\n\n\n\n\n\nTopics will include:\n \n\nHow AI can improve learning outcomes across all ages\nThe opportunities and challenges of integrating AI-driven tech into classrooms and self-directed learning\nEmbracing whole-school digital strategies\nWhat will the future of English language learning look like\n\n\n\n\n\n\n  \nDisclaimer \nThis training is organised by an external organisation and Louise Dawson Professional Development and Management Training cannot accept any liability or responsibility for the content or quality of the training. \nPayment is made directly with the external training partner and any conversation about delivery of the training\, payment\, refunds\, etc should be addressed directly to the external company. \nIf you have concerns about any content of the training then please let us know so we can raise them with the training provider on behalf of all delegates/attendees.
URL:https://louisedawson.com/event/free-webinar-fluent-futures-how-ai-is-shaping-the-future-of-english-language-learning-today-a-live-webinar-discussion-with-britannica-education/
LOCATION:Webinar – FREE
CATEGORIES:EAL/ELL Network,English Network,External Training
ATTACH;FMTTYPE=image/png:https://louisedawson.com/wp-content/uploads/2025/11/251125-Fluent-Futures-Britannica-Education-webinar.png
END:VEVENT
BEGIN:VEVENT
DTSTART;TZID=Asia/Dubai:20251128T090000
DTEND;TZID=Asia/Dubai:20251128T110000
DTSTAMP:20260425T171730
CREATED:20250827T222103Z
LAST-MODIFIED:20251117T053554Z
UID:10000132-1764320400-1764327600@louisedawson.com
SUMMARY:FREE! Gifted and Talented Network Meeting - November 2025
DESCRIPTION:🆓 Join us for another of our FREE Friday morning sessions where we get together to discuss Gifted and Talented topics. 🆓 \n💜 This is a peer-led group\, where attendees can discuss and co-create solutions to current challenges with colleagues from other schools across the UAE. \n🫖☕ Tea\, coffee and light refreshments will be provided. 🍥🥐 \n  \n\nPlease be aware that some people have had issues trying to book spaces on our events. We believe this is an issue with the du/Virgin Mobile networks. We apologies for this issue\, which is beyond our control.\nIf you experience this problem booking for our events please send a email to media@louisedawson.com with the event and date\, your name(s) and email address(es) of the people you would like to book on to the event. \n  \nTo book your space at this event…\n\nUsing the + and – buttons in the “Tickets” dialog box select the number of tickets you require\n\n*** If you do not select the number of tickets you required you will be unable to progress with your order *** \n\nClick on the “Get Tickets” button\n\nOn the next screen… \n\nAdd your name as the “purchaser” of the ticket(s)\nAdd your email address [this is the address the confirmation details will be sent to]\nEnter your payment details [if required]\nClick on the “Get Tickets” or “Purchase Tickets” button at the foot of the page to complete your order\n\n  \nYou will receive an on-screen order confirmation\, and you will also be sent two emails to the email address you entered\, which will include: \n\nYour tickets\, and\nYour purchase receipt\n\n  \nIf you do not receive your purchase receipt or tickets please ensure you have checked your spam or junk folder!
URL:https://louisedawson.com/event/free-gifted-and-talented-network-meeting-november-2025/
LOCATION:Louise Dawson Professional and Management Development\, United Arab Emirates
CATEGORIES:Gifted and Talented Network
ATTACH;FMTTYPE=image/png:https://louisedawson.com/wp-content/uploads/2025/08/251128-Gifted-and-Talented-network-meeting.png
END:VEVENT
BEGIN:VEVENT
DTSTART;TZID=Asia/Dubai:20251128T090000
DTEND;TZID=Asia/Dubai:20251128T110000
DTSTAMP:20260425T171730
CREATED:20251027T133858Z
LAST-MODIFIED:20251124T111224Z
UID:10000251-1764320400-1764327600@louisedawson.com
SUMMARY:FREE! Drop-in coffee morning session To Meet Debbie Gilmore from Arrowsmith and Emma Ross from BrainLinks - November 2025
DESCRIPTION:Join us for a FREE Friday coffee morning drop-in session with Debbie Gilmore from Arrowsmith and Emma Ross from BrainLinks. \nOpen to parents\, teachers\, and practitioners – join us to talk to us informally about your child\, students\, or clients. \nDebbie will talk more about the Arrowsmith Program and Emma will explain how BrainLinks by TDCC is applying the program locally. \nTea\, coffee and light refreshments will be provided. \n 
URL:https://louisedawson.com/event/free-drop-in-session-to-meet-jdebbie-gilmore-from-arrowsmith-and-emma-ross-from-brainlinks-november-2025/
LOCATION:Louise Dawson Professional and Management Development\, United Arab Emirates
CATEGORIES:Network Meetings
ATTACH;FMTTYPE=image/png:https://louisedawson.com/wp-content/uploads/2025/10/251128-BrainLinks-coffee-morning.png
END:VEVENT
BEGIN:VEVENT
DTSTART;TZID=Asia/Dubai:20251128T150000
DTEND;TZID=Asia/Dubai:20251128T160000
DTSTAMP:20260425T171730
CREATED:20251124T103616Z
LAST-MODIFIED:20251124T105318Z
UID:10000275-1764342000-1764345600@louisedawson.com
SUMMARY:FREE! Webinar - Transforming Learning and Behavior in Children Who Learn Differently - with Debbie Gilmore\, Executive Director of The Arrowsmith Program\, and BrainLinks by TDCC
DESCRIPTION:Join this FREE webinar with Debbie Gilmore from Arrowsmith and Emma Ross from BrainLinks. \nYou will learn: \n1) Identify the cognitive factors that influence learning\, focus\, and behavior. \n2) Discover how targeted brain-based approaches create lasting improvements. \n3) Learn how the Arrowsmith Program can help your child succeed in school and daily life. \nDate: Friday Nov 28\, 2025 \nTime: 3pm UAE Time \nVenue: Zoom \nRegister here \nFull registration link: https://form.jotform.com/TDCC/AP \nFind out more about BrainLinks here \nFind out more about the Arrowsmith Program here \n  \nDebbie Gilmore Executive Director\, The Arrowsmith Program \nDebbie has enjoyed a varied career in educational leadership\, and now is helping bring about an educational revolution. As teacher\, literacy adviser\, assistant principal\, principal and administrator\, Debbie always sought programs that were innovative\, inclusive and made a meaningful impact in the lives of students. When she found Arrowsmith\, it transformed her understanding of what was possible. After spearheading an initiative to bring Arrowsmith to schools in Sydney’s Catholic Education Office where she was Head of Diverse Learning\, Debbie joined Arrowsmith as Executive Director. Since 2013 she has been leading the strategic growth and development of Arrowsmith\, and every day speaks to educational leaders about the power and potential that cognitive programming can have in deepening life long learning experiences. As a parent she has seen first hand how Arrowsmith can transform the brains and lives of students and the community that surrounds them. \n  \nDisclaimer \nThis training is organised by an external organisation and Louise Dawson Professional Development and Management Training cannot accept any liability or responsibility for the content or quality of the training. \nPayment is made directly with the external training partner and any conversation about delivery of the training\, payment\, refunds\, etc should be addressed directly to the external company. \nIf you have concerns about any content of the training then please let us know so we can raise them with the training provider on behalf of all delegates/attendees.
URL:https://louisedawson.com/event/free-webinar-transforming-learning-and-behavior-in-children-who-learn-differently-with-debbie-gilmore-executive-director-of-the-arrowsmith-program-and-brainlinks-by-tdcc/
LOCATION:Webinar – FREE
CATEGORIES:Network Meetings
ATTACH;FMTTYPE=image/png:https://louisedawson.com/wp-content/uploads/2025/11/251128-BrainLinks-debbie-gilmore-arrowsmith-webinar.png
END:VEVENT
END:VCALENDAR