BEGIN:VCALENDAR
VERSION:2.0
PRODID:-//Louise Dawson Professional and Management Development Training - ECPv6.15.20//NONSGML v1.0//EN
CALSCALE:GREGORIAN
METHOD:PUBLISH
X-ORIGINAL-URL:https://louisedawson.com
X-WR-CALDESC:Events for Louise Dawson Professional and Management Development Training
REFRESH-INTERVAL;VALUE=DURATION:PT1H
X-Robots-Tag:noindex
X-PUBLISHED-TTL:PT1H
BEGIN:VTIMEZONE
TZID:Asia/Dubai
BEGIN:STANDARD
TZOFFSETFROM:+0400
TZOFFSETTO:+0400
TZNAME:+04
DTSTART:20240101T000000
END:STANDARD
END:VTIMEZONE
BEGIN:VEVENT
DTSTART;TZID=Asia/Dubai:20251010T090000
DTEND;TZID=Asia/Dubai:20251010T110000
DTSTAMP:20260425T200033
CREATED:20250929T125805Z
LAST-MODIFIED:20250929T140231Z
UID:10000210-1760086800-1760094000@louisedawson.com
SUMMARY:FREE! Access for All: Digital Tools for Inclusive Exam Success with Carrie-Ann from Everway - October 2025
DESCRIPTION:Access for All: Digital Tools for Inclusive Exam Success\nJoin Louise Dawson Educational Services and the team from Everway (formerly Texthelp) for a relaxed and practical coffee morning designed for Inclusion Network Leads across the region. \nIn this informal session\, we’ll explore how schools can confidently support exam access arrangements using simple\, compliant digital tools. You’ll discover how Read&Write and ExamWritePad are already helping schools remove the need for human readers and scribes—while staying fully aligned with JCQ\, Cambridge and IB guidelines. \nWhat you’ll get: \n\nA look at how to support learners with SEND\, EAL and temporary needs using technology that mirrors their ‘normal way of working’\nReal-world use cases from schools\nLive demos of key tools like Read&Write and ExamWritePad\nTime to connect and share experiences with fellow inclusion leaders\n\nWhether you’re new to digital access tools or ready to take the next step\, this morning is all about practical ideas\, confidence-building insights\, and collaborative conversations. \n🫖☕ Tea\, coffee and light refreshments will be provided. 🍥🥐 \n  \nTo book your space at this event…\n\nUsing the + and – buttons in the “Tickets” dialog box select the number of tickets you require\n\n*** If you do not select the number of tickets you required you will be unable to progress with your order *** \n\nClick on the “Get Tickets” button\n\nOn the next screen… \n\nAdd your name as the “purchaser” of the ticket(s)\nAdd your email address [this is the address the confirmation details will be sent to]\nEnter your payment details [if required]\nClick on the “Get Tickets” or “Purchase Tickets” button at the foot of the page to complete your order\n\n  \nYou will receive an on-screen order confirmation\, and you will also be sent two emails to the email address you entered\, which will include: \n\nYour tickets\, and\nYour purchase receipt\n\n  \nIf you do not receive your purchase receipt or tickets please ensure you have checked your spam or junk folder!
URL:https://louisedawson.com/event/free-access-for-all-digital-tools-for-inclusive-exam-success-with-carrie-ann-from-everway-october-2025/
LOCATION:Louise Dawson Professional and Management Development\, United Arab Emirates
ATTACH;FMTTYPE=image/png:https://louisedawson.com/wp-content/uploads/2025/09/251010-Everway-drop-in-session.png
END:VEVENT
END:VCALENDAR