BEGIN:VCALENDAR
VERSION:2.0
PRODID:-//Louise Dawson Professional and Management Development Training - ECPv6.15.20//NONSGML v1.0//EN
CALSCALE:GREGORIAN
METHOD:PUBLISH
X-ORIGINAL-URL:https://louisedawson.com
X-WR-CALDESC:Events for Louise Dawson Professional and Management Development Training
REFRESH-INTERVAL;VALUE=DURATION:PT1H
X-Robots-Tag:noindex
X-PUBLISHED-TTL:PT1H
BEGIN:VTIMEZONE
TZID:Asia/Dubai
BEGIN:STANDARD
TZOFFSETFROM:+0400
TZOFFSETTO:+0400
TZNAME:+04
DTSTART:20240101T000000
END:STANDARD
END:VTIMEZONE
BEGIN:VEVENT
DTSTART;TZID=Asia/Dubai:20251118T130000
DTEND;TZID=Asia/Dubai:20251118T140000
DTSTAMP:20260425T183509
CREATED:20251111T171914Z
LAST-MODIFIED:20251117T075924Z
UID:10000268-1763470800-1763474400@louisedawson.com
SUMMARY:FREE Webinar! "Raising Awareness & Reducing Mental Health Stigma" with elggo
DESCRIPTION:Elggo Free Webinar\nAs part of Abu Dhabi Early Childhood Week 2025 \nJoin us for a free webinar with Dr. Khaled Kadry on how stigma affects young children — and what we can do about it. \n Topic : Raising Awareness & Reducing Mental Health Stigma\n Tuesday\, November 18 |  1 PM (Gulf Time)\n Arabic & English |  Open to all\n Register now: https://www.elggo.com/events \n#ADEarlyChildhoodWeek2025 \n  \n\n  \nDisclaimer \nThis training is organised by an external organisation and Louise Dawson Professional Development and Management Training cannot accept any liability or responsibility for the content or quality of the training. \nPayment is made directly with the external training partner and any conversation about delivery of the training\, payment\, refunds\, etc should be addressed directly to the external company. \nIf you have concerns about any content of the training then please let us know so we can raise them with the training provider on behalf of all delegates/attendees.
URL:https://louisedawson.com/event/free-webinar-raising-awareness-reducing-mental-health-stigma-with-elggo/
LOCATION:Webinar – FREE
CATEGORIES:External Training,Well Being Network
ATTACH;FMTTYPE=image/jpeg:https://louisedawson.com/wp-content/uploads/2025/11/ELGGO-WEBINAR-NOV-18.jpeg
END:VEVENT
END:VCALENDAR