BEGIN:VCALENDAR
VERSION:2.0
PRODID:-//Louise Dawson Professional and Management Development Training - ECPv6.15.20//NONSGML v1.0//EN
CALSCALE:GREGORIAN
METHOD:PUBLISH
X-WR-CALNAME:Louise Dawson Professional and Management Development Training
X-ORIGINAL-URL:https://louisedawson.com
X-WR-CALDESC:Events for Louise Dawson Professional and Management Development Training
REFRESH-INTERVAL;VALUE=DURATION:PT1H
X-Robots-Tag:noindex
X-PUBLISHED-TTL:PT1H
BEGIN:VTIMEZONE
TZID:Asia/Dubai
BEGIN:STANDARD
TZOFFSETFROM:+0400
TZOFFSETTO:+0400
TZNAME:+04
DTSTART:20250101T000000
END:STANDARD
END:VTIMEZONE
BEGIN:VEVENT
DTSTART;TZID=Asia/Dubai:20260128T200000
DTEND;TZID=Asia/Dubai:20260128T204500
DTSTAMP:20260425T190913
CREATED:20260112T094713Z
LAST-MODIFIED:20260112T095534Z
UID:10000301-1769630400-1769633100@louisedawson.com
SUMMARY:FREE! Mighty Writer CPD webinar "Quality Over Quantity: Rethinking Writing Expectations"
DESCRIPTION:Free Webinars for Teachers and Learning Support Assistants (LSAs and TAs)\nStay current with Mighty Writer’s literacy CPD webinar series for primary school teachers. \nEach session is designed to give you fresh ideas\, practical tools\, and proven techniques to make writing a joy for every child. \n  \nNot sure what it’s all about?\nLouise talks to David from Mighty Writer about the tool – see the discussion here \nWebinar where Louise discusses the new (July 2025) DfE Writing Framework with Emma Ralph from Mighty Writer – watch the recoding here \nFind out more about Mighty Writer here \n  \nHere’s what else we’ve got lined up for this term…\nQuality Over Quantity: Rethinking Writing Expectations\nWednesday 28th January\, 16:00 – 16:45 GMT (8pm – 8:45pm GST / UAE)\nWhy do sentences fall apart the moment we ask children to “write more”? Discover why pushing for quantity too soon can sacrifice clarity and control – and what to do instead. \nBOOK HERE \n  \nContinuous Provision and Mighty Writer\nMonday 23rd February\, 16:00 – 16:45 GMT (8pm – 8:45pm GST / UAE)\nWe teach phonics and sentence structure on the carpet – but the moment children move into Continuous Provision\, that knowledge often seems to vanish. Learn how to make skills stick. \nBOOK HERE \n  \nFrom Fairy Tales to Facts: Seamlessly Switching Genres in the Classroom\nWednesday 4th March\, 16:00 – 16:45 GMT (8pm – 8:45pm GST / UAE)\nNon-fiction can be just as exciting as storytelling – if we structure it right. Explore strategies to turn curiosity into clear\, purposeful writing. \nBOOK HERE \n  \nCreating a Culture of Writing: Whole School Strategies that Work\nMonday 16th March\, 16:00 – 16:45 GMT (8pm – 8:45pm GST / UAE)\nCulture shouldn’t mean extra work – it should make life easier. Discover practical\, whole-school approaches that really work. \nBOOK HERE \n  \nWe do hope you can join us\, or please do pass on to a colleague. Each webinar will be recorded for those who register along with a CPD certificate of attendance and any relevant resources to support you in the teaching of writing. \nPlease register here for this opportunity to share best practice. \n🔊 Speaker: Emma Ralph\, Founder\, Mighty Writer. \n✨ Emma Ralph is a highly experienced teacher and Assistant Head with a flair for helping children to maximise their abilities. \n✨ Emma developed the highly-acclaimed literacy resource\, Mighty Writer\, which was launched at The Education Show in 2016. \nRegistration link for this series of webinars: https://www.mightywriter.co.uk/Webinars \n  \nDisclaimer \nThis training is organised by an external organisation and Louise Dawson Professional Development and Management Training cannot accept any liability or responsibility for the content or quality of the training. \nPayment is made directly with the external training partner and any conversation about delivery of the training\, payment\, refunds\, etc should be addressed directly to the external company. \nIf you have concerns about any content of the training then please let us know so we can raise them with the training provider on behalf of all delegates/attendees.
URL:https://louisedawson.com/event/free-mighty-writer-cpd-webinar-quality-over-quantity-rethinking-writing-expectations-28th-january-2026/
LOCATION:Webinar – FREE
CATEGORIES:EAL/ELL Network,English Network,External Training
ATTACH;FMTTYPE=image/png:https://louisedawson.com/wp-content/uploads/2026/01/260128-Mighty-Writer-CPD-webinar.png
END:VEVENT
END:VCALENDAR