BEGIN:VCALENDAR
VERSION:2.0
PRODID:-//Louise Dawson Professional and Management Development Training - ECPv6.15.20//NONSGML v1.0//EN
CALSCALE:GREGORIAN
METHOD:PUBLISH
X-WR-CALNAME:Louise Dawson Professional and Management Development Training
X-ORIGINAL-URL:https://louisedawson.com
X-WR-CALDESC:Events for Louise Dawson Professional and Management Development Training
REFRESH-INTERVAL;VALUE=DURATION:PT1H
X-Robots-Tag:noindex
X-PUBLISHED-TTL:PT1H
BEGIN:VTIMEZONE
TZID:Asia/Dubai
BEGIN:STANDARD
TZOFFSETFROM:+0400
TZOFFSETTO:+0400
TZNAME:+04
DTSTART:20250101T000000
END:STANDARD
END:VTIMEZONE
BEGIN:VEVENT
DTSTART;TZID=Asia/Dubai:20260203T190000
DTEND;TZID=Asia/Dubai:20260203T200000
DTSTAMP:20260425T204459
CREATED:20260114T175045Z
LAST-MODIFIED:20260114T181537Z
UID:10000314-1770145200-1770148800@louisedawson.com
SUMMARY:FREE Webinar! Global Classrooms\, Diverse Voices: Fostering Inclusion in Student Learning - Louise Dawson with CASTrips
DESCRIPTION:🆓 Join us for a FREE webinar “Global Classrooms\, Diverse Voices: Fostering Inclusion in Student Learning” \nOverview\nLed by an inclusion specialist\, this webinar rethinks what inclusive\, engaged education can look like outside the classroom. \nDiscover practical strategies to support diverse students beyond the classroom through inclusive curriculum design\, community-based learning\, and real-world experiences. \nJoin CAS Trips for a practical and inspiring professional development webinar led by inclusion specialist Louise Dawson\, exploring how educators can create inclusive\, globally relevant learning experiences outside the classroom. \nDesigned for international educators\, especially CAS Coordinators\, teachers\, and school administrators\, this session focuses on how to build supportive\, accessible “global classrooms” that meet the needs of all learners. \nLouise will share actionable tools for supporting students with diverse academic\, social\, emotional\, and physical needs during off-site activities\, fieldwork\, and community engagement projects. The session is designed with everyday application in mind\, offering concrete strategies you can immediately bring into your teaching practice. \n  \nWhat You’ll Learn\n▶️ Practical approaches to supporting diverse learners during off-site activities\, field trips\, and Service Learning\n▶️ How to create inclusive global classrooms through cross-cultural communication\, universal design\, and structured planning\n▶️ Ways to leverage community spaces from parks to malls; for meaningful\, accessible curriculum-based learning\n▶️ Tools for preparing students socially\, emotionally\, and physically for learning outside of traditional classroom environments\n▶️ Real examples of inclusive experiential learning\, drawn from international school practices \n  \nWhat to Expect\n▶️ A concise and engaging 45-minute workshop led by Louise Dawson\n▶️ A clear structure with takeaway strategies you can implement immediately\n▶️ A 10-minute interactive Q&A for sharing challenges and discussing real scenarios\n▶️ Ideas aligned with global-mindedness\, wellbeing\, accessibility\, and curriculum learning outcomes \n  \nRegister Now\nSecure your space on this webinar now! \nBook Here \n 
URL:https://louisedawson.com/event/free-webinar-global-classrooms-diverse-voices-fostering-inclusion-in-student-learning-february-2026/
CATEGORIES:External Training
ATTACH;FMTTYPE=image/png:https://louisedawson.com/wp-content/uploads/2026/01/260203-CAS-Trips-webinar-image-rectangle-logo.png
END:VEVENT
END:VCALENDAR