BEGIN:VCALENDAR
VERSION:2.0
PRODID:-//Louise Dawson Professional and Management Development Training - ECPv6.15.20//NONSGML v1.0//EN
CALSCALE:GREGORIAN
METHOD:PUBLISH
X-ORIGINAL-URL:https://louisedawson.com
X-WR-CALDESC:Events for Louise Dawson Professional and Management Development Training
REFRESH-INTERVAL;VALUE=DURATION:PT1H
X-Robots-Tag:noindex
X-PUBLISHED-TTL:PT1H
BEGIN:VTIMEZONE
TZID:Asia/Dubai
BEGIN:STANDARD
TZOFFSETFROM:+0400
TZOFFSETTO:+0400
TZNAME:+04
DTSTART:20240101T000000
END:STANDARD
END:VTIMEZONE
BEGIN:VEVENT
DTSTART;TZID=Asia/Dubai:20251001T150000
DTEND;TZID=Asia/Dubai:20251001T160000
DTSTAMP:20260426T064310
CREATED:20250722T174856Z
LAST-MODIFIED:20250930T171239Z
UID:10000106-1759330800-1759334400@louisedawson.com
SUMMARY:FREE Webinar! Widgit Wednesday - What Do You Want To Know 1 October '25
DESCRIPTION:For over 40 years Widgit Symbols have been used worldwide to support people and help them realise their full potential\, no matter what their age\, ability or background. \n🆓 Join us on the first Wednesday of every month at 12pm GMT for a relaxed live session with Becca\, our Symbol & Education Specialist! \n🌟 These sessions are ideal if you do not have Widgit yet but want to see what it’s all about. \n✨ Becca from Widgit will walk you through the software\, answer your questions\, and show you how Widgit can make a real difference in the classroom. \n🖥️ Book your ticket for this session here \n  \nDisclaimer \nThis training is organised by an external organisation and Louise Dawson Professional Development and Management Training cannot accept any liability or responsibility for the content or quality of the training. \nPayment is made directly with the external training partner and any conversation about delivery of the training\, payment\, refunds\, etc should be addressed directly to the external company. \nIf you have concerns about any content of the training then please let us know so we can raise them with the training provider on behalf of all delegates/attendees.
URL:https://louisedawson.com/event/free-webinar-widgit-wednesday-what-do-you-want-to-know-1-october-25/
CATEGORIES:External Training
ATTACH;FMTTYPE=image/png:https://louisedawson.com/wp-content/uploads/2025/07/251001-Widgit-Wednesdays-featured-image.png
LOCATION:https://louisedawson.com/event/free-webinar-widgit-wednesday-what-do-you-want-to-know-1-october-25/
END:VEVENT
BEGIN:VEVENT
DTSTART;TZID=Asia/Dubai:20251009T150000
DTEND;TZID=Asia/Dubai:20251009T160000
DTSTAMP:20260426T064310
CREATED:20250930T165856Z
LAST-MODIFIED:20250930T171956Z
UID:10000213-1760022000-1760025600@louisedawson.com
SUMMARY:FREE Webinar! Everything SENCo/HOIs should know about SALT and OT Therapy partnerships\, October '25
DESCRIPTION:🖥 Title: ‘Everything SENCo/HOIs should know about SALT and OT Therapy partnerships’\n🗓 Date: October 9\, 2025 Thursday\n🕒 Time: 3:00 PM (UAE / GST)\n🔗 Register: LouiseDawson.Com/Events \nJoin us for a FREE webinar with Keira from Sunshine Therapy. \nWe will be talking about the many ways that inclusion teams and students can be supported by therapists in schools\, beyond just the typical 1:1 therapy sessions. \nHear insights from professionals\, therapists and inclusion leaders as well at the opportunity for Q&A. \n  \nTo book your space at this event…\n\nUsing the + and – buttons in the “Tickets” dialog box select the number of tickets you require\n\n*** If you do not select the number of tickets you required you will be unable to progress with your order *** \n\nClick on the “Get Tickets” button\n\nOn the next screen… \n\nAdd your name as the “purchaser” of the ticket(s)\nAdd your email address [this is the address the confirmation details will be sent to]\nEnter your payment details [if required]\nClick on the “Get Tickets” or “Purchase Tickets” button at the foot of the page to complete your order\n\n  \nYou will receive an on-screen order confirmation\, and you will also be sent two emails to the email address you entered\, which will include: \n\nYour tickets\, and\nYour purchase receipt\n\n  \nIf you do not receive your purchase receipt or tickets please ensure you have checked your spam or junk folder!
URL:https://louisedawson.com/event/free-webinar-everything-senco-hois-should-know-about-salt-and-ot-therapy-partnerships-october-25/
ATTACH;FMTTYPE=image/jpeg:https://louisedawson.com/wp-content/uploads/2025/09/251009-Sunshine-SALT-OT-webinar.jpeg
LOCATION:https://louisedawson.com/event/free-webinar-everything-senco-hois-should-know-about-salt-and-ot-therapy-partnerships-october-25/
END:VEVENT
END:VCALENDAR