BEGIN:VCALENDAR
VERSION:2.0
PRODID:-//Louise Dawson Professional and Management Development Training - ECPv6.15.20//NONSGML v1.0//EN
CALSCALE:GREGORIAN
METHOD:PUBLISH
X-WR-CALNAME:Louise Dawson Professional and Management Development Training
X-ORIGINAL-URL:https://louisedawson.com
X-WR-CALDESC:Events for Louise Dawson Professional and Management Development Training
REFRESH-INTERVAL;VALUE=DURATION:PT1H
X-Robots-Tag:noindex
X-PUBLISHED-TTL:PT1H
BEGIN:VTIMEZONE
TZID:Asia/Dubai
BEGIN:STANDARD
TZOFFSETFROM:+0400
TZOFFSETTO:+0400
TZNAME:+04
DTSTART:20240101T000000
END:STANDARD
END:VTIMEZONE
BEGIN:VEVENT
DTSTART;TZID=Asia/Dubai:20250806T183000
DTEND;TZID=Asia/Dubai:20250806T190000
DTSTAMP:20260426T041811
CREATED:20250811T214409Z
LAST-MODIFIED:20250811T224029Z
UID:10000112-1754505000-1754506800@louisedawson.com
SUMMARY:FREE! Caregivers Catch Up with SEN2gether - 6 August '25
DESCRIPTION:🆓 Join the SEN2gether virtual meet-up where parents and caregivers can come together in a supportive and relaxed environment.\n\nℹ️ This is a chance to connect with others who understand the unique challenges and joys that come with raising special needs children. \nWhether you are seeking advice\, empathy\, or just a friendly conversation\, this gathering offers a space where you can feel heard & understood. Grab a drink and join us for this virtual meetup. \n🗓️ Wednesday\, 6th August 2025\n⏰ 18:30 PM GST\n📍 Online (Google Meet) \n⚠️ Seats are limited to 15 delegates – download the SEN2gether app to get full details and reserve your spot today!\n  \nDisclaimer \nThis training is organised by an external organisation and Louise Dawson Professional Development and Management Training cannot accept any liability or responsibility for the content or quality of the training. \nPayment is made directly with the external training partner and any conversation about delivery of the training\, payment\, refunds\, etc should be addressed directly to the external company. \nIf you have concerns about any content of the training then please let us know so we can raise them with the training provider on behalf of all delegates/attendees.
URL:https://louisedawson.com/event/free-caregivers-catch-up-with-sen2gether-6-august-25/
CATEGORIES:External Training
END:VEVENT
BEGIN:VEVENT
DTSTART;TZID=Asia/Dubai:20250811T123000
DTEND;TZID=Asia/Dubai:20250811T133000
DTSTAMP:20260426T041811
CREATED:20250811T214846Z
LAST-MODIFIED:20250811T214846Z
UID:10000113-1754915400-1754919000@louisedawson.com
SUMMARY:FREE! Caregivers Catch Up with SEN2gether - 11 August '25
DESCRIPTION:🆓 Join the SEN2gether virtual meet-up where parents and caregivers can come together in a supportive and relaxed environment.\n\nℹ️ This is a chance to connect with others who understand the unique challenges and joys that come with raising special needs children. \nWhether you are seeking advice\, empathy\, or just a friendly conversation\, this gathering offers a space where you can feel heard & understood. Grab a drink and join us for this virtual meetup. \n🗓️ Monday\, 11th August 2025\n⏰ 12:30 PM GST \n📍 Online (Google Meet) \n⚠️ Seats are limited to 15 delegates – download the SEN2gether app to get full details and reserve your spot today!\n  \nDisclaimer \nThis training is organised by an external organisation and Louise Dawson Professional Development and Management Training cannot accept any liability or responsibility for the content or quality of the training. \nPayment is made directly with the external training partner and any conversation about delivery of the training\, payment\, refunds\, etc should be addressed directly to the external company. \nIf you have concerns about any content of the training then please let us know so we can raise them with the training provider on behalf of all delegates/attendees.
URL:https://louisedawson.com/event/free-caregivers-catch-up-with-sen2gether-11-august-25/
CATEGORIES:External Training
END:VEVENT
BEGIN:VEVENT
DTSTART;TZID=Asia/Dubai:20250814T180000
DTEND;TZID=Asia/Dubai:20250814T184500
DTSTAMP:20260426T041811
CREATED:20250813T161441Z
LAST-MODIFIED:20250813T164155Z
UID:10000119-1755194400-1755197100@louisedawson.com
SUMMARY:FREE Webinar! From Online School to World-Class Universities with CambriLearn and GoToUniversity
DESCRIPTION:🆓 Join CambriLearn UAE for an exciting session on how online students can gain admission to top-tier universities and colleges worldwide. \n🎯 What we will cover: \n🔎 Discover how CambriLearn’s British\, US\, and CAPS pathways prepare students for global university and college admissions\n🗣️ Learn about the common mistakes made in university applications\, and how to avoid them\n❓ A live Q&A with CambriLearn’s education advisors and university admissions experts from GoToUniversity \nℹ️ This webinar is brought to you by CambriLearn and GoToUniversity\n🗓️ Thursday\, 14 August 2025\n⏰ 18:00 PM GST – 45-Minutes\n📍 Online (Zoom) \n⚠️ Seats are limited – reserve your spot today! \n  \nDisclaimer \nThis training is organised by an external organisation and Louise Dawson Professional Development and Management Training cannot accept any liability or responsibility for the content or quality of the training. \nPayment is made directly with the external training partner and any conversation about delivery of the training\, payment\, refunds\, etc should be addressed directly to the external company. \nIf you have concerns about any content of the training then please let us know so we can raise them with the training provider on behalf of all delegates/attendees.
URL:https://louisedawson.com/event/free-webinar-from-online-school-to-world-class-universities-with-cambrilearn-and-gotouniversity/
CATEGORIES:External Training
ATTACH;FMTTYPE=image/jpeg:https://louisedawson.com/wp-content/uploads/2025/08/250814-CambrLearn-university-webinar.jpg
END:VEVENT
BEGIN:VEVENT
DTSTART;TZID=Asia/Dubai:20250818T173000
DTEND;TZID=Asia/Dubai:20250818T181500
DTSTAMP:20260426T041811
CREATED:20250810T200705Z
LAST-MODIFIED:20250811T212257Z
UID:10000110-1755538200-1755540900@louisedawson.com
SUMMARY:FREE Webinar! Back To School Made Easy! With CambriLearn and DUNEHA
DESCRIPTION:🆓 Join this FREE webinar with CambriLearn and DUNEHA for tips\, advice\, and guidance that will help you plan\, prepare\, and start the new academic year with confidence.\nℹ️ This webinar is brought to you by CambriLearn and DUNEHA (the Dubai and Northern Emirates Homeschool Association). \n🗓️ Monday\, 18 August 2025\n⏰ 17:30 PM GST – 45-Minutes\n📍 Online (Zoom) \n⚠️ Seats are limited – reserve your spot today!\n  \nDisclaimer \nThis training is organised by an external organisation and Louise Dawson Professional Development and Management Training cannot accept any liability or responsibility for the content or quality of the training. \nPayment is made directly with the external training partner and any conversation about delivery of the training\, payment\, refunds\, etc should be addressed directly to the external company. \nIf you have concerns about any content of the training then please let us know so we can raise them with the training provider on behalf of all delegates/attendees.
URL:https://louisedawson.com/event/cambrilearn-back-to-school-made-easy-august-2025/
CATEGORIES:External Training
ATTACH;FMTTYPE=image/jpeg:https://louisedawson.com/wp-content/uploads/2025/08/250818-CambriLearn-back-to-school-webinar.jpg
END:VEVENT
BEGIN:VEVENT
DTSTART;TZID=Asia/Dubai:20250825T153000
DTEND;TZID=Asia/Dubai:20250825T163000
DTSTAMP:20260426T041811
CREATED:20250811T215410Z
LAST-MODIFIED:20250811T225941Z
UID:10000114-1756135800-1756139400@louisedawson.com
SUMMARY:FREE! Caregivers Catch Up with SEN2gether - 25 August '25
DESCRIPTION:🆓 Join the SEN2gether virtual meet-up where parents and caregivers can come together in a supportive and relaxed environment.\n\nℹ️ This is a chance to connect with others who understand the unique challenges and joys that come with raising special needs children. \nWhether you are seeking advice\, empathy\, or just a friendly conversation\, this gathering offers a space where you can feel heard & understood. Grab a drink and join us for this virtual meetup. \n🗓️ Monday\, 25th August 2025\n⏰ 3:30 PM GST \n📍 Online (Google Meet) \n⚠️ Seats are limited to 15 delegates – download the SEN2gether app to get full details and reserve your spot today!\n  \nDisclaimer \nThis training is organised by an external organisation and Louise Dawson Professional Development and Management Training cannot accept any liability or responsibility for the content or quality of the training. \nPayment is made directly with the external training partner and any conversation about delivery of the training\, payment\, refunds\, etc should be addressed directly to the external company. \nIf you have concerns about any content of the training then please let us know so we can raise them with the training provider on behalf of all delegates/attendees.
URL:https://louisedawson.com/event/free-caregivers-catch-up-with-sen2gether-25-august-25/
CATEGORIES:External Training
ATTACH;FMTTYPE=image/png:https://louisedawson.com/wp-content/uploads/2025/08/250825-SEN2gether-Caregiver-Catch-up-2.png
END:VEVENT
END:VCALENDAR