BEGIN:VCALENDAR
VERSION:2.0
PRODID:-//Louise Dawson Professional and Management Development Training - ECPv6.15.20//NONSGML v1.0//EN
CALSCALE:GREGORIAN
METHOD:PUBLISH
X-WR-CALNAME:Louise Dawson Professional and Management Development Training
X-ORIGINAL-URL:https://louisedawson.com
X-WR-CALDESC:Events for Louise Dawson Professional and Management Development Training
REFRESH-INTERVAL;VALUE=DURATION:PT1H
X-Robots-Tag:noindex
X-PUBLISHED-TTL:PT1H
BEGIN:VTIMEZONE
TZID:Asia/Dubai
BEGIN:STANDARD
TZOFFSETFROM:+0400
TZOFFSETTO:+0400
TZNAME:+04
DTSTART:20250101T000000
END:STANDARD
END:VTIMEZONE
BEGIN:VEVENT
DTSTART;TZID=Asia/Dubai:20260323T100000
DTEND;TZID=Asia/Dubai:20260323T110000
DTSTAMP:20260425T145342
CREATED:20260318T044830Z
LAST-MODIFIED:20260318T105553Z
UID:10000346-1774260000-1774263600@louisedawson.com
SUMMARY:Insights Psychology - Caring for the Carers: Back-to-School Support Series - Change\, Loss and Adjusting to the New Normal
DESCRIPTION:We know that during times of disruption and uncertainty\, those supporting children often carry a great deal themselves. \nThis free week-long webinar series is designed to support parents\, educators\, school staff\, and counsellors with practical strategies for navigating change\, stress\, and disrupted learning environments. \nAcross the week we’ll explore: \n\nTrauma-informed responses\nSupporting children through uncertainty\nEmotional validation and resilience\nPractical strategies for crisis situations\nMaintaining wellbeing and purpose during disruption\n\n  \nSpeaker: Dr. Rea Powell \nTarget Audience: Parents\, school counsellors\, educators & school staff \nKey Focus: Understanding the emotional impact of disruption and loss during the crisis. \nKey Concepts / Goals \n\n      Understanding grief and the grief cycle in response to sudden changes.\n      Recognising different types of loss:\n\no   Loss of routines and normal school life\no   Loss of friends leaving the country\no   Loss of freedom and predictability \n\n      Normalising emotional reactions (sadness\, confusion\, frustration).\n      Helping children acknowledge and express grief.\n      Practical coping strategies:\n\no   Memory-making and symbolic activities (letters\, drawings\, memory boxes).\no   Validating emotions while encouraging gradual adjustment. \n\n      Supporting children to move forward with new routines and social connections.\n\n  \nNo registration required however spaces are limited and available on a first-come\, first-served basis. \nClick here to join the session. \nJoining link: https://us02web.zoom.us/j/83443977802 \n  \nDisclaimer \nThis training is organised by an external organisation and Louise Dawson Professional Development and Management Training cannot accept any liability or responsibility for the content or quality of the training. \nPayment is made directly with the external training partner and any conversation about delivery of the training\, payment\, refunds\, etc should be addressed directly to the external company. \nIf you have concerns about any content of the training then please let us know so we can raise them with the training provider on behalf of all delegates/attendees.
URL:https://louisedawson.com/event/insights-psychology-caring-for-the-carers-back-to-school-support-series-change-loss-and-adjusting-to-the-new-normal/
CATEGORIES:External Training,Insights Psychology DMCC,Well Being Network
ATTACH;FMTTYPE=image/png:https://louisedawson.com/wp-content/uploads/2026/03/260318-insights-psychology-webinars-listing.png
ORGANIZER;CN="Insights Psychology":MAILTO:training@insightspsychology.com
LOCATION:https://louisedawson.com/event/insights-psychology-caring-for-the-carers-back-to-school-support-series-change-loss-and-adjusting-to-the-new-normal/
END:VEVENT
END:VCALENDAR