BEGIN:VCALENDAR
VERSION:2.0
PRODID:-//Louise Dawson Professional and Management Development Training - ECPv6.15.20//NONSGML v1.0//EN
CALSCALE:GREGORIAN
METHOD:PUBLISH
X-WR-CALNAME:Louise Dawson Professional and Management Development Training
X-ORIGINAL-URL:https://louisedawson.com
X-WR-CALDESC:Events for Louise Dawson Professional and Management Development Training
REFRESH-INTERVAL;VALUE=DURATION:PT1H
X-Robots-Tag:noindex
X-PUBLISHED-TTL:PT1H
BEGIN:VTIMEZONE
TZID:Asia/Dubai
BEGIN:STANDARD
TZOFFSETFROM:+0400
TZOFFSETTO:+0400
TZNAME:+04
DTSTART:20250101T000000
END:STANDARD
END:VTIMEZONE
BEGIN:VEVENT
DTSTART;TZID=Asia/Dubai:20260327T090000
DTEND;TZID=Asia/Dubai:20260327T100000
DTSTAMP:20260425T161353
CREATED:20260318T105220Z
LAST-MODIFIED:20260318T105257Z
UID:10000363-1774602000-1774605600@louisedawson.com
SUMMARY:Insights Psychology - Caring for the Carers: Back-to-School Support Series - Moving Forward with Purpose: Values-Based Goal Setting in Difficult Times
DESCRIPTION:We know that during times of disruption and uncertainty\, those supporting children often carry a great deal themselves. \nThis free week-long webinar series is designed to support parents\, educators\, school staff\, and counsellors with practical strategies for navigating change\, stress\, and disrupted learning environments. \nAcross the week we’ll explore: \n\nTrauma-informed responses\nSupporting children through uncertainty\nEmotional validation and resilience\nPractical strategies for crisis situations\nMaintaining wellbeing and purpose during disruption\n\n  \nSpeaker: Dr. Daniel O’Neill \nTarget Audience: Parents\, educators\, counsellors and school staff. \nKey Focus: Using Acceptance and Commitment Therapy (ACT) principles to help individuals move forward with clarity and purpose. \nKey Concepts / Goals: \n\n Introduction to ACT principles.\n Understanding values and how they guide behaviour.\n Moving forward despite uncertainty and stress.\n Aligning goals with personal values.\n Practical strategies from The Happiness Trap.\n Creating meaningful goals that support wellbeing and resilience.\n\n  \nNo registration required however spaces are limited and available on a first-come\, first-served basis. \nClick here to join the session. \nJoining link: https://us02web.zoom.us/j/83517726897 \n  \nDisclaimer \nThis training is organised by an external organisation and Louise Dawson Professional Development and Management Training cannot accept any liability or responsibility for the content or quality of the training. \nPayment is made directly with the external training partner and any conversation about delivery of the training\, payment\, refunds\, etc should be addressed directly to the external company. \nIf you have concerns about any content of the training then please let us know so we can raise them with the training provider on behalf of all delegates/attendees.
URL:https://louisedawson.com/event/insights-psychology-caring-for-the-carers-back-to-school-support-series-moving-forward-with-purpose-values-based-goal-setting-in-difficult-times/
CATEGORIES:External Training,Well Being Network
ATTACH;FMTTYPE=image/png:https://louisedawson.com/wp-content/uploads/2026/03/260318-insights-psychology-webinars-listing.png
ORGANIZER;CN="Insights Psychology":MAILTO:training@insightspsychology.com
LOCATION:
END:VEVENT
END:VCALENDAR