BEGIN:VCALENDAR
VERSION:2.0
PRODID:-//Louise Dawson Professional and Management Development Training - ECPv6.15.20//NONSGML v1.0//EN
CALSCALE:GREGORIAN
METHOD:PUBLISH
X-ORIGINAL-URL:https://louisedawson.com
X-WR-CALDESC:Events for Louise Dawson Professional and Management Development Training
REFRESH-INTERVAL;VALUE=DURATION:PT1H
X-Robots-Tag:noindex
X-PUBLISHED-TTL:PT1H
BEGIN:VTIMEZONE
TZID:Asia/Dubai
BEGIN:STANDARD
TZOFFSETFROM:+0400
TZOFFSETTO:+0400
TZNAME:+04
DTSTART:20240101T000000
END:STANDARD
END:VTIMEZONE
BEGIN:VEVENT
DTSTART;TZID=Asia/Dubai:20250625T143000
DTEND;TZID=Asia/Dubai:20250625T153000
DTSTAMP:20260426T075809
CREATED:20250607T103432Z
LAST-MODIFIED:20250607T104010Z
UID:10000095-1750861800-1750865400@louisedawson.com
SUMMARY:FREE Webinar! Beacon School Support: From Chaos to Calm. Fast-track Your Behaviour Toolkit With Beacon
DESCRIPTION:🆓 From Chaos to Calm – Fast-track Your Behaviour Toolkit With Beacon 🆓\n🖥️ This is a LIVE training session\, delivered online\n🔆 Don’t miss your chance to join in this FREE webinar where we talk to Beacon School Support about how you can support pupils with SEMH and behaviour needs! \n🔆 Join us for a tour of Beacon’s incredible support programme for schools\, teachers\, and families. \n🔆 Beacon School Support provides solutions for real-world behaviour issues submitted by our community and include whole-school training to address today’s behaviour challenges. \n🔆 This is your chance to hear from the team at Beacon School Support\, understand their approaches\, and ask questions. Learn more about strategies you can use in YOUR school to support YOUR students. \n🔆 If you are unable to attend the webinar at the scheduled time please register to receive access to the recording.
URL:https://louisedawson.com/event/free-webinar-beacon-school-support-from-chaos-to-calm-a-tour-of-beacons-incredible-support-programme-for-schools-teachers-and-families/
CATEGORIES:Beacon School Support,External Training
ATTACH;FMTTYPE=image/png:https://louisedawson.com/wp-content/uploads/2025/06/250625-Beacon-School-Support-webinar-LD.png
END:VEVENT
END:VCALENDAR