BEGIN:VCALENDAR
VERSION:2.0
PRODID:-//Louise Dawson Professional and Management Development Training - ECPv6.15.20//NONSGML v1.0//EN
CALSCALE:GREGORIAN
METHOD:PUBLISH
X-WR-CALNAME:Louise Dawson Professional and Management Development Training
X-ORIGINAL-URL:https://louisedawson.com
X-WR-CALDESC:Events for Louise Dawson Professional and Management Development Training
REFRESH-INTERVAL;VALUE=DURATION:PT1H
X-Robots-Tag:noindex
X-PUBLISHED-TTL:PT1H
BEGIN:VTIMEZONE
TZID:Asia/Dubai
BEGIN:STANDARD
TZOFFSETFROM:+0400
TZOFFSETTO:+0400
TZNAME:+04
DTSTART:20250101T000000
END:STANDARD
END:VTIMEZONE
BEGIN:VEVENT
DTSTART;TZID=Asia/Dubai:20260422T163000
DTEND;TZID=Asia/Dubai:20260422T173000
DTSTAMP:20260425T145923
CREATED:20260417T075944Z
LAST-MODIFIED:20260422T113913Z
UID:10000377-1776875400-1776879000@louisedawson.com
SUMMARY:FREE Webinar! Return\, Reset\, Reconnect: A Practical Guide for Wellbeing Leads\, with youHQ
DESCRIPTION:Join us for a focused 40-minute wellbeing seminar designed for school Wellbeing Leads supporting students returning after recent disruption.\nWe will cover:\n✔️ A practical\, trauma-informed approach to help students feel safe\, settled\, and ready to learn\, without forcing disclosure\n✔️ Learn how to run simple whole-school check-ins to gauge how everyone is\, spot signs of distress that may show up as behaviour or disengagement\, and quickly triage students into universal\, targeted\, or urgent support pathways \n  \nYou will leave with:\n✔️ A one-page first-week staff checklist\n✔️ Ready-to-use language for student conversations\n✔️ Clear escalation guidance for safeguarding and referrals \nCan’t make it live? Sign up anyway to receive a free recording so you don’t miss these valuable insights on returning to school. \n  \nTo book your space at this event…\n\nUsing the + and – buttons in the “Tickets” dialog box select the number of tickets you require\n\n*** If you do not select the number of tickets you required you will be unable to progress with your order *** \n\nClick on the “Get Tickets” button\n\nOn the next screen… \n\nAdd your name as the “purchaser” of the ticket(s)\nAdd your email address [this is the address the confirmation details will be sent to]\nEnter your payment details [if required]\nClick on the “Get Tickets” or “Purchase Tickets” button at the foot of the page to complete your order\n\n  \nYou will receive an on-screen order confirmation\, and you will also be sent two emails to the email address you entered\, which will include: \n\nYour tickets\, and\nYour purchase receipt\n\n  \nIf you do not receive your purchase receipt or tickets please ensure you have checked your spam or junk folder! \nIf you experience any issues booking spaces please send a email to media@louisedawson.com with the event and date\, your name(s) and email address(es) of the people you would like to book on to the event.
URL:https://louisedawson.com/event/free-webinar-return-reset-reconnect-a-practical-guide-for-wellbeing-leads-with-youhq/
CATEGORIES:External Training,Well Being Network
ATTACH;FMTTYPE=image/png:https://louisedawson.com/wp-content/uploads/2026/04/250422-youHQ-return-reset-reconnect-webinar.png
LOCATION:https://louisedawson.com/event/free-webinar-return-reset-reconnect-a-practical-guide-for-wellbeing-leads-with-youhq/
END:VEVENT
END:VCALENDAR