BEGIN:VCALENDAR
VERSION:2.0
PRODID:-//Louise Dawson Professional and Management Development Training - ECPv6.15.20//NONSGML v1.0//EN
CALSCALE:GREGORIAN
METHOD:PUBLISH
X-WR-CALNAME:Louise Dawson Professional and Management Development Training
X-ORIGINAL-URL:https://louisedawson.com
X-WR-CALDESC:Events for Louise Dawson Professional and Management Development Training
REFRESH-INTERVAL;VALUE=DURATION:PT1H
X-Robots-Tag:noindex
X-PUBLISHED-TTL:PT1H
BEGIN:VTIMEZONE
TZID:Asia/Dubai
BEGIN:STANDARD
TZOFFSETFROM:+0400
TZOFFSETTO:+0400
TZNAME:+04
DTSTART:20250101T000000
END:STANDARD
END:VTIMEZONE
BEGIN:VEVENT
DTSTART;TZID=Asia/Dubai:20260122T163000
DTEND;TZID=Asia/Dubai:20260122T173000
DTSTAMP:20260425T165910
CREATED:20260113T143354Z
LAST-MODIFIED:20260113T144030Z
UID:10000306-1769099400-1769103000@louisedawson.com
SUMMARY:FREE Webinar! 'Raising Happy Humans: Simple Shifts That Change Everything' with The Happy Confident Company
DESCRIPTION:Join Nadim Saad\, parenting coach\, and CEO of The Happy Confident Company and his fantastic guests to explore how to apply the science of happiness in your home. \nNadim will be joined by: \n\nDr Mark Williamson\, CEO of Action for Happiness\nDr. Radha Modgil\, broadcaster\, author & wellbeing expert\, and\nAdrian Bethune\, founder of Teachappy\n\n  \nThis will be an informative webinar designed for parents\, caregivers & educators. \nYou will learn: \n\n\nHow to apply the science of happiness at home\nPractical ways to grow happiness in your child\nHow to use happiness to increase connection within your family\n\n\nMore details on the event and panel members here \n  \nJoin live or register to receive a copy of the recording. \nSign up now to reserve your spot \nRegistration link:  https://zoom.us/webinar/register/3017660601048/WN_-DQQoJTJTvmT-IxIIrth6w#/registration \n  \nDisclaimer \nThis training is organised by an external organisation and Louise Dawson Professional Development and Management Training cannot accept any liability or responsibility for the content or quality of the training. \nPayment is made directly with the external training partner and any conversation about delivery of the training\, payment\, refunds\, etc should be addressed directly to the external company. \nIf you have concerns about any content of the training then please let us know so we can raise them with the training provider on behalf of all delegates/attendees.
URL:https://louisedawson.com/event/free-webinar-raising-happy-humans-simple-shifts-that-change-everything-with-the-happy-confident-company/
LOCATION:Webinar – FREE
CATEGORIES:External Training,Well Being Network
ATTACH;FMTTYPE=image/png:https://louisedawson.com/wp-content/uploads/2026/01/260122-happy-confident-webinar.png
END:VEVENT
END:VCALENDAR