BEGIN:VCALENDAR
VERSION:2.0
PRODID:-//Louise Dawson Professional and Management Development Training - ECPv6.15.20//NONSGML v1.0//EN
CALSCALE:GREGORIAN
METHOD:PUBLISH
X-ORIGINAL-URL:https://louisedawson.com
X-WR-CALDESC:Events for Louise Dawson Professional and Management Development Training
REFRESH-INTERVAL;VALUE=DURATION:PT1H
X-Robots-Tag:noindex
X-PUBLISHED-TTL:PT1H
BEGIN:VTIMEZONE
TZID:Asia/Dubai
BEGIN:STANDARD
TZOFFSETFROM:+0400
TZOFFSETTO:+0400
TZNAME:+04
DTSTART:20250101T000000
END:STANDARD
END:VTIMEZONE
BEGIN:VEVENT
DTSTART;TZID=Asia/Dubai:20260206T080000
DTEND;TZID=Asia/Dubai:20260206T123000
DTSTAMP:20260425T150237
CREATED:20251119T152930Z
LAST-MODIFIED:20260114T101020Z
UID:10000272-1770364800-1770381000@louisedawson.com
SUMMARY:Elklan - Face-to-face training - "Speech and Language Support for 5-11s" - February to April 2026
DESCRIPTION:A practical training course for those teaching or supporting children in primary schools.\n  \nCourse Sessions\n\nWhat is involved in communication?\nNon-verbal communication and adult-child interaction\nSocial communication skills\nListening and attention skills\, understanding spoken language\nMemory and independent learning\nHelping children to understand abstract language\nPromoting vocabulary development\nDeveloping expressive language and narrative skills\nSupporting children with unclear speech and the link between speech\, language and literacy\nHelping children who stammer and linking it all together\n\n  \nCourse Dates:\n\nFriday 6th February 2026\, from 8:00 am to 12:30 pm\nHalf-Term break\nFriday 20th February 2026\, from 8:00 am to 12:30 pm\nFriday 6th March 2026\, from 8:00 am to 12:30 pm\nBreak\nFriday 3rd April 2026\, from 8:00 am to 12:30 pm\nFriday 17th April 2026\, from 8:00 am to 12:30 pm\n\nTimes are shown as in Dubai/GST \n  \nVenue\n\n\nVictory Heights Primary School\nDubai Sports City\nDubai\nPO BOX 454959 \n\n\nPrice\nThis course is priced at £460.00 per person to include Language Builders for 5-11s and the accreditation fee. \n  \nFind out more about Speech and Language Support for 5-11s and its content here. \nRegister here now to secure your place! \nhttps://elklan.co.uk/Apply/Dubai5-11s \n  \nDisclaimer \nThis training is organised by an external organisation and Louise Dawson Professional Development and Management Training cannot accept any liability or responsibility for the content or quality of the training. \nPayment is made directly with the external training partner and any conversation about delivery of the training\, payment\, refunds\, etc should be addressed directly to the external company. \nIf you have concerns about any content of the training then please let us know so we can raise them with the training provider on behalf of all delegates/attendees.
URL:https://louisedawson.com/event/elklan-face-to-face-training-speech-and-language-support-for-5-11s-february-to-april-26/
LOCATION:Victory Heights Primary School\, Dubai Sports City\, Dubai\, United Arab Emirates
CATEGORIES:External Training
ATTACH;FMTTYPE=image/png:https://louisedawson.com/wp-content/uploads/2025/11/260206-Elklan-support-for-5-11s-flyer.png
END:VEVENT
BEGIN:VEVENT
DTSTART;TZID=Asia/Dubai:20260209T073000
DTEND;TZID=Asia/Dubai:20260209T143000
DTSTAMP:20260425T150237
CREATED:20260126T084207Z
LAST-MODIFIED:20260126T090201Z
UID:10000320-1770622200-1770647400@louisedawson.com
SUMMARY:Team Teach Behaviour Support Training - Dubai February 2026
DESCRIPTION:Join Team Teach for Behaviour Support Training in Dubai\, 9 February 2026\nTeam Teach is a leading provider of Behaviour Support Training. \nWe support over 13\,000 settings globally\, to positively transform behaviour support and provide strategies that equip staff with the tools they need to understand behaviour\, foster consistent staff behaviour & responses\, and help reduce crisis incidents. \nOur training provides you with a toolkit of strategies you can rely on\, and promotes respect\, teamwork\, personal safety\, preventative skills and de-escalation. \nOur courses will help you to: \n🧩 understand behaviour as a form of communication \n🧩 create a positive behaviour culture in your school or setting \n🧩ensure teachers and staff are confident in the latest approaches to behaviour support \n🧩 reduce classroom or workplace disruptions \n  \nBehaviour Support Training – Level One \nThis course is for anyone working in low-risk settings wanting to develop a better understanding of behaviour and be more confident supporting children and young people. \nYou will have a wide range of practical\, person-centred de-escalation skills and positive behaviour strategies\, to respond to behaviour in a way that is reasonable\,\nproportionate\, necessary and respectful. \nWho is the course for?\nThe Behaviour Support Training Level One programme is ideal for staff groups working in low-risk settings with children or young people. \nWhat’s included?\nThis 1-day course provides you with the expertise and confidence to apply a set of proven de-escalation strategies\, and to utilise personal safety & disengagement techniques if required\, while focusing on keeping yourself\, colleagues and students safe. \nYour certification:\nOnce you’ve successfully completed the 1-day course\, your certificate is valid for 24 months. \nPrice: £175 GBP (~875 AED) per person \nQuestions?\nPlease get in touch any time:\n📧 international@teamteach.com\n📞 +44 (0) 203 832 8875 \nClick here for session flyer or book your space here. \n  \nDisclaimer \nThis training is organised by an external organisation and Louise Dawson Professional Development and Management Training cannot accept any liability or responsibility for the content or quality of the training. \nPayment is made directly with the external training partner and any conversation about delivery of the training\, payment\, refunds\, etc should be addressed directly to the external company. \nIf you have concerns about any content of the training then please let us know so we can raise them with the training provider on behalf of all delegates/attendees.
URL:https://louisedawson.com/event/team-teach-behaviour-support-training-dubai-february-2026/
LOCATION:Louise Dawson Professional and Management Development\, United Arab Emirates
CATEGORIES:External Training
ATTACH;FMTTYPE=image/png:https://louisedawson.com/wp-content/uploads/2026/01/260209-Team-Teach-training-Dubai.png
END:VEVENT
BEGIN:VEVENT
DTSTART;TZID=Asia/Dubai:20260210T080000
DTEND;TZID=Asia/Dubai:20260210T153000
DTSTAMP:20260425T150237
CREATED:20260126T084519Z
LAST-MODIFIED:20260126T090521Z
UID:10000319-1770710400-1770737400@louisedawson.com
SUMMARY:Team Teach Behaviour Support Training - Abu Dhabi February 2026
DESCRIPTION:Join Team Teach for Behaviour Support Training in Abu Dhabi\, 10 February 2026\nTeam Teach is a leading provider of Behaviour Support Training. \nWe support over 13\,000 settings globally\, to positively transform behaviour support and provide strategies that equip staff with the tools they need to understand behaviour\, foster consistent staff behaviour & responses\, and help reduce crisis incidents. \nOur training provides you with a toolkit of strategies you can rely on\, and promotes respect\, teamwork\, personal safety\, preventative skills and de-escalation. \nOur courses will help you to: \n🧩 understand behaviour as a form of communication \n🧩 create a positive behaviour culture in your school or setting \n🧩ensure teachers and staff are confident in the latest approaches to behaviour support \n🧩 reduce classroom or workplace disruptions \n  \nBehaviour Support Training – Level One \nThis course is for anyone working in low-risk settings wanting to develop a better understanding of behaviour and be more confident supporting children and young people. \nYou will have a wide range of practical\, person-centred de-escalation skills and positive behaviour strategies\, to respond to behaviour in a way that is reasonable\,\nproportionate\, necessary and respectful. \nWho is the course for?\nThe Behaviour Support Training Level One programme is ideal for staff groups working in low-risk settings with children or young people. \nWhat’s included?\nThis 1-day course provides you with the expertise and confidence to apply a set of proven de-escalation strategies\, and to utilise personal safety & disengagement techniques if required\, while focusing on keeping yourself\, colleagues and students safe. \nYour certification:\nOnce you’ve successfully completed the 1-day course\, your certificate is valid for 24 months. \nPrice: £175 GBP (~875 AED) per person \nQuestions?\nPlease get in touch any time:\n📧 international@teamteach.com\n📞 +44 (0) 203 832 8875 \nClick here for session flyer or book your space here. \n  \nDisclaimer \nThis training is organised by an external organisation and Louise Dawson Professional Development and Management Training cannot accept any liability or responsibility for the content or quality of the training. \nPayment is made directly with the external training partner and any conversation about delivery of the training\, payment\, refunds\, etc should be addressed directly to the external company. \nIf you have concerns about any content of the training then please let us know so we can raise them with the training provider on behalf of all delegates/attendees.
URL:https://louisedawson.com/event/team-teach-behaviour-support-training-abu-dhabi-february-2026/
LOCATION:Al Karamah School\, Al Karamah School\, Al Karamah St - Al Manhal - W14 01\, Abu Dhabi\, United Arab Emirates
CATEGORIES:External Training
ATTACH;FMTTYPE=image/png:https://louisedawson.com/wp-content/uploads/2026/01/260210-Team-Teach-training-Abu-Dhabi.png
END:VEVENT
END:VCALENDAR