BEGIN:VCALENDAR
VERSION:2.0
PRODID:-//Louise Dawson Professional and Management Development Training - ECPv6.15.20//NONSGML v1.0//EN
CALSCALE:GREGORIAN
METHOD:PUBLISH
X-WR-CALNAME:Louise Dawson Professional and Management Development Training
X-ORIGINAL-URL:https://louisedawson.com
X-WR-CALDESC:Events for Louise Dawson Professional and Management Development Training
REFRESH-INTERVAL;VALUE=DURATION:PT1H
X-Robots-Tag:noindex
X-PUBLISHED-TTL:PT1H
BEGIN:VTIMEZONE
TZID:Asia/Dubai
BEGIN:STANDARD
TZOFFSETFROM:+0400
TZOFFSETTO:+0400
TZNAME:+04
DTSTART:20250101T000000
END:STANDARD
END:VTIMEZONE
BEGIN:VEVENT
DTSTART;TZID=Asia/Dubai:20260217T160000
DTEND;TZID=Asia/Dubai:20260217T170000
DTSTAMP:20260425T145721
CREATED:20260127T132027Z
LAST-MODIFIED:20260211T160312Z
UID:10000321-1771344000-1771347600@louisedawson.com
SUMMARY:FREE Webinar! "SEL and Emotional Literacy in Schools" with The Happy Confident Company\, February 2026
DESCRIPTION:Join us as Louise talks to Kate Taylor\, Head of Schools and Louise Treherne\, Head of Families from The Happy Confident Company about social and emotional learning (SEL) and Emotional Literacy in Schools. \nIn this webinar we will cover: \n\nThe importance of emotional literacy for children\nOur free SEL programme\, FEELIT® and how to integrate it into an already full timetable\nWhat is the Happy Confident Schools Program?\nThe importance of a holistic approach to wellbeing and creating links between school and home\nOur Happy Confident Club for families to support a holistic approach and strengthen connections\nTime for questions\n\n  \nKate Taylor – Head of Schools\nKate has over 20 years of professional expertise and lived experience of supporting young people at every stage of their development. With a teaching career spanning both primary and secondary education\, her experience includes Pastoral Head of Key Stage 3\, Head of PSHE\, and Teacher of Geography at Key Stages 3\, 4 and 5\, as well as classroom teaching in EYFS and Key Stage 1. Alongside her school-based work\, Kate has also worked as a pre-school nanny and is a mother to 3 children of her own. \nKate leads the Schools arm of the Happy Confident Company\, working closely with schools\, MATs and school groups worldwide\, to maximise the impact of the programmes. \nLouise Treherne – Head of Families\nLouise has 12 years of teaching experience in the independent sector\, including 5 years as a senior deputy head at a London prep school. She is also a qualified coach working 1:1 with children\, teens and parents\, focusing on managing emotions\, building confidence and self-acceptance. Louise’s past experiences in the classroom\, combined with her coaching role provides the company with an incredible Head of Families\, able to help parents nurture not only their children’s wellbeing\, but also create deeper connections within the whole family\, and with the wider community. \n  \nUnable to join live? \nRegister to receive the recording \n  \nFind out more about The Happy Confident Company and the FEELIT® programme here \n  \nTo book your space at this event…\n\nUsing the + and – buttons in the “Tickets” dialog box select the number of tickets you require\n\n*** If you do not select the number of tickets you required you will be unable to progress with your order *** \n\nClick on the “Get Tickets” button\n\nOn the next screen… \n\nAdd your name as the “purchaser” of the ticket(s)\nAdd your email address [this is the address the confirmation details will be sent to]\nEnter your payment details [if required]\nClick on the “Get Tickets” or “Purchase Tickets” button at the foot of the page to complete your order\n\n  \nYou will receive an on-screen order confirmation\, and you will also be sent two emails to the email address you entered\, which will include: \n\nYour tickets\, and\nYour purchase receipt\n\n  \nIf you do not receive your purchase receipt or tickets please ensure you have checked your spam or junk folder!
URL:https://louisedawson.com/event/free-webinar-sel-and-emotional-literacy-in-schools-with-the-happy-confident-company-february-2026/
LOCATION:Webinar – FREE
CATEGORIES:External Training,Well Being Network
ATTACH;FMTTYPE=image/png:https://louisedawson.com/wp-content/uploads/2026/01/260126-Happy-Confident-webinar-updated.png
END:VEVENT
BEGIN:VEVENT
DTSTART;TZID=Asia/Dubai:20260219T210000
DTEND;TZID=Asia/Dubai:20260219T220000
DTSTAMP:20260425T145721
CREATED:20260218T073659Z
LAST-MODIFIED:20260330T082835Z
UID:10000327-1771534800-1771538400@louisedawson.com
SUMMARY:FREE! Designing Curriculum for Gifted Learners: Strategies for Differentiation.
DESCRIPTION:Instructor: Dr. Kimberley L. Chandler\nDate: 19 February 2026\nTime: 9pm Dubai time\nLanguage: English\nLocation: Zoom virtual platform\n\nRegister to attend here \n  \nDisclaimer \nThis training is organised by an external organisation and Louise Dawson Professional Development and Management Training cannot accept any liability or responsibility for the content or quality of the training. \nPayment is made directly with the external training partner and any conversation about delivery of the training\, payment\, refunds\, etc should be addressed directly to the external company. \nIf you have concerns about any content of the training then please let us know so we can raise them with the training provider on behalf of all delegates/attendees.
URL:https://louisedawson.com/event/free-designing-curriculum-for-gifted-learners-strategies-for-differentiation/
CATEGORIES:External Training,Gifted and Talented Network
ATTACH;FMTTYPE=image/jpeg:https://louisedawson.com/wp-content/uploads/2026/02/260219-wgc-designing-curriculum-for-gifted-learners-webinar.jpg
ORGANIZER;CN="World Giftedness Centre":MAILTO:wgc@ha.ae
LOCATION:https://louisedawson.com/event/free-designing-curriculum-for-gifted-learners-strategies-for-differentiation/
END:VEVENT
BEGIN:VEVENT
DTSTART;TZID=Asia/Dubai:20260225T160000
DTEND;TZID=Asia/Dubai:20260225T170000
DTSTAMP:20260425T145721
CREATED:20260220T073850Z
LAST-MODIFIED:20260220T074332Z
UID:10000341-1772035200-1772038800@louisedawson.com
SUMMARY:FREE Webinar! Thriving Together: Enhancing Wellbeing for Teachers and Students by GESS Talks
DESCRIPTION:Discover how to create a school environment where both teachers and students can thrive. \nThis webinar will explore actionable strategies to promote mental health\, build strong relationships\, and foster a culture of care and collaboration. \nFrom managing stress and workloads to integrating resilience practices\, join us to learn how to support the wellbeing of your entire school community. \nREGISTER NOW \n  \nSpeakers: \nChairperson: Mohamad Saad\nPrincipal\, Seer Bani Yas Charter School – Aldar Education \nAbhilasha Singh\nPrincipal – Shining Star International School\, Abu Dhabi \nRania Badreldin\nAuthor\, Founder and CEO of The Family Hub \nRob Faulkner\nFounder and Lead Practitioner of Space To Bee – Head of Middle School – Al Dhafra Private School\, Abu-Dhabi \nSee all speakers bios and full events details here \n  \nRegistration link:  https://www.bigmarker.com/gess-education1/thriving-together-enhancing-wellbeing-for-teachers-and-students \n  \n\nDisclaimer \nThis training is organised by an external organisation and Louise Dawson Professional Development and Management Training cannot accept any liability or responsibility for the content or quality of the training. \nPayment is made directly with the external training partner and any conversation about delivery of the training\, payment\, refunds\, etc should be addressed directly to the external company. \nIf you have concerns about any content of the training then please let us know so we can raise them with the training provider on behalf of all delegates/attendees.
URL:https://louisedawson.com/event/free-webinar-thriving-together-enhancing-wellbeing-for-teachers-and-students-by-gess-talks/
LOCATION:Webinar – FREE
CATEGORIES:External Training,Well Being Network
ATTACH;FMTTYPE=image/png:https://louisedawson.com/wp-content/uploads/2026/02/260225-GESS-Talk-enhancing-wellbing.png
END:VEVENT
BEGIN:VEVENT
DTSTART;TZID=Asia/Dubai:20260226T170000
DTEND;TZID=Asia/Dubai:20260226T180000
DTSTAMP:20260425T145721
CREATED:20260213T090238Z
LAST-MODIFIED:20260213T093925Z
UID:10000324-1772125200-1772128800@louisedawson.com
SUMMARY:FREE Webinar! Experts discuss 'Belonging & Connection' by The Happy Confident Club
DESCRIPTION:You’re invited to join The Happy Confident Club and their expert guests to explore — the power of belonging & connection. \nSubmit your own questions\, plus learn from leading experts: \n✔️ Creating an emotionally safe place for children to feel they belong\n✔️ How emotional regulation is the key to feeling safe\n✔️ Bridge the gap between home & school\n✔️ Practical ideas for building connection & belonging in the family \n \nDate: Thursday 26th February 17:00 – 18:00pm UAE / GST (13:00 – 14:00 GMT) \nCan’t make it live? Sign up anyway to receive a free recording so you don’t miss these expert insights. \nMeet Your Expert Speakers 👋 \n  \n\n\n\n\n Nadim Saad  | Parenting Coach\, Author & CEO\n\n\n\nNadim Saad is a bestselling author and parenting expert\, and the founder of The Happy Confident Company. He helps parents and children develop emotional awareness\, confidence\, and strong communication.\n\n\n\n\n  \n\n\n\n Lulu Luckock ​| Education Consultant & Counsellor\n\n\nLulu champions pupils’ emotional well-being to boost learning outcomes\, drawing on specialised Yale Centre for Emotional Intelligence training. Lulu created a practical parenting course that positively impacts school communities by fortifying support networks around pupils.\n\n\n\n\n  \n\n\n\n Simy Slade | Teacher & Assistant Head Pastoral\n\n\nSimy Slade\, Year 5 teacher and Assistant Head Pastoral\, leverages classroom and boarding experience to champion student well-being. Passionate about emotional and social growth\, she implemented the Happy Confident Programme two years ago.\n\n\n\n\n \n\n\n\n“We can’t wait to share these expert insights\, and inspire harmonious family moments together.” \n  \nLouise Treherne\,\nHead Of Education\, The Happy Confident Company \nLouise Treherne | Head Of Education\, The Happy Confident Company\n\n\n\n\n\n\n\n\nRegistration link:  https://zoom.us/webinar/register/3017660601048/WN_-DQQoJTJTvmT-IxIIrth6w#/registration \n  \nDisclaimer \nThis training is organised by an external organisation and Louise Dawson Professional Development and Management Training cannot accept any liability or responsibility for the content or quality of the training. \nPayment is made directly with the external training partner and any conversation about delivery of the training\, payment\, refunds\, etc should be addressed directly to the external company. \nIf you have concerns about any content of the training then please let us know so we can raise them with the training provider on behalf of all delegates/attendees.
URL:https://louisedawson.com/event/free-webinar-experts-discuss-belonging-connection-by-the-happy-confident-club/
LOCATION:Webinar – FREE
CATEGORIES:External Training,Well Being Network
ATTACH;FMTTYPE=image/png:https://louisedawson.com/wp-content/uploads/2026/02/260226-Happy-Confident-hosted-webinar-overview.png
END:VEVENT
END:VCALENDAR