BEGIN:VCALENDAR
VERSION:2.0
PRODID:-//Louise Dawson Professional and Management Development Training - ECPv6.15.20//NONSGML v1.0//EN
CALSCALE:GREGORIAN
METHOD:PUBLISH
X-WR-CALNAME:Louise Dawson Professional and Management Development Training
X-ORIGINAL-URL:https://louisedawson.com
X-WR-CALDESC:Events for Louise Dawson Professional and Management Development Training
REFRESH-INTERVAL;VALUE=DURATION:PT1H
X-Robots-Tag:noindex
X-PUBLISHED-TTL:PT1H
BEGIN:VTIMEZONE
TZID:Asia/Dubai
BEGIN:STANDARD
TZOFFSETFROM:+0400
TZOFFSETTO:+0400
TZNAME:+04
DTSTART:20240101T000000
END:STANDARD
END:VTIMEZONE
BEGIN:VEVENT
DTSTART;TZID=Asia/Dubai:20250918T190000
DTEND;TZID=Asia/Dubai:20250918T194500
DTSTAMP:20260426T075308
CREATED:20250903T115735Z
LAST-MODIFIED:20250930T171127Z
UID:10000137-1758222000-1758224700@louisedawson.com
SUMMARY:FREE! Mighty Writer CPD webinar “New DfE Writing Framework - What You Need to Know"
DESCRIPTION:With 200+ primary teachers already registered\, we’re excited to invite you to a free CPD webinar we are holding on Thursday 18th September 2025 \nThe DfE has published its first ever national Writing Framework\, promoting consistent\, evidence-informed writing practice for Reception\, KS1 and KS2.  This webinar will focus on implementing the guidance in a streamline and cohesive way that unlocks the writing potential of all pupils in your school.\n \nThe session will include 30-minutes of discussion and a 15-minute Q&A and will: \n✏️ Explore the new Writing Framework and what it means for your classroom practice. \n✏️ Unpack the key messages and discuss ways in which the framework can help to provide clarity and consistency \n🔊 Speaker: Emma Ralph\, Founder\, Mighty Writer. \n✨ Emma Ralph is a highly experienced teacher and Assistant Head with a flair for helping children to maximise their abilities. \n✨ Emma developed the highly-acclaimed literacy resource\, Mighty Writer\, which was launched at The Education Show in 2016. \nWe hope you can join us\, or please pass on to a colleague. If you are unable to make the date don’t worry\, the session will be recorded and the recording will be shared to all those who register. \nPlease sign up here or using the website link below\, and we look forward to seeing you on 18th September. \nRegistration link: https://ywre-zgph.maillist-manage.com/click/14adb1c36cf925fb/14adb1c36cf90f41 \n  \nDisclaimer \nThis training is organised by an external organisation and Louise Dawson Professional Development and Management Training cannot accept any liability or responsibility for the content or quality of the training. \nPayment is made directly with the external training partner and any conversation about delivery of the training\, payment\, refunds\, etc should be addressed directly to the external company. \nIf you have concerns about any content of the training then please let us know so we can raise them with the training provider on behalf of all delegates/attendees.
URL:https://louisedawson.com/event/free-mighty-writer-cpd-webinar-new-dfe-writing-framework-what-you-need-to-know/
CATEGORIES:EAL/ELL Network,English Network,External Training
ATTACH;FMTTYPE=image/png:https://louisedawson.com/wp-content/uploads/2025/09/250918-Might-Writer-DFE-framework-CPD-webinar.png
LOCATION:https://louisedawson.com/event/free-mighty-writer-cpd-webinar-new-dfe-writing-framework-what-you-need-to-know/
END:VEVENT
END:VCALENDAR