BEGIN:VCALENDAR
VERSION:2.0
PRODID:-//Louise Dawson Professional and Management Development Training - ECPv6.15.20//NONSGML v1.0//EN
CALSCALE:GREGORIAN
METHOD:PUBLISH
X-ORIGINAL-URL:https://louisedawson.com
X-WR-CALDESC:Events for Louise Dawson Professional and Management Development Training
REFRESH-INTERVAL;VALUE=DURATION:PT1H
X-Robots-Tag:noindex
X-PUBLISHED-TTL:PT1H
BEGIN:VTIMEZONE
TZID:Asia/Dubai
BEGIN:STANDARD
TZOFFSETFROM:+0400
TZOFFSETTO:+0400
TZNAME:+04
DTSTART:20240101T000000
END:STANDARD
END:VTIMEZONE
BEGIN:VEVENT
DTSTART;TZID=Asia/Dubai:20251122T080000
DTEND;TZID=Asia/Dubai:20251122T130000
DTSTAMP:20260425T171629
CREATED:20251028T135305Z
LAST-MODIFIED:20251028T135802Z
UID:10000252-1763798400-1763816400@louisedawson.com
SUMMARY:AAC in Action: Empowering Communication Together
DESCRIPTION:You are cordially Invited to “AAC in Action: Empowering Communication Together” \nJoin us for an insightful 1-day online course designed to enhance your understanding and practical skills in Augmentative and Alternative Communication (AAC). \nDate: Saturday\, 22 November 2025\nTime: 8:00 AM – 1:00 PM UAE (UTC+04:00)\nFormat: Live Online\nCost: 600 AED \n  \nOpen to all educators\, therapists (OT\, PT\, SLT\, ABA)\, Special Educators\, psychologists\, LSAs\, parents\, and caregivers — this interactive session will be led by expert Speech & Language Therapists \nVinu Johnson & Elizabeth Saju \n  \n  \nDisclaimer \nThis training is organised by an external organisation and Louise Dawson Professional Development and Management Training cannot accept any liability or responsibility for the content or quality of the training. \nPayment is made directly with the external training partner and any conversation about delivery of the training\, payment\, refunds\, etc should be addressed directly to the external company. \nIf you have concerns about any content of the training then please let us know so we can raise them with the training provider on behalf of all delegates/attendees. \n 
URL:https://louisedawson.com/event/aac-in-action-empowering-communication-together/
CATEGORIES:External Training
ATTACH;FMTTYPE=image/png:https://louisedawson.com/wp-content/uploads/2025/10/251122-al-noor-aac-training.png
LOCATION:https://louisedawson.com/event/aac-in-action-empowering-communication-together/
END:VEVENT
END:VCALENDAR