BEGIN:VCALENDAR
VERSION:2.0
PRODID:-//Louise Dawson Professional and Management Development Training - ECPv6.15.20//NONSGML v1.0//EN
CALSCALE:GREGORIAN
METHOD:PUBLISH
X-WR-CALNAME:Louise Dawson Professional and Management Development Training
X-ORIGINAL-URL:https://louisedawson.com
X-WR-CALDESC:Events for Louise Dawson Professional and Management Development Training
REFRESH-INTERVAL;VALUE=DURATION:PT1H
X-Robots-Tag:noindex
X-PUBLISHED-TTL:PT1H
BEGIN:VTIMEZONE
TZID:Asia/Dubai
BEGIN:STANDARD
TZOFFSETFROM:+0400
TZOFFSETTO:+0400
TZNAME:+04
DTSTART:20240101T000000
END:STANDARD
END:VTIMEZONE
BEGIN:VEVENT
DTSTART;TZID=Asia/Dubai:20250223T110000
DTEND;TZID=Asia/Dubai:20250223T150000
DTSTAMP:20260425T203010
CREATED:20250201T141925Z
LAST-MODIFIED:20250208T101050Z
UID:10000039-1740308400-1740322800@louisedawson.com
SUMMARY:Workshop - Unlock Your Future in Media and Journalism
DESCRIPTION:Unlock Your Child’s Future in Media & Journalism! \nIs your teen curious about a career in media\, journalism\, or digital storytelling? \nThis exclusive workshop is a one-of-a-kind opportunity to learn from top industry experts\, explore over 10 career paths\, and gain insights into AI\, digital media\, and storytelling! \n  \nWhy Attend?\n\nHands-on Experience – No boring lectures\, just interactive\, project-based learning!\nExpert Mentorship – Learn from renowned journalists & media innovators.\nFuture-Proof Skills – Explore how AI and digital trends are shaping media.\nCV-Boosting Certificate – Stand out in university & job applications.\n\n  \n Limited spots available – secure your place now! \n  \n  \n  \n  \n  \nDisclaimer \nThis training is organised by an external organisation and Louise Dawson Professional Development and Management Training cannot accept any liability or responsibility for the content or quality of the training. \nPayment is made directly with the external training partner and any conversation about delivery of the training\, payment\, refunds\, etc should be addressed directly to the external company. \nIf you have concerns about any content of the training then please let us know so we can raise them with the training provider on behalf of all delegates/attendees.
URL:https://louisedawson.com/event/unlock-your-future-in-media-and-journalism-career-workshop/
LOCATION:Louise Dawson Professional and Management Development\, United Arab Emirates
CATEGORIES:DecidEd Education,External Training
ATTACH;FMTTYPE=image/jpeg:https://louisedawson.com/wp-content/uploads/2025/02/media-and-journalism-workshop.jpg
END:VEVENT
END:VCALENDAR