BEGIN:VCALENDAR
VERSION:2.0
PRODID:-//Louise Dawson Professional and Management Development Training - ECPv6.15.20//NONSGML v1.0//EN
CALSCALE:GREGORIAN
METHOD:PUBLISH
X-WR-CALNAME:Louise Dawson Professional and Management Development Training
X-ORIGINAL-URL:https://louisedawson.com
X-WR-CALDESC:Events for Louise Dawson Professional and Management Development Training
REFRESH-INTERVAL;VALUE=DURATION:PT1H
X-Robots-Tag:noindex
X-PUBLISHED-TTL:PT1H
BEGIN:VTIMEZONE
TZID:Asia/Dubai
BEGIN:STANDARD
TZOFFSETFROM:+0400
TZOFFSETTO:+0400
TZNAME:+04
DTSTART:20240101T000000
END:STANDARD
END:VTIMEZONE
BEGIN:VEVENT
DTSTART;TZID=Asia/Dubai:20260131T100000
DTEND;TZID=Asia/Dubai:20260131T120000
DTSTAMP:20260425T145311
CREATED:20260113T141257Z
LAST-MODIFIED:20260113T141426Z
UID:10000305-1769853600-1769860800@louisedawson.com
SUMMARY:FREE! Coffee morning & hangout session - January 2026
DESCRIPTION:Everyone Is Welcome! \nJoin us for a relaxed and welcoming coffee morning for everyone\, where families can connect\, chat and simply ‘be’. \nKids & teens can: \n💠 Hangout \n💠 Dance \n💠 Read \n💠 Play games and socialise \n💠 Have fun together \nParents can: \n💠 Meet other families \n💠 Connect & chat over coffee \n💠 Share experiences in a supportive environment \nSaturday 31st\, January \n10:00am-12:00pm \nTo help us with  catering please book your space here
URL:https://louisedawson.com/event/free-coffee-morning-hangout-session-31-january-2026/
LOCATION:Louise Dawson Professional and Management Development\, United Arab Emirates
CATEGORIES:Network Meetings
ATTACH;FMTTYPE=image/jpeg:https://louisedawson.com/wp-content/uploads/2026/01/260131-dream-it-possible-coffee-morning.jpg
ORGANIZER;CN="Dream It Possible Ballet and Performing Arts Training":MAILTO:info@dreamitpossible.ae
END:VEVENT
BEGIN:VEVENT
DTSTART;TZID=Asia/Dubai:20251229T090000
DTEND;TZID=Asia/Dubai:20251229T160000
DTSTAMP:20260425T145311
CREATED:20251126T102720Z
LAST-MODIFIED:20251126T102720Z
UID:10000278-1766998800-1767024000@louisedawson.com
SUMMARY:Dream It Possible - Winter Workshops:  NEW BEGINNINGS\, 29th & 30th (4-hour morning sessions\, or 2-hour afternoon sessions)
DESCRIPTION:DREAM IT POSSIBLE WINTER WORKSHOPS \n“Where dreams soar and inclusivity shines” \nJoin us this Winter break for a magical set of themed workshops! \nEach theme includes: \n\nDancing\nSinging\nDrama\nArts\nCrafts\nTeam games\nFun!\n\nOpen to everyone to come along and be part of. \nSpaces are limited\, so early booking is recommended.\nFROZEN DREAMS\n8th to 12th December \nK-POP FEVER\n15th to 19th December \nWINTER WONDERLAND\n22nd & 23rd December \nNEW BEGINNINGS\n29th & 30th December \n  \n4 HOUR WORKSHOP 9:00am-1:00pm\nEveryone is welcome\, including People of Determination.\nStudents must be independent and able to follow instructions. \nDaily: 190 AED\nWeekly: 760 AED\nFull Camp: 2100 AED \n  \n2 HOUR WORKSHOP 2:00pm-4:00pm\nShorter class for everyone\, especially People of Determination who may need additional support\, supervision or extra staffing. \nDaily: 150 AED\nWeekly: 500 AED\nFull Camp: 1750 AED \nLocation: Louise Dawson Training Centre\, Al Barsha South / Arjan \n📧 Dream t Possible info@dreamitpossible.ae\n📞 058 591 1708\n📷 Follow us on Instagram: @dream_it_possible_dxb \n  \nDisclaimer \nThis training is organised by an external organisation and Louise Dawson Professional Development and Management Training cannot accept any liability or responsibility for the content or quality of the training. \nPayment is made directly with the external training partner and any conversation about delivery of the training\, payment\, refunds\, etc should be addressed directly to the external company. \nIf you have concerns about any content of the training then please let us know so we can raise them with the training provider on behalf of all delegates/attendees.
URL:https://louisedawson.com/event/dream-it-possible-winter-workshops-winter-wonderland-29th-and-30th-december/
LOCATION:Louise Dawson Professional and Management Development\, United Arab Emirates
CATEGORIES:External Training
ATTACH;FMTTYPE=image/jpeg:https://louisedawson.com/wp-content/uploads/2025/11/251208-Dream-It-Possible-Winter-2025-workshops.jpeg
ORGANIZER;CN="Dream It Possible Ballet and Performing Arts Training":MAILTO:info@dreamitpossible.ae
END:VEVENT
BEGIN:VEVENT
DTSTART;TZID=Asia/Dubai:20251222T090000
DTEND;TZID=Asia/Dubai:20251222T160000
DTSTAMP:20260425T145311
CREATED:20251126T102527Z
LAST-MODIFIED:20251126T102527Z
UID:10000277-1766394000-1766419200@louisedawson.com
SUMMARY:Dream It Possible - Winter Workshops:  WINTER WONDERLAND\, 22nd & 23rd (4-hour morning sessions\, or 2-hour afternoon sessions)
DESCRIPTION:DREAM IT POSSIBLE WINTER WORKSHOPS \n“Where dreams soar and inclusivity shines” \nJoin us this Winter break for a magical set of themed workshops! \nEach theme includes: \n\nDancing\nSinging\nDrama\nArts\nCrafts\nTeam games\nFun!\n\nOpen to everyone to come along and be part of. \nSpaces are limited\, so early booking is recommended.\nFROZEN DREAMS\n8th to 12th December \nK-POP FEVER\n15th to 19th December \nWINTER WONDERLAND\n22nd & 23rd December \nNEW BEGINNINGS\n29th & 30th December \n  \n4 HOUR WORKSHOP 9:00am-1:00pm\nEveryone is welcome\, including People of Determination.\nStudents must be independent and able to follow instructions. \nDaily: 190 AED\nWeekly: 760 AED\nFull Camp: 2100 AED \n  \n2 HOUR WORKSHOP 2:00pm-4:00pm\nShorter class for everyone\, especially People of Determination who may need additional support\, supervision or extra staffing. \nDaily: 150 AED\nWeekly: 500 AED\nFull Camp: 1750 AED \nLocation: Louise Dawson Training Centre\, Al Barsha South / Arjan \n📧 Dream t Possible info@dreamitpossible.ae\n📞 058 591 1708\n📷 Follow us on Instagram: @dream_it_possible_dxb \n  \nDisclaimer \nThis training is organised by an external organisation and Louise Dawson Professional Development and Management Training cannot accept any liability or responsibility for the content or quality of the training. \nPayment is made directly with the external training partner and any conversation about delivery of the training\, payment\, refunds\, etc should be addressed directly to the external company. \nIf you have concerns about any content of the training then please let us know so we can raise them with the training provider on behalf of all delegates/attendees.
URL:https://louisedawson.com/event/dream-it-possible-winter-workshops-frozen-dreams-22nd-and-23rd-december/
LOCATION:Louise Dawson Professional and Management Development\, United Arab Emirates
CATEGORIES:External Training
ATTACH;FMTTYPE=image/jpeg:https://louisedawson.com/wp-content/uploads/2025/11/251208-Dream-It-Possible-Winter-2025-workshops.jpeg
ORGANIZER;CN="Dream It Possible Ballet and Performing Arts Training":MAILTO:info@dreamitpossible.ae
END:VEVENT
BEGIN:VEVENT
DTSTART;TZID=Asia/Dubai:20251215T090000
DTEND;TZID=Asia/Dubai:20251215T160000
DTSTAMP:20260425T145311
CREATED:20251126T102233Z
LAST-MODIFIED:20251126T102233Z
UID:10000276-1765789200-1765814400@louisedawson.com
SUMMARY:Dream It Possible - Winter Workshops:  K-POP FEVER\, 15th-19th December (4-hour morning sessions\, or 2-hour afternoon sessions)
DESCRIPTION:DREAM IT POSSIBLE WINTER WORKSHOPS \n“Where dreams soar and inclusivity shines” \nJoin us this Winter break for a magical set of themed workshops! \nEach theme includes: \n\nDancing\nSinging\nDrama\nArts\nCrafts\nTeam games\nFun!\n\nOpen to everyone to come along and be part of. \nSpaces are limited\, so early booking is recommended.\nFROZEN DREAMS\n8th to 12th December \nK-POP FEVER\n15th to 19th December \nWINTER WONDERLAND\n22nd & 23rd December \nNEW BEGINNINGS\n29th & 30th December \n  \n4 HOUR WORKSHOP 9:00am-1:00pm\nEveryone is welcome\, including People of Determination.\nStudents must be independent and able to follow instructions. \nDaily: 190 AED\nWeekly: 760 AED\nFull Camp: 2100 AED \n  \n2 HOUR WORKSHOP 2:00pm-4:00pm\nShorter class for everyone\, especially People of Determination who may need additional support\, supervision or extra staffing. \nDaily: 150 AED\nWeekly: 500 AED\nFull Camp: 1750 AED \nLocation: Louise Dawson Training Centre\, Al Barsha South / Arjan \n📧 Dream t Possible info@dreamitpossible.ae\n📞 058 591 1708\n📷 Follow us on Instagram: @dream_it_possible_dxb \n  \nDisclaimer \nThis training is organised by an external organisation and Louise Dawson Professional Development and Management Training cannot accept any liability or responsibility for the content or quality of the training. \nPayment is made directly with the external training partner and any conversation about delivery of the training\, payment\, refunds\, etc should be addressed directly to the external company. \nIf you have concerns about any content of the training then please let us know so we can raise them with the training provider on behalf of all delegates/attendees.
URL:https://louisedawson.com/event/dream-it-possible-winter-workshops-frozen-dreams-15th-19th-december/
LOCATION:Louise Dawson Professional and Management Development\, United Arab Emirates
CATEGORIES:External Training
ATTACH;FMTTYPE=image/jpeg:https://louisedawson.com/wp-content/uploads/2025/11/251208-Dream-It-Possible-Winter-2025-workshops.jpeg
ORGANIZER;CN="Dream It Possible Ballet and Performing Arts Training":MAILTO:info@dreamitpossible.ae
END:VEVENT
BEGIN:VEVENT
DTSTART;TZID=Asia/Dubai:20251208T090000
DTEND;TZID=Asia/Dubai:20251208T160000
DTSTAMP:20260425T145311
CREATED:20251121T151600Z
LAST-MODIFIED:20251126T102858Z
UID:10000274-1765184400-1765209600@louisedawson.com
SUMMARY:Dream It Possible - Winter Workshops:  Frozen Dreams\, 8th-12th December (4-hour morning sessions\, or 2-hour afternoon sessions)
DESCRIPTION:DREAM IT POSSIBLE WINTER WORKSHOPS \n“Where dreams soar and inclusivity shines” \nJoin us this Winter break for a magical set of themed workshops! \nEach theme includes: \n\nDancing\nSinging\nDrama\nArts\nCrafts\nTeam games\nFun!\n\nOpen to everyone to come along and be part of. \nSpaces are limited\, so early booking is recommended.\nFROZEN DREAMS\n8th to 12th December \nK-POP FEVER\n15th to 19th December \nWINTER WONDERLAND\n22nd & 23rd December \nNEW BEGINNINGS\n29th & 30th December \n  \n4 HOUR WORKSHOP 9:00am-1:00pm\nEveryone is welcome\, including People of Determination.\nStudents must be independent and able to follow instructions. \nDaily: 190 AED\nWeekly: 760 AED\nFull Camp: 2100 AED \n  \n2 HOUR WORKSHOP 2:00pm-4:00pm\nShorter class for everyone\, especially People of Determination who may need additional support\, supervision or extra staffing. \nDaily: 150 AED\nWeekly: 500 AED\nFull Camp: 1750 AED \nLocation: Louise Dawson Training Centre\, Al Barsha South / Arjan \n📧 Dream t Possible info@dreamitpossible.ae\n📞 058 591 1708\n📷 Follow us on Instagram: @dream_it_possible_dxb \n  \nDisclaimer \nThis training is organised by an external organisation and Louise Dawson Professional Development and Management Training cannot accept any liability or responsibility for the content or quality of the training. \nPayment is made directly with the external training partner and any conversation about delivery of the training\, payment\, refunds\, etc should be addressed directly to the external company. \nIf you have concerns about any content of the training then please let us know so we can raise them with the training provider on behalf of all delegates/attendees.
URL:https://louisedawson.com/event/dream-it-possible-winter-workshops-frozen-dreams-8th-12th-december/
LOCATION:Louise Dawson Professional and Management Development\, United Arab Emirates
CATEGORIES:External Training
ATTACH;FMTTYPE=image/jpeg:https://louisedawson.com/wp-content/uploads/2025/11/251208-Dream-It-Possible-Winter-2025-workshops.jpeg
ORGANIZER;CN="Dream It Possible Ballet and Performing Arts Training":MAILTO:info@dreamitpossible.ae
END:VEVENT
END:VCALENDAR