BEGIN:VCALENDAR
VERSION:2.0
PRODID:-//Louise Dawson Professional and Management Development Training - ECPv6.15.20//NONSGML v1.0//EN
CALSCALE:GREGORIAN
METHOD:PUBLISH
X-WR-CALNAME:Louise Dawson Professional and Management Development Training
X-ORIGINAL-URL:https://louisedawson.com
X-WR-CALDESC:Events for Louise Dawson Professional and Management Development Training
REFRESH-INTERVAL;VALUE=DURATION:PT1H
X-Robots-Tag:noindex
X-PUBLISHED-TTL:PT1H
BEGIN:VTIMEZONE
TZID:Asia/Dubai
BEGIN:STANDARD
TZOFFSETFROM:+0400
TZOFFSETTO:+0400
TZNAME:+04
DTSTART:20240101T000000
END:STANDARD
END:VTIMEZONE
BEGIN:VEVENT
DTSTART;TZID=Asia/Dubai:20251125T160000
DTEND;TZID=Asia/Dubai:20251125T170000
DTSTAMP:20260425T163306
CREATED:20251104T165047Z
LAST-MODIFIED:20251121T090237Z
UID:10000263-1764086400-1764090000@louisedawson.com
SUMMARY:FREE! Webinar with Jigsaw - "Drug Prevention Guidance: what do I need to know and how can I ensure my school is compliant?"
DESCRIPTION:Join Louise and specialists from Jigsaw Education where they discuss the challenges\, and suggest practical approaches to take in your school or setting. \n\n\nSession outcomes\nBy attending this session\, you will gain:\n\n\nGreater understanding of the ‘Guide to Drugs Prevention at School Environment’ guidance\n\n\nAn overview of the evidence-based benefits for pupils being taught drug\, alcohol and substance misuse in schools\n\n\nAn introduction to Jigsaw PSHE and how it supports implementation of the new guidance\n\n\nAn audit tool to support your school in meeting the new guidance.\n\n\n  \n\nPlease be aware that some people have had issues trying to book spaces on our events. We believe this is an issue with the du/Virgin Mobile networks. We apologies for this issue\, which is beyond our control.\nIf you experience this issue please send a email to media@louisedawson.com with the event and date\, your name(s) and email address(es) of the people you would like to book on to the event. \n  \nTo book your space at this event…\n\nUsing the + and – buttons in the “Tickets” dialog box select the number of tickets you require\n\n*** If you do not select the number of tickets you required you will be unable to progress with your order *** \n\nClick on the “Get Tickets” button\n\nOn the next screen… \n\nAdd your name as the “purchaser” of the ticket(s)\nAdd your email address [this is the address the confirmation details will be sent to]\nEnter your payment details [if required]\nClick on the “Get Tickets” or “Purchase Tickets” button at the foot of the page to complete your order\n\n  \nYou will receive an on-screen order confirmation\, and you will also be sent two emails to the email address you entered\, which will include: \n\nYour tickets\, and\nYour purchase receipt\n\n  \nIf you do not receive your purchase receipt or tickets please ensure you have checked your spam or junk folder!
URL:https://louisedawson.com/event/free-webinar-with-jigsaw-drug-prevention-guidance-what-do-i-need-to-know-and-how-can-i-ensure-my-school-is-compliant/
LOCATION:Webinar – FREE
CATEGORIES:External Training,Inclusion Network,Well Being Network
ATTACH;FMTTYPE=image/png:https://louisedawson.com/wp-content/uploads/2025/11/251125-Jigsaw-webinar-drug-prevention.png
END:VEVENT
BEGIN:VEVENT
DTSTART;TZID=Asia/Dubai:20250917T190000
DTEND;TZID=Asia/Dubai:20250917T200000
DTSTAMP:20260425T163306
CREATED:20250904T113441Z
LAST-MODIFIED:20250904T113716Z
UID:10000138-1758135600-1758139200@louisedawson.com
SUMMARY:FREE! Webinar with Jigsaw - AI and the Safeguarding Imperative: What Educators Need to Know
DESCRIPTION:AI is rapidly reshaping the digital spaces young people use every day – bringing fresh safeguarding challenges schools can’t ignore. \nJoin @Bianca Farthing (@AI Edify) for a focused webinar exploring the risks\, real-world examples\, and practical strategies educators need to guide pupils safely in an AI-driven world. \n📅 17th September 2025 \n🕒 4pm (UK Time) \nLearn how AI is shaping young people’s online interactions\, how to address safeguarding risks like misinformation & emotional simulation\, and build pupils’ resilience and awareness. \nDon’t miss out – book your spot here now! \nHosted by @JigsawEducationGroup \n  \n  \nDisclaimer \nThis training is organised by an external organisation and Louise Dawson Professional Development and Management Training cannot accept any liability or responsibility for the content or quality of the training. \nPayment is made directly with the external training partner and any conversation about delivery of the training\, payment\, refunds\, etc should be addressed directly to the external company. \nIf you have concerns about any content of the training then please let us know so we can raise them with the training provider on behalf of all delegates/attendees.
URL:https://louisedawson.com/event/free-webinar-with-jigsaw-ai-and-the-safeguarding-imperative-what-educators-need-to-know/
LOCATION:Webinar – FREE
CATEGORIES:External Training
ATTACH;FMTTYPE=image/png:https://louisedawson.com/wp-content/uploads/2025/09/2509017-Jigsaw-AI-webinar.png
END:VEVENT
END:VCALENDAR