BEGIN:VCALENDAR
VERSION:2.0
PRODID:-//Louise Dawson Professional and Management Development Training - ECPv6.15.20//NONSGML v1.0//EN
CALSCALE:GREGORIAN
METHOD:PUBLISH
X-WR-CALNAME:Louise Dawson Professional and Management Development Training
X-ORIGINAL-URL:https://louisedawson.com
X-WR-CALDESC:Events for Louise Dawson Professional and Management Development Training
REFRESH-INTERVAL;VALUE=DURATION:PT1H
X-Robots-Tag:noindex
X-PUBLISHED-TTL:PT1H
BEGIN:VTIMEZONE
TZID:Asia/Dubai
BEGIN:STANDARD
TZOFFSETFROM:+0400
TZOFFSETTO:+0400
TZNAME:+04
DTSTART:20240101T000000
END:STANDARD
END:VTIMEZONE
BEGIN:VEVENT
DTSTART;TZID=Asia/Dubai:20250919T080000
DTEND;TZID=Asia/Dubai:20250919T110000
DTSTAMP:20260425T175913
CREATED:20250916T093457Z
LAST-MODIFIED:20250917T070038Z
UID:10000204-1758268800-1758279600@louisedawson.com
SUMMARY:3rd Annual Inclusion and Wellbeing Souk - September 2025
DESCRIPTION:This year’s Souk promises to be our biggest and most impactful yet\, bringing together professionals and organisations from across Dubai and beyond to celebrate and promote Inclusion and Wellbeing. We are thrilled to have you as part of this important event. \n Key Details: \n\nEvent Date: Friday\, 19th September 2025\nLocation: Multi Purpose Hall\, Ground Floor\, Fairgreen International School\, Sustainable City\, Dubai\nTimings:\n\n8:00am – 9:00am: Exclusive access for the Fairgreen community\n9:15am – 11am: Open to professionals and guests from across Dubai\n\n\n\nThe Inclusion and Wellbeing Souk event is a warm and welcoming environment\, allowing you all to interact informally with specialists who offer valuable services in education\, mental health\, and family support. \nThank you again for joining us — we can’t wait to showcase the amazing work you do and to connect you with our vibrant community. \nPlease register here to secure your space at this year’s Inclusion & Wellbeing Souk! \nhttps://docs.google.com/forms/d/e/1FAIpQLSfXTtYHuIWTtNVr3HWWcbD6Atq-cgOWJFRjyGHGPVsKmjyZkQ/viewform \nDisclaimer \nThis event is organised by an external organisation and Louise Dawson Professional Development and Management Training cannot accept any liability or responsibility for the content or quality of the event. \nPayment is made directly with the external event organiser and any conversation about delivery of the event\, payment\, refunds\, etc. should be addressed directly to the external company. \nIf you have concerns about any content of the training then please let us know so we can raise them with the training provider on behalf of all delegates/attendees.
URL:https://louisedawson.com/event/3rd-annual-inclusion-and-wellbeing-souk-september-2025/
ATTACH;FMTTYPE=image/jpeg:https://louisedawson.com/wp-content/uploads/2025/09/250919-Faigreen-3rd-inclusion-and-wellbeing-souk.jpg
END:VEVENT
END:VCALENDAR