BEGIN:VCALENDAR
VERSION:2.0
PRODID:-//Louise Dawson Professional and Management Development Training - ECPv6.15.20//NONSGML v1.0//EN
CALSCALE:GREGORIAN
METHOD:PUBLISH
X-WR-CALNAME:Louise Dawson Professional and Management Development Training
X-ORIGINAL-URL:https://louisedawson.com
X-WR-CALDESC:Events for Louise Dawson Professional and Management Development Training
REFRESH-INTERVAL;VALUE=DURATION:PT1H
X-Robots-Tag:noindex
X-PUBLISHED-TTL:PT1H
BEGIN:VTIMEZONE
TZID:Asia/Muscat
BEGIN:STANDARD
TZOFFSETFROM:+0400
TZOFFSETTO:+0400
TZNAME:+04
DTSTART:20240101T000000
END:STANDARD
END:VTIMEZONE
BEGIN:VEVENT
DTSTART;TZID=Asia/Muscat:20250524T083000
DTEND;TZID=Asia/Muscat:20250524T151500
DTSTAMP:20260425T174024
CREATED:20250303T124425Z
LAST-MODIFIED:20250512T092331Z
UID:10000068-1748075400-1748099700@louisedawson.com
SUMMARY:Inspire & Learn : Inclusion with Louise Dawson & Knowledge Gate Int. Sch. (25/OMR)
DESCRIPTION:Upskilling Through Sharing Best Practice\nThis is your opportunity to hear from leading inclusion specialists from across the Middle East and learn useful\, practical skills you can take away to implement in your daily practice. \n\nSpeakers leading interactive inclusion-focused workshops\nUpskilling through collaboration and workshops\nMeet some leading educational companies\nReceive free trials\, logins\, demonstrations and a goody bag\nand join us for lunch\n\n  \nCost 25 Omani Riyal / 250 AED\nSign up online for quick online payment\, or email Louise@LouiseDawson.Com for an invoice. \nWe recognise that some schools will need a business registered invoice for payment.  Please don’t hesitate to contact us to facilitate this separately. \n  \nConfirmed Speakers\nLouise Dawson – International Inclusion Consultant\nLouise is an international speaker & trainer with over 20 years experience implementing outstanding provision across multiple countries\, curriculums and challenges. A specialist in supporting school improvement\, Louise works with Governments\, Schools and Families promoting inclusion. \nDenise Hill – SENDCo – KGIS\nDenise has two decades of teaching excellence across the UK and abroad\, excelling in curriculum design\, nurturing inclusive classrooms\, and leading professional development—empowering students and educators alike through innovative planning\, collaborative practice\, and a deep commitment to educational success. \nHannah Doherty – Head of Inclusion\nHannah is a passionate inclusion leader dedicated to advancing inclusive practice across international schools. She collaborates with diverse stakeholders to embed equity\, elevate neurodivergent voices\,\nand cultivate cultures where every learner feels seen\, valued\, and able to thrive. \nRachel Smith Green – Director of Thrive\nRachel is a teacher\, with 30 years experience at leadership and government level. She is highly regarded for developing curriculum & systems that include all levels of SEND in mainstream schools\, and speaks at local and international conferences. She is currently researching the impact of eco-literacy & positive education curriculums on students’ wellbeing\, especially students with ADHD and ASD. \nSarah Al Maawali – Advisory Inclusion Teacher\nSarah is an experienced educator and Inclusion Education Consultant based in Oman. She supports schools in advancing inclusive practice through consultations\, professional development workshops\, professional forums\, and school audits. Sarah also shares her expertise at local and international education conferences. \nWendy Harris – Senior Director of Inclusion\nWendy Harris is the Senior Director of Inclusion for the Wellington Partnership Cluster\, Assistant Headteacher for Inclusion at Wellington International School Dubai\, BSME SEND Network Leader\, IB Examiner\, and School Governor—driving excellence in inclusive practice\, leadership\, and professional development. \n  \nWorkshops\n\nReferral & Identification\nTeam Around The Child\nInclusive Environments\nSupporting Teachers\nEffective Goal Setting\nClassroom Strategies\nAction Mats  – more information\nBeacon School Support  – more information\nElklan Training  – more information\nMighty Writer  – more information
URL:https://louisedawson.com/event/inspire-learn-with-louise-dawson-oman-inclusion-conference/
LOCATION:Knowledge Gate International School\, Muscat\, Al Hail\, Oman\, Knowledge Gate International School\, Al Hail\, Muscat\, Oman
ATTACH;FMTTYPE=image/png:https://louisedawson.com/wp-content/uploads/2025/03/2505240-Inspired-Oman-with-pricing.png
END:VEVENT
END:VCALENDAR