BEGIN:VCALENDAR
VERSION:2.0
PRODID:-//Louise Dawson Professional and Management Development Training - ECPv6.15.20//NONSGML v1.0//EN
CALSCALE:GREGORIAN
METHOD:PUBLISH
X-ORIGINAL-URL:https://louisedawson.com
X-WR-CALDESC:Events for Louise Dawson Professional and Management Development Training
REFRESH-INTERVAL;VALUE=DURATION:PT1H
X-Robots-Tag:noindex
X-PUBLISHED-TTL:PT1H
BEGIN:VTIMEZONE
TZID:Asia/Dubai
BEGIN:STANDARD
TZOFFSETFROM:+0400
TZOFFSETTO:+0400
TZNAME:+04
DTSTART:20250101T000000
END:STANDARD
END:VTIMEZONE
BEGIN:VEVENT
DTSTART;TZID=Asia/Dubai:20260430T090000
DTEND;TZID=Asia/Dubai:20260430T153000
DTSTAMP:20260423T120108
CREATED:20260421T090451Z
LAST-MODIFIED:20260421T090558Z
UID:10000381-1777539600-1777563000@louisedawson.com
SUMMARY:DSL Designated Safeguarding Lead (Level 3) in-person course
DESCRIPTION:Enhance your safeguarding knowledge – strengthen your role\, and support your school community\nDSL Designated Safeguarding Lead (Level 3) face-to-face training course delivered by a UK-qualified and experienced safeguarding lead\, with years of UAE experience. \nBenefit from real-life experience of safeguarding in schools in the UAE. \nWhat you will get: \n\nExpert training delivered by Riaz Jamadar\nStronger safeguarding systems and processes\nHands-on\, interactive\, face to face learning\n\nDiscounts available: \n\nAED 100 discount per person for 2 or more staff\nSpecial rates for groups of 10 or more from your school\n\n  \nRegister your interest now!
URL:https://louisedawson.com/event/dsl-designated-safeguarding-lead-level-3-in-person-course/
LOCATION:Louise Dawson Professional and Management Development\, United Arab Emirates
CATEGORIES:Well Being Network
ATTACH;FMTTYPE=image/jpeg:https://louisedawson.com/wp-content/uploads/2026/04/260430-DSL-level-3-course.jpeg
END:VEVENT
BEGIN:VEVENT
DTSTART;TZID=Asia/Dubai:20260502T140000
DTEND;TZID=Asia/Dubai:20260502T160000
DTSTAMP:20260423T120108
CREATED:20260219T055513Z
LAST-MODIFIED:20260219T061137Z
UID:10000335-1777730400-1777737600@louisedawson.com
SUMMARY:Social Group Hangout for 13 - 21 year-olds - 2 May '26
DESCRIPTION:✨Join Us for Fun Every Other Saturday!✨ \nThis event is for young people\, regardless of background or experience. We aim to create an environment where everyone feels comfortable and welcomed. \nHere’s what’s happening: \n🧩 Chess – Think you’re a chess master\, or want to learn? We’ve got all levels covered – from beginners to grandmasters! ♟️ \n🎲 Dungeons & Dragons – Embark on an adventure with your friends or join an epic campaign! Perfect for beginners and experienced players alike. Ready to roll? 🎲✨ \n🎨 Self-led Activities – Whether you’re into crafting\, reading\, or just vibing with your friends\, we’ve got the space for you to do your thing. 🎨✂️📚 \n🕶️ Hangout Zone – If you’re just in the mood to chill\, chat\, and relax\, this is your spot. Come be yourself and enjoy the day! \nIf interested\, please WhatsApp: +971 56 261 6241 \n  \nPlanned dates – please confirm before attending: \n\nMay 16\nMay 30\nJune 20\nJuly 4\n\n  \nTo book your space at this event…\n\nUsing the + and – buttons in the “Tickets” dialog box select the number of tickets you require\n\n*** If you do not select the number of tickets you required you will be unable to progress with your order *** \n\nClick on the “Get Tickets” button\n\nOn the next screen… \n\nAdd your name as the “purchaser” of the ticket(s)\nAdd your email address [this is the address the confirmation details will be sent to]\nEnter your payment details\nClick on the “Get Tickets” or “Purchase Tickets” button at the foot of the page to complete your order\n\n  \nYou will receive an on-screen order confirmation\, and you will also be sent two emails to the email address you entered\, which will include: \n\nYour tickets\, and\nYour purchase receipt\n\n  \nIf you do not receive your purchase receipt or tickets please ensure you have checked your spam or junk folder!
URL:https://louisedawson.com/event/social-group-hangout-for-13-21-year-olds-2-may-26/
LOCATION:Louise Dawson Professional and Management Development\, United Arab Emirates
ATTACH;FMTTYPE=image/png:https://louisedawson.com/wp-content/uploads/2026/02/2026-spring-summer-social-group-hangout.png
END:VEVENT
BEGIN:VEVENT
DTSTART;TZID=Asia/Dubai:20260516T140000
DTEND;TZID=Asia/Dubai:20260516T160000
DTSTAMP:20260423T120108
CREATED:20260219T061637Z
LAST-MODIFIED:20260219T061637Z
UID:10000336-1778940000-1778947200@louisedawson.com
SUMMARY:Social Group Hangout for 13 - 21 year-olds - 16 May '26
DESCRIPTION:✨Join Us for Fun Every Other Saturday!✨ \nThis event is for young people\, regardless of background or experience. We aim to create an environment where everyone feels comfortable and welcomed. \nHere’s what’s happening: \n🧩 Chess – Think you’re a chess master\, or want to learn? We’ve got all levels covered – from beginners to grandmasters! ♟️ \n🎲 Dungeons & Dragons – Embark on an adventure with your friends or join an epic campaign! Perfect for beginners and experienced players alike. Ready to roll? 🎲✨ \n🎨 Self-led Activities – Whether you’re into crafting\, reading\, or just vibing with your friends\, we’ve got the space for you to do your thing. 🎨✂️📚 \n🕶️ Hangout Zone – If you’re just in the mood to chill\, chat\, and relax\, this is your spot. Come be yourself and enjoy the day! \nIf interested\, please WhatsApp: +971 56 261 6241 \n  \nPlanned dates – please confirm before attending: \n\nMay 30\nJune 20\nJuly 4\n\n  \nTo book your space at this event…\n\nUsing the + and – buttons in the “Tickets” dialog box select the number of tickets you require\n\n*** If you do not select the number of tickets you required you will be unable to progress with your order *** \n\nClick on the “Get Tickets” button\n\nOn the next screen… \n\nAdd your name as the “purchaser” of the ticket(s)\nAdd your email address [this is the address the confirmation details will be sent to]\nEnter your payment details\nClick on the “Get Tickets” or “Purchase Tickets” button at the foot of the page to complete your order\n\n  \nYou will receive an on-screen order confirmation\, and you will also be sent two emails to the email address you entered\, which will include: \n\nYour tickets\, and\nYour purchase receipt\n\n  \nIf you do not receive your purchase receipt or tickets please ensure you have checked your spam or junk folder!
URL:https://louisedawson.com/event/social-group-hangout-for-13-21-year-olds-16-may-26/
LOCATION:Louise Dawson Professional and Management Development\, United Arab Emirates
ATTACH;FMTTYPE=image/png:https://louisedawson.com/wp-content/uploads/2026/02/2026-spring-summer-social-group-hangout.png
END:VEVENT
BEGIN:VEVENT
DTSTART;TZID=Asia/Dubai:20260530T140000
DTEND;TZID=Asia/Dubai:20260530T160000
DTSTAMP:20260423T120108
CREATED:20260219T092404Z
LAST-MODIFIED:20260219T092404Z
UID:10000339-1780149600-1780156800@louisedawson.com
SUMMARY:Social Group Hangout for 13 - 21 year-olds - 30 May '26
DESCRIPTION:✨Join Us for Fun Every Other Saturday!✨ \nThis event is for young people\, regardless of background or experience. We aim to create an environment where everyone feels comfortable and welcomed. \nHere’s what’s happening: \n🧩 Chess – Think you’re a chess master\, or want to learn? We’ve got all levels covered – from beginners to grandmasters! ♟️ \n🎲 Dungeons & Dragons – Embark on an adventure with your friends or join an epic campaign! Perfect for beginners and experienced players alike. Ready to roll? 🎲✨ \n🎨 Self-led Activities – Whether you’re into crafting\, reading\, or just vibing with your friends\, we’ve got the space for you to do your thing. 🎨✂️📚 \n🕶️ Hangout Zone – If you’re just in the mood to chill\, chat\, and relax\, this is your spot. Come be yourself and enjoy the day! \nIf interested\, please WhatsApp: +971 56 261 6241 \n  \nPlanned dates – please confirm before attending: \n\nJune 20\nJuly 4\n\n  \nTo book your space at this event…\n\nUsing the + and – buttons in the “Tickets” dialog box select the number of tickets you require\n\n*** If you do not select the number of tickets you required you will be unable to progress with your order *** \n\nClick on the “Get Tickets” button\n\nOn the next screen… \n\nAdd your name as the “purchaser” of the ticket(s)\nAdd your email address [this is the address the confirmation details will be sent to]\nEnter your payment details\nClick on the “Get Tickets” or “Purchase Tickets” button at the foot of the page to complete your order\n\n  \nYou will receive an on-screen order confirmation\, and you will also be sent two emails to the email address you entered\, which will include: \n\nYour tickets\, and\nYour purchase receipt\n\n  \nIf you do not receive your purchase receipt or tickets please ensure you have checked your spam or junk folder!
URL:https://louisedawson.com/event/social-group-hangout-for-13-21-year-olds-30-may-26/
LOCATION:Louise Dawson Professional and Management Development\, United Arab Emirates
ATTACH;FMTTYPE=image/png:https://louisedawson.com/wp-content/uploads/2026/02/2026-spring-summer-social-group-hangout.png
END:VEVENT
BEGIN:VEVENT
DTSTART;TZID=Asia/Dubai:20260620T140000
DTEND;TZID=Asia/Dubai:20260620T160000
DTSTAMP:20260423T120108
CREATED:20260219T084748Z
LAST-MODIFIED:20260219T084748Z
UID:10000337-1781964000-1781971200@louisedawson.com
SUMMARY:Social Group Hangout for 13 - 21 year-olds - 20 June '26
DESCRIPTION:✨Join Us for Fun Every Other Saturday!✨ \nThis event is for young people\, regardless of background or experience. We aim to create an environment where everyone feels comfortable and welcomed. \nHere’s what’s happening: \n🧩 Chess – Think you’re a chess master\, or want to learn? We’ve got all levels covered – from beginners to grandmasters! ♟️ \n🎲 Dungeons & Dragons – Embark on an adventure with your friends or join an epic campaign! Perfect for beginners and experienced players alike. Ready to roll? 🎲✨ \n🎨 Self-led Activities – Whether you’re into crafting\, reading\, or just vibing with your friends\, we’ve got the space for you to do your thing. 🎨✂️📚 \n🕶️ Hangout Zone – If you’re just in the mood to chill\, chat\, and relax\, this is your spot. Come be yourself and enjoy the day! \nIf interested\, please WhatsApp: +971 56 261 6241 \n  \nPlanned dates – please confirm before attending: \n\nJuly 4\n\n  \nTo book your space at this event…\n\nUsing the + and – buttons in the “Tickets” dialog box select the number of tickets you require\n\n*** If you do not select the number of tickets you required you will be unable to progress with your order *** \n\nClick on the “Get Tickets” button\n\nOn the next screen… \n\nAdd your name as the “purchaser” of the ticket(s)\nAdd your email address [this is the address the confirmation details will be sent to]\nEnter your payment details\nClick on the “Get Tickets” or “Purchase Tickets” button at the foot of the page to complete your order\n\n  \nYou will receive an on-screen order confirmation\, and you will also be sent two emails to the email address you entered\, which will include: \n\nYour tickets\, and\nYour purchase receipt\n\n  \nIf you do not receive your purchase receipt or tickets please ensure you have checked your spam or junk folder!
URL:https://louisedawson.com/event/social-group-hangout-for-13-21-year-olds-20-june-26/
LOCATION:Louise Dawson Professional and Management Development\, United Arab Emirates
ATTACH;FMTTYPE=image/png:https://louisedawson.com/wp-content/uploads/2026/02/2026-spring-summer-social-group-hangout.png
END:VEVENT
BEGIN:VEVENT
DTSTART;TZID=Asia/Dubai:20260704T140000
DTEND;TZID=Asia/Dubai:20260704T160000
DTSTAMP:20260423T120108
CREATED:20260219T092203Z
LAST-MODIFIED:20260219T092203Z
UID:10000338-1783173600-1783180800@louisedawson.com
SUMMARY:Social Group Hangout for 13 - 21 year-olds - 4 July '26
DESCRIPTION:✨Join Us for Fun Every Other Saturday!✨ \nThis event is for young people\, regardless of background or experience. We aim to create an environment where everyone feels comfortable and welcomed. \nHere’s what’s happening: \n🧩 Chess – Think you’re a chess master\, or want to learn? We’ve got all levels covered – from beginners to grandmasters! ♟️ \n🎲 Dungeons & Dragons – Embark on an adventure with your friends or join an epic campaign! Perfect for beginners and experienced players alike. Ready to roll? 🎲✨ \n🎨 Self-led Activities – Whether you’re into crafting\, reading\, or just vibing with your friends\, we’ve got the space for you to do your thing. 🎨✂️📚 \n🕶️ Hangout Zone – If you’re just in the mood to chill\, chat\, and relax\, this is your spot. Come be yourself and enjoy the day! \nIf interested\, please WhatsApp: +971 56 261 6241 \n  \nPlanned dates – please confirm before attending: \n\nJuly 4\n\n  \nTo book your space at this event…\n\nUsing the + and – buttons in the “Tickets” dialog box select the number of tickets you require\n\n*** If you do not select the number of tickets you required you will be unable to progress with your order *** \n\nClick on the “Get Tickets” button\n\nOn the next screen… \n\nAdd your name as the “purchaser” of the ticket(s)\nAdd your email address [this is the address the confirmation details will be sent to]\nEnter your payment details\nClick on the “Get Tickets” or “Purchase Tickets” button at the foot of the page to complete your order\n\n  \nYou will receive an on-screen order confirmation\, and you will also be sent two emails to the email address you entered\, which will include: \n\nYour tickets\, and\nYour purchase receipt\n\n  \nIf you do not receive your purchase receipt or tickets please ensure you have checked your spam or junk folder!
URL:https://louisedawson.com/event/social-group-hangout-for-13-21-year-olds-4-july-26/
LOCATION:Louise Dawson Professional and Management Development\, United Arab Emirates
ATTACH;FMTTYPE=image/png:https://louisedawson.com/wp-content/uploads/2026/02/2026-spring-summer-social-group-hangout.png
END:VEVENT
END:VCALENDAR