BEGIN:VCALENDAR
VERSION:2.0
PRODID:-//Louise Dawson Professional and Management Development Training - ECPv6.15.20//NONSGML v1.0//EN
CALSCALE:GREGORIAN
METHOD:PUBLISH
X-ORIGINAL-URL:https://louisedawson.com
X-WR-CALDESC:Events for Louise Dawson Professional and Management Development Training
REFRESH-INTERVAL;VALUE=DURATION:PT1H
X-Robots-Tag:noindex
X-PUBLISHED-TTL:PT1H
BEGIN:VTIMEZONE
TZID:Asia/Dubai
BEGIN:STANDARD
TZOFFSETFROM:+0400
TZOFFSETTO:+0400
TZNAME:+04
DTSTART:20240101T000000
END:STANDARD
END:VTIMEZONE
BEGIN:VEVENT
DTSTART;TZID=Asia/Dubai:20260411T073000
DTEND;TZID=Asia/Dubai:20260411T163000
DTSTAMP:20260423T131924
CREATED:20251020T122246Z
LAST-MODIFIED:20260323T134255Z
UID:10000236-1775892600-1775925000@louisedawson.com
SUMMARY:Search Associates Careers Fair - Dubai\, April 2026
DESCRIPTION:This is the second of two Dubai Fairs in the 2025-26 academic year. It is organised by Bill and Alison Turner\, who themselves have experience as school Principals in 5 schools across the region covering IB\, British and American curricula. \n\nThis fair is particularly useful for candidates seeking positions in the Middle East\, Asia and Africa\, though we always host schools from further afield too. \nBeing an early fair in the season\, this is a great chance to meet leadership candidates\, as well as others who have committed early to seek new positions for the following year. \nWhere will the fair be hosted? \nUniversal American School in Festival City\, Dubai. \nWhen are candidate registrations open? \nCandidates wanting to attend should request an invitation from their senior Search Associate. \nWho should attend? \nCandidates (including senior leaders/administrators) and schools from anywhere in the world\, and with any curriculum background. \nGet more details here \n\n  \nDisclaimer \nThis event is organised by an external organisation and Louise Dawson Professional Development and Management Training cannot accept any liability or responsibility for the content or quality of the event. \nPayment is made directly with the external event organiser and any conversation about delivery of the event\, payment\, refunds\, etc. should be addressed directly to the external company. \nIf you have concerns about any content of the training then please let us know so we can raise them with the training provider on behalf of all delegates/attendees.
URL:https://louisedawson.com/event/search-associates-careers-fair-dubai-april-2026/
LOCATION:Universal American School\, Festival City\, Dubai\, United Arab Emirates
CATEGORIES:Recruitment Fair
ATTACH;FMTTYPE=image/png:https://louisedawson.com/wp-content/uploads/2026/03/260411-search-associates-jobs-fair-cancelled.png
END:VEVENT
BEGIN:VEVENT
DTSTART;TZID=Asia/Dubai:20251122T073000
DTEND;TZID=Asia/Dubai:20251123T163000
DTSTAMP:20260423T131924
CREATED:20250907T170043Z
LAST-MODIFIED:20250907T174403Z
UID:10000139-1763796600-1763915400@louisedawson.com
SUMMARY:Search Associates Careers Fair - Dubai\, November 2025
DESCRIPTION:This is the first of two Dubai Fairs in the 2025-26 academic year. It is organised by Bill and Alison Turner\, who themselves have experience as school Principals in 5 schools across the region covering IB\, British and American curricula. \n\nThis fair is particularly useful for candidates seeking positions in the Middle East\, Asia and Africa\, though we always host schools from further afield too. \nBeing an early fair in the season\, this is a great chance to meet leadership candidates\, as well as others who have committed early to seek new positions for the following year. \nWhere will the fair be hosted? \nUniversal American School in Festival City\, Dubai. \nWhen are candidate registrations open? \n16 August 2025. Candidates wanting to attend should request an invitation from their senior Search Associate. \nWho should attend? \nCandidates (including senior leaders/administrators) and schools from anywhere in the world\, and with any curriculum background. \n\n  \nDisclaimer \nThis event is organised by an external organisation and Louise Dawson Professional Development and Management Training cannot accept any liability or responsibility for the content or quality of the event. \nPayment is made directly with the external event organiser and any conversation about delivery of the event\, payment\, refunds\, etc. should be addressed directly to the external company. \nIf you have concerns about any content of the training then please let us know so we can raise them with the training provider on behalf of all delegates/attendees.
URL:https://louisedawson.com/event/search-associates-careers-fair-dubai-november-2025/
LOCATION:Universal American School\, Festival City\, Dubai\, United Arab Emirates
CATEGORIES:Recruitment Fair
ATTACH;FMTTYPE=image/png:https://louisedawson.com/wp-content/uploads/2025/09/251122-Search-Associates-jobs-fair.png
END:VEVENT
END:VCALENDAR