BEGIN:VCALENDAR
VERSION:2.0
PRODID:-//Louise Dawson Professional and Management Development Training - ECPv6.15.20//NONSGML v1.0//EN
CALSCALE:GREGORIAN
METHOD:PUBLISH
X-ORIGINAL-URL:https://louisedawson.com
X-WR-CALDESC:Events for Louise Dawson Professional and Management Development Training
REFRESH-INTERVAL;VALUE=DURATION:PT1H
X-Robots-Tag:noindex
X-PUBLISHED-TTL:PT1H
BEGIN:VTIMEZONE
TZID:Asia/Dubai
BEGIN:STANDARD
TZOFFSETFROM:+0400
TZOFFSETTO:+0400
TZNAME:+04
DTSTART:20240101T000000
END:STANDARD
END:VTIMEZONE
BEGIN:VEVENT
DTSTART;TZID=Asia/Dubai:20250130T080000
DTEND;TZID=Asia/Dubai:20250130T090000
DTSTAMP:20260425T163517
CREATED:20250116T122830Z
LAST-MODIFIED:20250123T143940Z
UID:10000030-1738224000-1738227600@louisedawson.com
SUMMARY:FREE! GEMS Metropole School - Inclusion Coffee Morning for Parents
DESCRIPTION:Louise will be speaking to parents at a GEMS Metropole School Inclusion Coffee Morning for parents. \nGEMS Metropole school is in Motor City\, Dubai. \nRuns from 08:00 – 09:00 on 29th January 2025 \n  \nDisclaimer \nThis event is organised by an external organisation and Louise Dawson Professional Development and Management Training does not accept any liability or responsibility for the content or quality of the event. \nAny payment is made directly with the external organisation and any conversation about delivery of the event\, payment\, refunds\, etc should be addressed directly to the external company. \nIf you have concerns about any content of the events advertised on our website then please let us know so we can raise them with the external provider on behalf of all delegates/attendees.
URL:https://louisedawson.com/event/gems-metropole-school-inclusion-coffee-morning/
LOCATION:GEMS Metropole School\, GEMS Metropole School\, Motor City\, Dubai\, United Arab Emirates
CATEGORIES:External Training
ATTACH;FMTTYPE=image/png:https://louisedawson.com/wp-content/uploads/2025/01/250130-Metropole-coffee-morning.png
END:VEVENT
END:VCALENDAR