BEGIN:VCALENDAR
VERSION:2.0
PRODID:-//Louise Dawson Professional and Management Development Training - ECPv6.15.20//NONSGML v1.0//EN
CALSCALE:GREGORIAN
METHOD:PUBLISH
X-ORIGINAL-URL:https://louisedawson.com
X-WR-CALDESC:Events for Louise Dawson Professional and Management Development Training
REFRESH-INTERVAL;VALUE=DURATION:PT1H
X-Robots-Tag:noindex
X-PUBLISHED-TTL:PT1H
BEGIN:VTIMEZONE
TZID:Asia/Dubai
BEGIN:STANDARD
TZOFFSETFROM:+0400
TZOFFSETTO:+0400
TZNAME:+04
DTSTART:20240101T000000
END:STANDARD
END:VTIMEZONE
BEGIN:VEVENT
DTSTART;TZID=Asia/Dubai:20250520T160000
DTEND;TZID=Asia/Dubai:20250520T173000
DTSTAMP:20260425T231714
CREATED:20250507T122755Z
LAST-MODIFIED:20250508T073522Z
UID:10000089-1747756800-1747762200@louisedawson.com
SUMMARY:FREE WORKSHOP! Turning Struggle into Success: The Jumpstarting™ Approach in Action
DESCRIPTION:🆓 Join us for a FREE face-to-face workshop at JESS Arabian Ranches. \nThis is a FREE workshop with a limited number of places – make sure you secure your space here \n  \nWhat You’ll Learn \n♥️ Insights from successful case studies across Prep to Grade 8\n♥️ Tools and strategies to support neurodiverse students (e.g. Dyslexia\, ADHD\, dyscalculia)\n♥️ How the Jumpstarting™ process closes skills gaps in reading\, spelling\, and numeracy\n♥️ How to train and empower teachers to implement these strategies confidently in both mainstream and learning support \n  \nFind out how schools like Bay View High School in Karachi achieved:\n📈 30-70% improvements in spelling accuracy\n📈 Greater independence and task focus\n📈 Stronger student confidence and emotional regulation\n📈 Increased classroom engagement and reduced behavioural issues \n  \nWho Should Attend \n♥️ School Principals\n♥️ Heads of Inclusion / SEND Coordinators\n♥️ School Leadership Teams seeking real solutions for struggling students \n  \nYour Facilitator – Sara Haboubi\, MA \nSara is the developer of the Jumpstarting™ Word and Number Skills Process\, an international trainer\, and an expert in neuro-inclusive learning. With over 20 years’ experience working with educators\, parents\, and students\, Sara has helped transform classrooms by equipping teachers with visual\, brain-friendly strategies that work—especially for those who learn differently. \nFind out more about the Jumpstarting™ Programme here \n  \nDisclaimer \nThis training is organised by an external organisation and Louise Dawson Professional Development and Management Training cannot accept any liability or responsibility for the content or quality of the training. \nPayment is made directly with the external training partner and any conversation about delivery of the training\, payment\, refunds\, etc should be addressed directly to the external company. \nIf you have concerns about any content of the training then please let us know so we can raise them with the training provider on behalf of all delegates/attendees. \n 
URL:https://louisedawson.com/event/free-turning-struggle-into-success-the-jumpstarting-approach-in-action/
LOCATION:JESS Arabian Ranches\, Arabian Ranches\, Dubai\, United Arab Emirates
ATTACH;FMTTYPE=image/jpeg:https://louisedawson.com/wp-content/uploads/2025/05/250520-Jumpstarting-Free-Workshop-2-1024x512-1.jpg
END:VEVENT
END:VCALENDAR