BEGIN:VCALENDAR
VERSION:2.0
PRODID:-//Louise Dawson Professional and Management Development Training - ECPv6.15.20//NONSGML v1.0//EN
CALSCALE:GREGORIAN
METHOD:PUBLISH
X-WR-CALNAME:Louise Dawson Professional and Management Development Training
X-ORIGINAL-URL:https://louisedawson.com
X-WR-CALDESC:Events for Louise Dawson Professional and Management Development Training
REFRESH-INTERVAL;VALUE=DURATION:PT1H
X-Robots-Tag:noindex
X-PUBLISHED-TTL:PT1H
BEGIN:VTIMEZONE
TZID:Asia/Dubai
BEGIN:STANDARD
TZOFFSETFROM:+0400
TZOFFSETTO:+0400
TZNAME:+04
DTSTART:20240101T000000
END:STANDARD
END:VTIMEZONE
BEGIN:VEVENT
DTSTART;TZID=Asia/Dubai:20250509T133000
DTEND;TZID=Asia/Dubai:20250509T160000
DTSTAMP:20260425T205117
CREATED:20250502T065010Z
LAST-MODIFIED:20250505T073619Z
UID:10000088-1746797400-1746806400@louisedawson.com
SUMMARY:FREE! Decoding Education - A 2-Hour Dupoto Territory Mapping Workshop
DESCRIPTION:🌍 You’re Invited: The Future of Education Through Mapping – May 9th at NAS Dubai 🌍 \nWe’re excited to invite you to this unique and thought-provoking event. \nThis interactive afternoon will introduce you to Dupoto – a powerful framework co-developed with explorer and leadership specialist Anthony Willoughby\, using Territory Mapping to support personal development\, leadership\, and wellbeing across education and life. \n🗓️ Event Highlights 🗓️\n* Live Dupoto Mapping Workshop\n* Real stories of impact from local schools\n* Guest speakers and a “campfire” networking session\n* Refreshments and resources provided \nThis is a free event\, ideal for educators\, wellbeing leads\, school leaders\, and curriculum designers looking for new ways to embed skills\, purpose\, and student agency into their setting. \nWe’d love for you to join us. \n🔗 RSVP Here: https://forms.office.com/r/QFfpmSMT4T
URL:https://louisedawson.com/event/free-decoding-education-a-2-hour-dupoto-territory-mapping-workshop/
LOCATION:Nord Anglia School Dubai\, Al Barsha - Al Barsha 3\, Dubai\, United Arab Emirates
CATEGORIES:External Training
ATTACH;FMTTYPE=image/png:https://louisedawson.com/wp-content/uploads/2025/05/250509-decoding-education-workshop-at-NAS-branded.png
ORGANIZER;CN="Dupoto":MAILTO:elfyn@dupoto.com
END:VEVENT
END:VCALENDAR